Report for Chess-FIDE-1.22

Back
From: metabase:user:314402c4-2aae-11df-837a-5e0a49663a4f
Subject: PASS Chess-FIDE-1.22 v5.20.1 FreeBSD
Date: 2015-09-16T20:18:41Z

This distribution has been tested as part of the CPAN Testers
project, supporting the Perl programming language.  See
http://wiki.cpantesters.org/ for more information or email
questions to cpan-testers-discuss@perl.org


--
Dear Roman M. Parparov,

This is a computer-generated report for Chess-FIDE-1.22
on perl 5.20.1, created by CPAN-Reporter-1.2015.

Thank you for uploading your work to CPAN.  Congratulations!
All tests were successful.

Sections of this report:

    * Tester comments
    * Program output
    * Prerequisites
    * Environment and other context

------------------------------
TESTER COMMENTS
------------------------------

Additional comments from tester:

none provided

------------------------------
PROGRAM OUTPUT
------------------------------

Output from './Build test':

# Testing Chess::FIDE 1.22, Perl 5.020001, /usr/perl5.20.1p/bin/perl5.20.1
t/00-load.t ....... ok
No such method or property fideblah at t/01-Player.t line 17.
No such method or property fideblah at t/01-Player.t line 19.
t/01-Player.t ..... ok
Cannot download playerfile: Check your network connection
t/02-FIDE.t ....... ok
t/03-header.t ..... ok
t/04-name.t ....... ok
t/05-line.t ....... ok
t/06-list.t ....... ok
You will need about 1.5G of memory to run this test file.
t/07-parse.t ...... ok
t/08-search.t ..... ok
t/boilerplate.t ... ok
t/manifest.t ...... skipped: Author tests not required for installation
t/pod-coverage.t .. ok
t/pod.t ........... ok
All tests successful.

Test Summary Report
-------------------
t/boilerplate.t (Wstat: 0 Tests: 3 Failed: 0)
  TODO passed:   1-3
Files=13, Tests=213604, 315 wallclock secs (63.99 usr 32.45 sys + 163.80 cusr 28.58 csys = 288.82 CPU)
Result: PASS

------------------------------
PREREQUISITES
------------------------------

Prerequisite modules loaded:

requires:

    Module                   Need  Have    
    ------------------------ ----- --------
    Archive::Zip             1.32  1.50    
    Archive::Zip::MemberRead 1.32  1.50    
    IO::File                 1.14  1.16    
    IO::String               1.08  1.08    
    LWP::UserAgent           6.05  6.13    
    Net::Ping                2.39  2.43    
    Sys::MemInfo             0.91  0.91    

build_requires:

    Module                   Need  Have    
    ------------------------ ----- --------
    Module::Build            0.401 0.4214  
    Test::More               0     1.001014

configure_requires:

    Module                   Need  Have    
    ------------------------ ----- --------
    Module::Build            0.401 0.4214  


------------------------------
ENVIRONMENT AND OTHER CONTEXT
------------------------------

Environment variables:

    DBIC_NO_WARN_BAD_PERL = 1
    LC_ALL = de_DE.ISO8859-1
    PATH = /usr/local/bin:/usr/bin:/bin:/usr/local/sbin:/usr/sbin:/sbin:/home/cpansand/bin/freebsd10.0:/home/cpansand/bin/sh:/home/cpansand/bin:/usr/games:/home/cpansand/devel:/home/eserte/src/srezic-misc/scripts
    PERL5LIB = /home/cpansand/.cpan/build/2015091621/Sys-MemInfo-cE0OKX/blib/arch:/home/cpansand/.cpan/build/2015091621/Sys-MemInfo-cE0OKX/blib/lib:/home/cpansand/.cpan/build/2015091621/Linux-Info-0.1-IQV79u/blib/arch:/home/cpansand/.cpan/build/2015091621/Linux-Info-0.1-IQV79u/blib/lib:/home/cpansand/.cpan/build/2015091621/Devel-CheckOS-1.76-RfSgfX/blib/arch:/home/cpansand/.cpan/build/2015091621/Devel-CheckOS-1.76-RfSgfX/blib/lib
    PERL5OPT = 
    PERL5_CPANPLUS_IS_RUNNING = 49139
    PERL5_CPAN_IS_RUNNING = 49139
    PERL5_CPAN_IS_RUNNING_IN_RECURSION = 49103,49139
    PERLDOC = -MPod::Perldoc::ToTextOverstrike
    PERL_BATCH = yes
    PERL_CANARY_STABILITY_NOPROMPT = 1
    PERL_CPAN_REPORTER_CONFIG = /var/tmp/cpansmoker-1023/2015091621/cpanreporter_000_config.ini
    PERL_EXTUTILS_AUTOINSTALL = --defaultdeps
    SHELL = /usr/local/bin/zsh
    TERM = screen
    TMPDIR = /var/tmp/cpansmoker-1023/2015091621

Perl special variables (and OS-specific diagnostics, for MSWin32):

    $^X = /usr/perl5.20.1p/bin/perl5.20.1
    $UID/$EUID = 1023 / 1023
    $GID = 1023 1023
    $EGID = 1023 1023

Perl module toolchain versions installed:

    Module              Have    
    ------------------- --------
    CPAN                2.10    
    CPAN::Meta          2.150005
    Cwd                 3.48    
    ExtUtils::CBuilder  0.280217
    ExtUtils::Command   7.10    
    ExtUtils::Install   1.67    
    ExtUtils::MakeMaker 7.10    
    ExtUtils::Manifest  1.70    
    ExtUtils::ParseXS   3.24    
    File::Spec          3.48    
    JSON                2.90    
    JSON::PP            2.27203 
    Module::Build       0.4214  
    Module::Signature   0.79    
    Parse::CPAN::Meta   1.4414  
    Test::Harness       3.35    
    Test::More          1.001014
    YAML                1.15    
    YAML::Syck          1.29    
    version             0.9912  


--

Summary of my perl5 (revision 5 version 20 subversion 1) configuration:
   
  Platform:
    osname=freebsd, osvers=10.1-release, archname=amd64-freebsd
    uname='freebsd cvrsnica-freebsd-101.herceg.de 10.1-release freebsd 10.1-release #0 r274401: tue nov 11 21:02:49 utc 2014 root@releng1.nyi.freebsd.org:usrobjusrsrcsysgeneric amd64 '
    config_args='-ds -e -Dprefix=/usr/perl5.20.1p'
    hint=recommended, useposix=true, d_sigaction=define
    useithreads=undef, usemultiplicity=undef
    use64bitint=define, use64bitall=define, uselongdouble=undef
    usemymalloc=n, bincompat5005=undef
  Compiler:
    cc='cc', ccflags ='-DHAS_FPSETMASK -DHAS_FLOATINGPOINT_H -fno-strict-aliasing -pipe -fstack-protector -I/usr/local/include',
    optimize='-O',
    cppflags='-DHAS_FPSETMASK -DHAS_FLOATINGPOINT_H -fno-strict-aliasing -pipe -fstack-protector -I/usr/local/include'
    ccversion='', gccversion='4.2.1 Compatible FreeBSD Clang 3.4.1 (tags/RELEASE_34/dot1-final 208032)', gccosandvers=''
    intsize=4, longsize=8, ptrsize=8, doublesize=8, byteorder=12345678
    d_longlong=define, longlongsize=8, d_longdbl=define, longdblsize=16
    ivtype='long', ivsize=8, nvtype='double', nvsize=8, Off_t='off_t', lseeksize=8
    alignbytes=8, prototype=define
  Linker and Libraries:
    ld='cc', ldflags ='-pthread -Wl,-E  -fstack-protector -L/usr/local/lib'
    libpth=/usr/lib /usr/local/lib /usr/include/clang/3.4.1 /usr/lib
    libs=-lm -lcrypt -lutil -lc
    perllibs=-lm -lcrypt -lutil -lc
    libc=, so=so, useshrplib=false, libperl=libperl.a
    gnulibc_version=''
  Dynamic Linking:
    dlsrc=dl_dlopen.xs, dlext=so, d_dlsymun=undef, ccdlflags=' '
    cccdlflags='-DPIC -fPIC', lddlflags='-shared  -L/usr/local/lib -fstack-protector'


Characteristics of this binary (from libperl): 
  Compile-time options: HAS_TIMES PERLIO_LAYERS PERL_DONT_CREATE_GVSV
                        PERL_HASH_FUNC_ONE_AT_A_TIME_HARD PERL_MALLOC_WRAP
                        PERL_NEW_COPY_ON_WRITE PERL_PRESERVE_IVUV
                        USE_64_BIT_ALL USE_64_BIT_INT USE_LARGE_FILES
                        USE_LOCALE USE_LOCALE_COLLATE USE_LOCALE_CTYPE
                        USE_LOCALE_NUMERIC USE_PERLIO USE_PERL_ATOF
  Built under freebsd
  Compiled at Jan 29 2015 08:45:50
  %ENV:
    PERL5LIB="/home/cpansand/.cpan/build/2015091621/Sys-MemInfo-cE0OKX/blib/arch:/home/cpansand/.cpan/build/2015091621/Sys-MemInfo-cE0OKX/blib/lib:/home/cpansand/.cpan/build/2015091621/Linux-Info-0.1-IQV79u/blib/arch:/home/cpansand/.cpan/build/2015091621/Linux-Info-0.1-IQV79u/blib/lib:/home/cpansand/.cpan/build/2015091621/Devel-CheckOS-1.76-RfSgfX/blib/arch:/home/cpansand/.cpan/build/2015091621/Devel-CheckOS-1.76-RfSgfX/blib/lib"
    PERL5OPT=""
    PERL5_CPANPLUS_IS_RUNNING="49139"
    PERL5_CPAN_IS_RUNNING="49139"
    PERL5_CPAN_IS_RUNNING_IN_RECURSION="49103,49139"
    PERLDOC="-MPod::Perldoc::ToTextOverstrike"
    PERL_BATCH="yes"
    PERL_CANARY_STABILITY_NOPROMPT="1"
    PERL_CPAN_REPORTER_CONFIG="/var/tmp/cpansmoker-1023/2015091621/cpanreporter_000_config.ini"
    PERL_EXTUTILS_AUTOINSTALL="--defaultdeps"
  @INC:
    /home/cpansand/.cpan/build/2015091621/Sys-MemInfo-cE0OKX/blib/arch
    /home/cpansand/.cpan/build/2015091621/Sys-MemInfo-cE0OKX/blib/lib
    /home/cpansand/.cpan/build/2015091621/Linux-Info-0.1-IQV79u/blib/arch
    /home/cpansand/.cpan/build/2015091621/Linux-Info-0.1-IQV79u/blib/lib
    /home/cpansand/.cpan/build/2015091621/Devel-CheckOS-1.76-RfSgfX/blib/arch
    /home/cpansand/.cpan/build/2015091621/Devel-CheckOS-1.76-RfSgfX/blib/lib
    /usr/perl5.20.1p/lib/site_perl/5.20.1/amd64-freebsd
    /usr/perl5.20.1p/lib/site_perl/5.20.1
    /usr/perl5.20.1p/lib/5.20.1/amd64-freebsd
    /usr/perl5.20.1p/lib/5.20.1
    .