Back
From: metabase:user:16b460a4-2bf5-11e0-92a5-a53ece435e2c
Subject: PASS ExtUtils-CChecker-0.06 v5.10.1 FreeBSD
Date: 2011-01-30T00:23:12Z
This distribution has been tested as part of the CPAN Testers
project, supporting the Perl programming language. See
http://wiki.cpantesters.org/ for more information or email
questions to cpan-testers-discuss@perl.org
--
Dear Paul Evans,
This is a computer-generated report for ExtUtils-CChecker-0.06
on perl 5.10.1, created by CPAN-Reporter-1.1902.
Thank you for uploading your work to CPAN. Congratulations!
All tests were successful.
Sections of this report:
* Tester comments
* Program output
* Prerequisites
* Environment and other context
------------------------------
TESTER COMMENTS
------------------------------
Additional comments from tester:
this report is from an automated smoke testing program
and was not reviewed by a human for accuracy
------------------------------
PROGRAM OUTPUT
------------------------------
Output from './Build test':
t/00use.t ........... ok
test-1.c:1: error: expected '=', ',', ';', 'asm' or '__attribute__' before 'bar'
t/01run.t ........... ok
test-1.c:1: error: expected '=', ',', ';', 'asm' or '__attribute__' before 'bar'
t/02assert.t ........ ok
t/03accessors.t ..... ok
t/04module_build.t .. ok
t/99pod.t ........... ok
All tests successful.
Files=6, Tests=20, 1 wallclock secs ( 0.05 usr 0.01 sys + 0.55 cusr 0.14 csys = 0.75 CPU)
Result: PASS
------------------------------
PREREQUISITES
------------------------------
Prerequisite modules loaded:
requires:
Module Need Have
------------------ ---- ------
ExtUtils::CBuilder 0 0.2802
build_requires:
Module Need Have
------------------ ---- ------
Module::Build 0 0.3607
Test::Exception 0 0.31
Test::More 0 0.96
configure_requires:
Module Need Have
------------------ ---- ------
Module::Build 0.36 0.3607
------------------------------
ENVIRONMENT AND OTHER CONTEXT
------------------------------
Environment variables:
AUTOMATED_TESTING = 1
LANGUAGE =
PATH = /usr/local/bin:/opt/local/bin:/opt/local/sbin:/usr/X11R6/bin:/usr/local/bin:/opt/local/bin:/opt/local/sbin:/usr/X11R6/bin:/usr/local/kde4/bin:/sbin:/bin:/usr/sbin:/usr/bin:/usr/games:/usr/local/sbin:/usr/local/bin:/home/steve/bin
PERL5LIB =
PERL5OPT =
PERL5_CPANPLUS_IS_RUNNING = 40287
PERL5_CPAN_IS_RUNNING = 40287
PERL5_CPAN_IS_RUNNING_IN_RECURSION = 14016,40287
PERL_CR_SMOKER_CURRENT = Socket-GetAddrInfo-0.20
PERL_EXTUTILS_AUTOINSTALL = --defaultdeps
PERL_MM_USE_DEFAULT = 1
SHELL = /usr/local/bin/zsh
TERM = screen
Perl special variables (and OS-specific diagnostics, for MSWin32):
$^X = /usr/local/bin/perl5.10.1
$UID/$EUID = 1001 / 1001
$GID = 1001 1001 0 5 557 920 1006 1007
$EGID = 1001 1001 0 5 557 920 1006 1007
Perl module toolchain versions installed:
Module Have
------------------- ------
CPAN 1.9402
Cwd 3.33
ExtUtils::CBuilder 0.2802
ExtUtils::Command 1.16
ExtUtils::Install 1.52
ExtUtils::MakeMaker 0
ExtUtils::Manifest 1.56
ExtUtils::ParseXS 2.2203
File::Spec 3.33
Module::Build 0.3607
Module::Signature 0.66
Test::Harness 3.17
Test::More 0.96
YAML 0.72
YAML::Syck 1.17
version 0.88
--
Summary of my perl5 (revision 5 version 10 subversion 1) configuration:
Platform:
osname=freebsd, osvers=8.2-prerelease, archname=amd64-freebsd
uname='freebsd tinderbox.host 8.2-prerelease freebsd 8.2-prerelease #0: mon dec 20 00:59:57 est 2010 root@tinderbox.host:usrsrcsysmagickernelpath amd64 '
config_args='-sde -Dprefix=/usr/local -Darchlib=/usr/local/lib/perl5/5.10.1/mach -Dprivlib=/usr/local/lib/perl5/5.10.1 -Dman3dir=/usr/local/lib/perl5/5.10.1/perl/man/man3 -Dman1dir=/usr/local/man/man1 -Dsitearch=/usr/local/lib/perl5/site_perl/5.10.1/mach -Dsitelib=/usr/local/lib/perl5/site_perl/5.10.1 -Dscriptdir=/usr/local/bin -Dsiteman3dir=/usr/local/lib/perl5/5.10.1/man/man3 -Dsiteman1dir=/usr/local/man/man1 -Ui_malloc -Ui_iconv -Uinstallusrbinperl -Dcc=cc -Duseshrplib -Dinc_version_list=none -Dccflags=-DAPPLLIB_EXP="/usr/local/lib/perl5/5.10.1/BSDPAN" -Doptimize=-O2 -pipe -fno-strict-aliasing -Ud_dosuid -Ui_gdbm -Dusethreads=n -Dusemymalloc=n -Duse64bitint'
hint=recommended, useposix=true, d_sigaction=define
useithreads=undef, usemultiplicity=undef
useperlio=define, d_sfio=undef, uselargefiles=define, usesocks=undef
use64bitint=define, use64bitall=define, uselongdouble=undef
usemymalloc=n, bincompat5005=undef
Compiler:
cc='cc', ccflags ='-DAPPLLIB_EXP="/usr/local/lib/perl5/5.10.1/BSDPAN" -DHAS_FPSETMASK -DHAS_FLOATINGPOINT_H -fno-strict-aliasing -pipe -fstack-protector -I/usr/local/include',
optimize='-O2 -pipe -fno-strict-aliasing',
cppflags='-DAPPLLIB_EXP="/usr/local/lib/perl5/5.10.1/BSDPAN" -DHAS_FPSETMASK -DHAS_FLOATINGPOINT_H -fno-strict-aliasing -pipe -fstack-protector -I/usr/local/include'
ccversion='', gccversion='4.2.1 20070719 [FreeBSD]', gccosandvers=''
intsize=4, longsize=8, ptrsize=8, doublesize=8, byteorder=12345678
d_longlong=define, longlongsize=8, d_longdbl=define, longdblsize=16
ivtype='long', ivsize=8, nvtype='double', nvsize=8, Off_t='off_t', lseeksize=8
alignbytes=8, prototype=define
Linker and Libraries:
ld='cc', ldflags =' -Wl,-E -fstack-protector -L/usr/local/lib'
libpth=/usr/lib /usr/local/lib
libs=-lm -lcrypt -lutil
perllibs=-lm -lcrypt -lutil
libc=, so=so, useshrplib=true, libperl=libperl.so
gnulibc_version=''
Dynamic Linking:
dlsrc=dl_dlopen.xs, dlext=so, d_dlsymun=undef, ccdlflags=' -Wl,-R/usr/local/lib/perl5/5.10.1/mach/CORE'
cccdlflags='-DPIC -fPIC', lddlflags='-shared -L/usr/local/lib -fstack-protector'
Characteristics of this binary (from libperl):
Compile-time options: PERL_DONT_CREATE_GVSV PERL_MALLOC_WRAP USE_64_BIT_ALL
USE_64_BIT_INT USE_LARGE_FILES USE_PERLIO
Built under freebsd
Compiled at Dec 20 2010 06:00:50
%ENV:
PERL5LIB=""
PERL5OPT=""
PERL5_CPANPLUS_IS_RUNNING="40287"
PERL5_CPAN_IS_RUNNING="40287"
PERL5_CPAN_IS_RUNNING_IN_RECURSION="14016,40287"
PERL_CR_SMOKER_CURRENT="Socket-GetAddrInfo-0.20"
PERL_EXTUTILS_AUTOINSTALL="--defaultdeps"
PERL_MM_USE_DEFAULT="1"
@INC:
/usr/local/lib/perl5/5.10.1/BSDPAN
/usr/local/lib/perl5/site_perl/5.10.1/mach
/usr/local/lib/perl5/site_perl/5.10.1
/usr/local/lib/perl5/5.10.1/mach
/usr/local/lib/perl5/5.10.1
.