Report for MooseX-Types-Structured-0.30

Back
From: metabase:user:fcf99560-6bf4-1014-86b3-1cf189224fdf
Subject: PASS MooseX-Types-Structured-0.30 v5.10.0 Mac OS X
Date: 2015-01-13T09:47:01Z

This distribution has been tested as part of the CPAN Testers
project, supporting the Perl programming language.  See
http://wiki.cpantesters.org/ for more information or email
questions to cpan-testers-discuss@perl.org


--
Dear Karen Etheridge,

This is a computer-generated report for MooseX-Types-Structured-0.30
on perl 5.10.0, created by CPAN-Reporter-1.2011.

Thank you for uploading your work to CPAN.  Congratulations!
All tests were successful.

Sections of this report:

    * Tester comments
    * Program output
    * Prerequisites
    * Environment and other context

------------------------------
TESTER COMMENTS
------------------------------

Additional comments from tester:

none provided

------------------------------
PROGRAM OUTPUT
------------------------------

Output from './Build test':

t/00-load.t .................... ok
# 
# Versions for all modules listed in MYMETA.json (including optional ones):
#    Version Module                                      
#   -------- --------------------------------------------
#   2.143240 CPAN::Meta                                  
#      2.127 CPAN::Meta::Requirements                    
#      2.154 Data::Dumper                                
#       1.12 DateTime                                    
#       0.17 Devel::PartialDump                          
#       7.04 ExtUtils::MakeMaker                         
#       3.47 File::Spec::Functions                       
#       1.41 List::Util                                  
#      0.039 Module::Build::Tiny                         
#     2.1403 Moose                                       
#     2.1403 Moose::Meta::TypeCoercion                   
#     2.1403 Moose::Meta::TypeConstraint                 
#     2.1403 Moose::Meta::TypeConstraint::Parameterizable
#     2.1403 Moose::Util::TypeConstraints                
#       0.45 MooseX::Types                               
#       0.10 MooseX::Types::DateTime                     
#       0.45 MooseX::Types::Moose                        
#       1.41 Scalar::Util                                
#      0.987 Sub::Exporter                               
#      0.014 Test::Fatal                                 
#   1.001009 Test::More                                  
#       1.06 overload                                    
#       1.04 strict                                      
#       1.06 warnings                                    
t/00-report-prereqs.t .......... ok
t/01-basic.t ................... ok
t/02-tuple.t ................... ok
t/03-dict.t .................... ok
t/04-combined.t ................ ok
t/04-map.t ..................... ok
t/05-advanced.t ................ ok
t/06-api.t ..................... ok
t/07-coerce.t .................. ok
t/08-examples.t ................ ok
t/09-optional.t ................ ok
t/10-recursion.t ............... ok
t/11-overflow.t ................ ok
t/12-error.t ................... ok
t/13-deeper_error.t ............ ok
t/bug-incorrect-message.t ...... ok
t/bug-is-subtype.t ............. ok
t/bug-mixed-stringy.t .......... ok
t/bug-optional.t ............... ok
t/regressions/01-is_type_of.t .. ok
All tests successful.
Files=21, Tests=357, 10 wallclock secs ( 0.15 usr  0.08 sys +  9.66 cusr  0.62 csys = 10.51 CPU)
Result: PASS

------------------------------
PREREQUISITES
------------------------------

Prerequisite modules loaded:

requires:

    Module                                       Need  Have    
    -------------------------------------------- ----- --------
    Devel::PartialDump                           0.13  0.17    
    Moose                                        1.08  2.1403  
    Moose::Meta::TypeCoercion                    0     2.1403  
    Moose::Meta::TypeConstraint                  0     2.1403  
    Moose::Meta::TypeConstraint::Parameterizable 0     2.1403  
    Moose::Util::TypeConstraints                 1.06  2.1403  
    MooseX::Types                                0.22  0.45    
    overload                                     0     1.06    
    perl                                         5.008 5.010000
    Scalar::Util                                 0     1.41    
    Sub::Exporter                                0.982 0.987   

build_requires:

    Module                                       Need  Have    
    -------------------------------------------- ----- --------
    Data::Dumper                                 0     2.154   
    DateTime                                     0     1.12    
    ExtUtils::MakeMaker                          0     7.04    
    File::Spec::Functions                        0     3.47    
    List::Util                                   0     1.41    
    MooseX::Types::DateTime                      0     0.10    
    MooseX::Types::Moose                         0     0.45    
    strict                                       0     1.04    
    Test::Fatal                                  0     0.014   
    Test::More                                   0.94  1.001009
    warnings                                     0     1.06    

configure_requires:

    Module                                       Need  Have    
    -------------------------------------------- ----- --------
    ExtUtils::MakeMaker                          6.30  7.04    
    Module::Build::Tiny                          0.030 0.039   


------------------------------
ENVIRONMENT AND OTHER CONTEXT
------------------------------

Environment variables:

    LANG = en_US.UTF-8
    PATH = /Users/mb/.plenv/versions/5.10.0/bin:/usr/local/Cellar/plenv/2.1.1/libexec:/Users/mb/.plenv/plugins/perl-build/bin:/opt/local/bin:/opt/local/sbin:/Users/mb/.plenv/shims:/usr/local/bin:/usr/bin:/bin:/usr/sbin:/sbin
    PERL5LIB = 
    PERL5OPT = 
    PERL5_CPANPLUS_IS_RUNNING = 2173
    PERL5_CPAN_IS_RUNNING = 2173
    SHELL = /bin/bash
    TERM = xterm
    TMPDIR = /var/folders/2v/yzc051yn297_y7xtqj1wh13r0000gr/T/

Perl special variables (and OS-specific diagnostics, for MSWin32):

    $^X = /Users/mb/.plenv/versions/5.10.0/bin/perl5.10.0
    $UID/$EUID = 504 / 504
    $GID = 20 20 405 12 61 79 80 81 98 402 403 33 100 204 398 399
    $EGID = 20 20 405 12 61 79 80 81 98 402 403 33 100 204 398 399

Perl module toolchain versions installed:

    Module              Have    
    ------------------- --------
    CPAN                2.05    
    CPAN::Meta          2.143240
    Cwd                 3.47    
    ExtUtils::CBuilder  0.280220
    ExtUtils::Command   1.16    
    ExtUtils::Install   2.04    
    ExtUtils::MakeMaker 7.04    
    ExtUtils::Manifest  1.69    
    ExtUtils::ParseXS   3.24    
    File::Spec          3.47    
    JSON                2.90    
    JSON::PP            2.27203 
    Module::Build       0.4210  
    Module::Signature   n/a     
    Parse::CPAN::Meta   1.4414  
    Test::Harness       3.34    
    Test::More          1.001009
    YAML                1.13    
    YAML::Syck          n/a     
    version             0.9909  


--

Summary of my perl5 (revision 5 version 10 subversion 0) configuration:
  Platform:
    osname=darwin, osvers=14.0.0, archname=darwin-2level
    uname='darwin twisted.home 14.0.0 darwin kernel version 14.0.0: fri sep 19 00:26:44 pdt 2014; root:xnu-2782.1.97~2release_x86_64 x86_64 '
    config_args='-Dprefix=/Users/mb/.plenv/versions/5.10.0 -de -Dusedevel -A'eval:scriptdir=/Users/mb/.plenv/versions/5.10.0/bin''
    hint=recommended, useposix=true, d_sigaction=define
    useithreads=undef, usemultiplicity=undef
    useperlio=define, d_sfio=undef, uselargefiles=define, usesocks=undef
    use64bitint=define, use64bitall=define, uselongdouble=undef
    usemymalloc=n, bincompat5005=undef
  Compiler:
    cc='cc', ccflags ='-fno-common -DPERL_DARWIN -fno-strict-aliasing -pipe -I/usr/local/include -I/opt/local/include',
    optimize='-O3',
    cppflags='-fno-common -DPERL_DARWIN -fno-strict-aliasing -pipe -I/usr/local/include -I/opt/local/include'
    ccversion='', gccversion='4.2.1 Compatible Apple LLVM 6.0 (clang-600.0.56)', gccosandvers=''
    intsize=4, longsize=8, ptrsize=8, doublesize=8, byteorder=12345678
    d_longlong=define, longlongsize=8, d_longdbl=define, longdblsize=16
    ivtype='long', ivsize=8, nvtype='double', nvsize=8, Off_t='off_t', lseeksize=8
    alignbytes=8, prototype=define
  Linker and Libraries:
    ld='env MACOSX_DEPLOYMENT_TARGET=10.3 cc', ldflags =' -L/usr/local/lib -L/opt/local/lib'
    libpth=/usr/local/lib /opt/local/lib /usr/lib
    libs=-lgdbm -ldbm -ldl -lm -lutil -lc
    perllibs=-ldl -lm -lutil -lc
    libc=, so=dylib, useshrplib=false, libperl=libperl.a
    gnulibc_version=''
  Dynamic Linking:
    dlsrc=dl_dlopen.xs, dlext=bundle, d_dlsymun=undef, ccdlflags=' '
    cccdlflags=' ', lddlflags=' -bundle -undefined dynamic_lookup -L/usr/local/lib -L/opt/local/lib'


Characteristics of this binary (from libperl): 
  Compile-time options: PERL_DONT_CREATE_GVSV PERL_MALLOC_WRAP USE_64_BIT_ALL
                        USE_64_BIT_INT USE_LARGE_FILES USE_PERLIO
  Built under darwin
  Compiled at Dec 17 2014 08:07:38
  %ENV:
    PERL5LIB=""
    PERL5OPT=""
    PERL5_CPANPLUS_IS_RUNNING="2173"
    PERL5_CPAN_IS_RUNNING="2173"
  @INC:
    /Users/mb/.plenv/versions/5.10.0/lib/perl5/5.10.0/darwin-2level
    /Users/mb/.plenv/versions/5.10.0/lib/perl5/5.10.0
    /Users/mb/.plenv/versions/5.10.0/lib/perl5/site_perl/5.10.0/darwin-2level
    /Users/mb/.plenv/versions/5.10.0/lib/perl5/site_perl/5.10.0
    .