Dist-Zilla-Plugin-Test-Legal v0.03 Perl 5 v5.10.1 amd64-freebsd

Status
Pass
From
Slaven Rezić (SREZIC)
Dist
Dist-Zilla-Plugin-Test-Legal v0.03
Platform
Perl 5 v5.10.1 amd64-freebsd
Date
2018-03-01 05:12:23
ID
1fdd7446-1d0f-11e8-b1af-c6ebaa55ab1e
This distribution has been tested as part of the CPAN Testers
project, supporting the Perl programming language.  See
http://wiki.cpantesters.org/ for more information or email
questions to cpan-testers-discuss@perl.org


--
Dear Alan Young,

This is a computer-generated report for Dist-Zilla-Plugin-Test-Legal-0.03
on perl 5.10.1, created by CPAN-Reporter-1.2018.

Thank you for uploading your work to CPAN.  Congratulations!
All tests were successful.

Sections of this report:

    * Tester comments
    * Program output
    * Prerequisites
    * Environment and other context

------------------------------
TESTER COMMENTS
------------------------------

Additional comments from tester:

none provided

------------------------------
PROGRAM OUTPUT
------------------------------

Output from './Build test':

t/00-check-deps.t ................................... ok
t/00-compile.t ...................................... ok
t/00-compile/lib_Dist_Zilla_Plugin_Test_Legal_pm.t .. ok
t/00-load.t ......................................... ok
# 
# Versions for all modules listed in MYMETA.json (including optional ones):
# 
# === Configure Requires ===
# 
#     Module                   Want   Have
#     ---------------------- ------ ------
#     Module::Build          0.4208 0.4224
#     Module::Build::Version    any   0.87
# 
# === Configure Suggests ===
# 
#     Module      Want    Have
#     -------- ------- -------
#     JSON::PP 2.27300 2.97001
# 
# === Build Requires ===
# 
#     Module          Want   Have
#     ------------- ------ ------
#     Module::Build 0.4208 0.4224
# 
# === Test Requires ===
# 
#     Module                   Want     Have
#     ----------------------- ----- --------
#     Carp                      any     1.38
#     ExtUtils::MakeMaker       any     7.24
#     File::Spec                any     3.62
#     IO::Handle                any     1.28
#     IPC::Open3                any     1.04
#     Scalar::Util              any     1.50
#     Test::CPAN::Meta::JSON    any     0.16
#     Test::CheckDeps         0.010    0.010
#     Test::CheckManifest       any     1.32
#     Test::ConsistentVersion   any    0.3.0
#     Test::DistManifest        any    1.014
#     Test::HasVersion          any    0.012
#     Test::MinimumVersion      any 0.101082
#     Test::More               0.94 1.302125
#     Test::NoSmartComments     any    0.005
#     Test::Perl::Critic        any     1.03
#     Test::Pod::Content        any    0.0.6
#     Test::UseAllModules       any     0.17
#     Test::Version             any     2.07
# 
# === Test Recommends ===
# 
#     Module         Want     Have
#     ---------- -------- --------
#     CPAN::Meta 2.120900 2.150010
# 
# === Runtime Requires ===
# 
#     Module                           Want   Have
#     -------------------------------- ---- ------
#     Dist::Zilla::Plugin::InlineFiles  any  5.047
#     Moose                             any 2.2009
#     namespace::autoclean              any   0.28
#     strict                            any   1.04
#     warnings                          any   1.06
# 
t/00-report-prereqs.t ............................... ok
# Testing with Perl 5.010001, /usr/perl5.10.1/bin/perl
#     Carp version is 1.38
#     Dist::Zilla::Plugin::InlineFiles version is 5.047
#     ExtUtils::MakeMaker version is 7.24
#     File::Spec version is 3.62
#     IO::Handle version is 1.28
#     IPC::Open3 version is 1.04
#     Module::Build version is 0.4224
#     Module::Build::Version version is 0.87
#     Moose version is 2.2009
#     Scalar::Util version is 1.5
#     Test::CPAN::Meta::JSON version is 0.16
#     Test::CheckDeps version is 0.010
#     Test::CheckManifest version is 1.32
#     Test::ConsistentVersion version is 0.3.0
#     Test::DistManifest version is 1.014
#     Test::HasVersion version is 0.012
#     Test::MinimumVersion version is 0.101082
#     Test::More version is 1.302125
#     Test::NoSmartComments version is 0.005
#     Test::Perl::Critic version is 1.03
#     Test::Pod::Content version is 0.0.6
#     Test::UseAllModules version is 0.17
#     Test::Version version is 2.07
#     namespace::autoclean version is 0.28
#     strict version is 1.04
#     warnings version is 1.06
t/000-report-versions.t ............................. ok
All tests successful.
Files=6, Tests=58,  2 wallclock secs ( 0.01 usr  0.07 sys +  1.59 cusr  0.20 csys =  1.86 CPU)
Result: PASS

------------------------------
PREREQUISITES
------------------------------

Prerequisite modules loaded:

requires:

    Module                           Need   Have    
    -------------------------------- ------ --------
    Dist::Zilla::Plugin::InlineFiles 0      5.047   
    Moose                            0      2.2009  
    namespace::autoclean             0      0.28    
    perl                             5.006  5.010001
    strict                           0      1.04    
    warnings                         0      1.06    

build_requires:

    Module                           Need   Have    
    -------------------------------- ------ --------
    Carp                             0      1.38    
    ExtUtils::MakeMaker              0      7.24    
    File::Spec                       0      3.62    
    IO::Handle                       0      1.28    
    IPC::Open3                       0      1.04    
    Module::Build                    0.4208 0.4224  
    Scalar::Util                     0      1.50    
    Test::CheckDeps                  0.010  0.010   
    Test::CheckManifest              0      1.32    
    Test::ConsistentVersion          0      0.3.0   
    Test::CPAN::Meta::JSON           0      0.16    
    Test::DistManifest               0      1.014   
    Test::HasVersion                 0      0.012   
    Test::MinimumVersion             0      0.101082
    Test::More                       0.94   1.302125
    Test::NoSmartComments            0      0.005   
    Test::Perl::Critic               0      1.03    
    Test::Pod::Content               0      0.0.6   
    Test::UseAllModules              0      0.17    
    Test::Version                    0      2.07    

configure_requires:

    Module                           Need   Have    
    -------------------------------- ------ --------
    Module::Build                    0.4208 0.4224  
    Module::Build::Version           0      0.87    


------------------------------
ENVIRONMENT AND OTHER CONTEXT
------------------------------

Environment variables:

    LC_ALL = de_DE.ISO8859-1
    PATH = /usr/local/bin:/usr/bin:/bin:/usr/local/sbin:/usr/sbin:/sbin:/home/cpansand/bin/freebsd9.3:/home/cpansand/bin/sh:/home/cpansand/bin:/usr/games:/home/cpansand/devel:/usr/home/eserte/src/srezic-misc/scripts
    PERL5LIB = 
    PERL5OPT = 
    PERL5_CPANPLUS_IS_RUNNING = 66655
    PERL5_CPAN_IS_RUNNING = 66655
    PERL5_CPAN_IS_RUNNING_IN_RECURSION = 66093,66655
    PERLDOC = -MPod::Perldoc::ToTextOverstrike
    PERL_BATCH = yes
    PERL_CANARY_STABILITY_NOPROMPT = 1
    PERL_CPAN_REPORTER_CONFIG = /var/tmp/cpansmoker-1023/2018030106/cpanreporter_000_config.ini
    PERL_EXTUTILS_AUTOINSTALL = --defaultdeps
    SHELL = /usr/local/bin/zsh
    TERM = screen
    TMPDIR = /var/tmp/cpansmoker-1023/2018030106

Perl special variables (and OS-specific diagnostics, for MSWin32):

    $^X = /usr/perl5.10.1/bin/perl
    $UID/$EUID = 1023 / 1023
    $GID = 1023 1023
    $EGID = 1023 1023

Perl module toolchain versions installed:

    Module              Have    
    ------------------- --------
    CPAN                2.16    
    CPAN::Meta          2.150010
    Cwd                 3.62    
    ExtUtils::CBuilder  0.280230
    ExtUtils::Command   7.24    
    ExtUtils::Install   2.12    
    ExtUtils::MakeMaker 7.24    
    ExtUtils::Manifest  1.70    
    ExtUtils::ParseXS   3.35    
    File::Spec          3.62    
    JSON                2.97001 
    JSON::PP            2.97001 
    Module::Build       0.4224  
    Module::Signature   0.81    
    Parse::CPAN::Meta   2.150010
    Test::Harness       3.41    
    Test::More          1.302125
    YAML                1.23    
    YAML::Syck          1.30    
    version             0.9918  


--

Summary of my perl5 (revision 5 version 10 subversion 1) configuration:
   
  Platform:
    osname=freebsd, osvers=9.2-release-p4, archname=amd64-freebsd
    uname='freebsd cvrsnica-freebsd-92 9.2-release-p4 freebsd 9.2-release-p4 #0: tue apr 8 18:08:22 utc 2014 root@amd64-builder.daemonology.net:usrobjusrsrcsysgeneric amd64 '
    config_args='-ds -e -Dprefix=/usr/perl5.10.1'
    hint=recommended, useposix=true, d_sigaction=define
    useithreads=undef, usemultiplicity=undef
    useperlio=define, d_sfio=undef, uselargefiles=define, usesocks=undef
    use64bitint=define, use64bitall=define, uselongdouble=undef
    usemymalloc=n, bincompat5005=undef
  Compiler:
    cc='cc', ccflags ='-DHAS_FPSETMASK -DHAS_FLOATINGPOINT_H -fno-strict-aliasing -pipe -fstack-protector -I/usr/local/include',
    optimize='-O',
    cppflags='-DHAS_FPSETMASK -DHAS_FLOATINGPOINT_H -fno-strict-aliasing -pipe -fstack-protector -I/usr/local/include'
    ccversion='', gccversion='4.2.1 20070831 patched [FreeBSD]', gccosandvers=''
    intsize=4, longsize=8, ptrsize=8, doublesize=8, byteorder=12345678
    d_longlong=define, longlongsize=8, d_longdbl=define, longdblsize=16
    ivtype='long', ivsize=8, nvtype='double', nvsize=8, Off_t='off_t', lseeksize=8
    alignbytes=8, prototype=define
  Linker and Libraries:
    ld='cc', ldflags ='-Wl,-E  -fstack-protector -L/usr/local/lib'
    libpth=/usr/lib /usr/local/lib
    libs=-lgdbm -lm -lcrypt -lutil -lc
    perllibs=-lm -lcrypt -lutil -lc
    libc=, so=so, useshrplib=false, libperl=libperl.a
    gnulibc_version=''
  Dynamic Linking:
    dlsrc=dl_dlopen.xs, dlext=so, d_dlsymun=undef, ccdlflags=' '
    cccdlflags='-DPIC -fPIC', lddlflags='-shared  -L/usr/local/lib -fstack-protector'


Characteristics of this binary (from libperl): 
  Compile-time options: PERL_DONT_CREATE_GVSV PERL_MALLOC_WRAP USE_64_BIT_ALL
                        USE_64_BIT_INT USE_LARGE_FILES USE_PERLIO
  Built under freebsd
  Compiled at May 15 2014 23:30:26
  %ENV:
    PERL5LIB=""
    PERL5OPT=""
    PERL5_CPANPLUS_IS_RUNNING="66655"
    PERL5_CPAN_IS_RUNNING="66655"
    PERL5_CPAN_IS_RUNNING_IN_RECURSION="66093,66655"
    PERLDOC="-MPod::Perldoc::ToTextOverstrike"
    PERL_BATCH="yes"
    PERL_CANARY_STABILITY_NOPROMPT="1"
    PERL_CPAN_REPORTER_CONFIG="/var/tmp/cpansmoker-1023/2018030106/cpanreporter_000_config.ini"
    PERL_EXTUTILS_AUTOINSTALL="--defaultdeps"
  @INC:
    /usr/perl5.10.1/lib/5.10.1/amd64-freebsd
    /usr/perl5.10.1/lib/5.10.1
    /usr/perl5.10.1/lib/site_perl/5.10.1/amd64-freebsd
    /usr/perl5.10.1/lib/site_perl/5.10.1
    .