Report for Apache-ASP-2.61

Back
From: metabase:user:e3434da8-b236-11df-85ca-0247c6d74bde
Subject: PASS Apache-ASP-2.61 v5.10.1 GNU/Linux
Date: 2010-12-09T11:33:20Z

This distribution has been tested as part of the CPAN Testers
project, supporting the Perl programming language.  See
http://wiki.cpantesters.org/ for more information or email
questions to cpan-testers-discuss@perl.org


--
Dear Joshua Chamas,

This is a computer-generated report for Apache-ASP-2.61
on perl 5.10.1, created by CPAN-Reporter-1.1803.

Thank you for uploading your work to CPAN.  Congratulations!
All tests were successful.

Sections of this report:

    * Tester comments
    * Program output
    * Prerequisites
    * Environment and other context

------------------------------
TESTER COMMENTS
------------------------------

Additional comments from tester:

this report is from an automated smoke testing program
and was not reviewed by a human for accuracy

------------------------------
PROGRAM OUTPUT
------------------------------

Output from '/usr/bin/make test':

PERL_DL_NONLAZY=1 /home/tester/vers/perl-5.10.1/bin/perl "-MExtUtils::Command::MM" "-e" "test_harness(0, 'blib/lib', 'blib/arch')" t/*.t
t/application.t .......... ok
t/asp-perl1.t ............ ok
t/asp-perl2.t ............ ok
t/asp_object.t ........... ok
t/cache.t ................ ok
t/cgi_headers.t .......... ok
t/closure.t .............. ok
t/collection.t ........... ok
t/collectionitem.t ....... ok
t/cookies.t .............. ok
t/end.t .................. ok
t/general.t .............. ok
t/global_event_end.t ..... ok
t/include.t .............. ok
t/include_change.t ....... ok
t/include_dir_error.t .... ok
t/include_runtime.t ...... ok
t/inode_names.t .......... ok
t/load.t ................. ok
t/long_names.t ........... ok
t/loops.t ................ ok
t/mail_error.t ........... ok
t/no_cache.t ............. ok
t/raw.t .................. ok
t/raw_include.t .......... ok
t/reload_global_asa.t .... ok
t/req_params_none.t ...... ok
t/request.t .............. ok
t/response.t ............. ok
t/response_end.t ......... ok
t/same_name.t ............ ok
t/server.t ............... ok
t/server_mail.t .......... ok
t/server_transfer.t ...... ok
t/session.t .............. ok
t/session_events.t ....... ok
t/session_query_parse.t .. ok
t/session_serialize.t .... ok
t/share.t ................ ok
t/stat_inc.t ............. ok
t/strict_error.t ......... ok
t/taint_check.t .......... ok
t/unique_packages.t ...... ok
t/xmlsubs.t .............. ok
t/xmlsubs_aspargs.t ...... ok
t/xmlsubs_perlargs.t ..... ok
t/xmlsubsmatch.t ......... ok
All tests successful.
Files=47, Tests=341, 16 wallclock secs ( 0.17 usr  0.11 sys +  3.25 cusr  0.70 csys =  4.23 CPU)
Result: PASS

------------------------------
PREREQUISITES
------------------------------

Prerequisite modules loaded:

requires:

    Module         Need Have 
    -------------- ---- -----
    Carp           0    1.11 
    Class::Struct  0    0.63 
    Data::Dumper   0    2.124
    Digest::MD5    0    2.51 
    Fcntl          0    1.06 
    File::Basename 0    2.77 
    MLDBM          0    2.04 
    MLDBM::Sync    0    0.30 
    SDBM_File      0    1.06 


------------------------------
ENVIRONMENT AND OTHER CONTEXT
------------------------------

Environment variables:

    AUTOMATED_TESTING = 1
    LANG = en_US.utf8
    PATH = /home/tester/perl5/perlbrew/bin:/home/tester/perl5/perlbrew/perls/current/bin:/home/tester/perl5/perlbrew/bin:/home/tester/perl5/perlbrew/perls/current/bin:/usr/lib64/qt-3.3/bin:/usr/lib64/ccache:/usr/local/bin:/bin:/usr/bin:/usr/local/sbin:/usr/sbin:/sbin:/home/tester/bin
    PERL5LIB = /home/tester/cpan/perl-5.10.1/.cpan/build/MLDBM-Sync-0.30-mnIMaG/blib/arch:/home/tester/cpan/perl-5.10.1/.cpan/build/MLDBM-Sync-0.30-mnIMaG/blib/lib:/home/tester/cpan/perl-5.10.1/.cpan/build/MLDBM-2.04-ggEk3i/blib/arch:/home/tester/cpan/perl-5.10.1/.cpan/build/MLDBM-2.04-ggEk3i/blib/lib
    PERL5OPT = 
    PERL5_CPANPLUS_IS_RUNNING = 25301
    PERL5_CPAN_IS_RUNNING = 25301
    PERL5_MINISMOKEBOX = 0.38
    PERL_EXTUTILS_AUTOINSTALL = --defaultdeps
    PERL_MM_USE_DEFAULT = 1
    SHELL = /bin/bash
    TERM = screen

Perl special variables (and OS-specific diagnostics, for MSWin32):

    $^X = /home/tester/vers/perl-5.10.1/bin/perl
    $UID/$EUID = 501 / 501
    $GID = 501 501
    $EGID = 501 501

Perl module toolchain versions installed:

    Module              Have  
    ------------------- ------
    CPAN                1.9402
    Cwd                 3.33  
    ExtUtils::CBuilder  0.2703
    ExtUtils::Command   1.16  
    ExtUtils::Install   1.54  
    ExtUtils::MakeMaker 6.56  
    ExtUtils::Manifest  1.58  
    ExtUtils::ParseXS   2.2206
    File::Spec          3.33  
    Module::Build       0.3607
    Module::Signature   n/a   
    Test::Harness       3.22  
    Test::More          0.96  
    YAML                n/a   
    YAML::Syck          1.17  
    version             0.86  


--

Summary of my perl5 (revision 5 version 10 subversion 1) configuration:
   
  Platform:
    osname=linux, osvers=2.6.35.6-48.fc14.x86_64, archname=x86_64-linux-thread-multi
    uname='linux firenze.localhost 2.6.35.6-48.fc14.x86_64 #1 smp fri oct 22 15:36:08 utc 2010 x86_64 x86_64 x86_64 gnulinux '
    config_args='-des -Dprefix=/home/tester/vers/perl-5.10.1 -Dusethreads -Duse64bitint'
    hint=recommended, useposix=true, d_sigaction=define
    useithreads=define, usemultiplicity=define
    useperlio=define, d_sfio=undef, uselargefiles=define, usesocks=undef
    use64bitint=define, use64bitall=define, uselongdouble=undef
    usemymalloc=n, bincompat5005=undef
  Compiler:
    cc='cc', ccflags ='-D_REENTRANT -D_GNU_SOURCE -fno-strict-aliasing -pipe -fstack-protector -I/usr/local/include -D_LARGEFILE_SOURCE -D_FILE_OFFSET_BITS=64',
    optimize='-O2',
    cppflags='-D_REENTRANT -D_GNU_SOURCE -fno-strict-aliasing -pipe -fstack-protector -I/usr/local/include'
    ccversion='', gccversion='4.5.1 20100924 (Red Hat 4.5.1-4)', gccosandvers=''
    intsize=4, longsize=8, ptrsize=8, doublesize=8, byteorder=12345678
    d_longlong=define, longlongsize=8, d_longdbl=define, longdblsize=16
    ivtype='long', ivsize=8, nvtype='double', nvsize=8, Off_t='off_t', lseeksize=8
    alignbytes=8, prototype=define
  Linker and Libraries:
    ld='cc', ldflags =' -fstack-protector -L/usr/local/lib'
    libpth=/usr/local/lib /lib /usr/lib /lib64 /usr/lib64 /usr/local/lib64
    libs=-lnsl -lgdbm -ldb -ldl -lm -lcrypt -lutil -lpthread -lc -lgdbm_compat
    perllibs=-lnsl -ldl -lm -lcrypt -lutil -lpthread -lc
    libc=, so=so, useshrplib=false, libperl=libperl.a
    gnulibc_version='2.12.90'
  Dynamic Linking:
    dlsrc=dl_dlopen.xs, dlext=so, d_dlsymun=undef, ccdlflags='-Wl,-E'
    cccdlflags='-fPIC', lddlflags='-shared -O2 -L/usr/local/lib -fstack-protector'


Characteristics of this binary (from libperl): 
  Compile-time options: MULTIPLICITY PERL_DONT_CREATE_GVSV
                        PERL_IMPLICIT_CONTEXT PERL_MALLOC_WRAP USE_64_BIT_ALL
                        USE_64_BIT_INT USE_ITHREADS USE_LARGE_FILES
                        USE_PERLIO USE_REENTRANT_API
  Built under linux
  Compiled at Nov 30 2010 22:56:26
  %ENV:
    PERL5LIB="/home/tester/cpan/perl-5.10.1/.cpan/build/MLDBM-Sync-0.30-mnIMaG/blib/arch:/home/tester/cpan/perl-5.10.1/.cpan/build/MLDBM-Sync-0.30-mnIMaG/blib/lib:/home/tester/cpan/perl-5.10.1/.cpan/build/MLDBM-2.04-ggEk3i/blib/arch:/home/tester/cpan/perl-5.10.1/.cpan/build/MLDBM-2.04-ggEk3i/blib/lib"
    PERL5OPT=""
    PERL5_CPANPLUS_IS_RUNNING="25301"
    PERL5_CPAN_IS_RUNNING="25301"
    PERL5_MINISMOKEBOX="0.38"
    PERL_EXTUTILS_AUTOINSTALL="--defaultdeps"
    PERL_MM_USE_DEFAULT="1"
  @INC:
    /home/tester/cpan/perl-5.10.1/.cpan/build/MLDBM-Sync-0.30-mnIMaG/blib/arch
    /home/tester/cpan/perl-5.10.1/.cpan/build/MLDBM-Sync-0.30-mnIMaG/blib/lib
    /home/tester/cpan/perl-5.10.1/.cpan/build/MLDBM-2.04-ggEk3i/blib/arch
    /home/tester/cpan/perl-5.10.1/.cpan/build/MLDBM-2.04-ggEk3i/blib/lib
    /home/tester/vers/perl-5.10.1/lib/5.10.1/x86_64-linux-thread-multi
    /home/tester/vers/perl-5.10.1/lib/5.10.1
    /home/tester/vers/perl-5.10.1/lib/site_perl/5.10.1/x86_64-linux-thread-multi
    /home/tester/vers/perl-5.10.1/lib/site_perl/5.10.1
    .