Starman v0.4017 Perl 5 v5.38.2 x86_64-linux
- Status
- Pass
- From
- Slaven Rezić
- Dist
-
Starman v0.4017
- Platform
- Perl 5 v5.38.2 x86_64-linux
- Date
- 2024-08-10 20:14:19
- ID
- 1ff518da-5755-11ef-8f3b-2a476e8775ea
This distribution has been tested as part of the CPAN Testers
project, supporting the Perl programming language. See
http://wiki.cpantesters.org/ for more information or email
questions to cpan-testers-discuss@perl.org
--
Dear Tatsuhiko Miyagawa,
This is a computer-generated report for Starman-0.4017
on perl 5.38.2, created by CPAN-Reporter-1.2019.
Thank you for uploading your work to CPAN. Congratulations!
All tests were successful.
Sections of this report:
* Tester comments
* Program output
* Prerequisites
* Environment and other context
------------------------------
TESTER COMMENTS
------------------------------
Additional comments from tester:
none provided
------------------------------
PROGRAM OUTPUT
------------------------------
Output from './Build test':
t/00_compile.t ........... ok
t/author-pod-syntax.t .... skipped: these tests are for testing by the author
2024/08/10-20:05:29 Starman::Server (type Net::Server::PreFork) starting! pid(564717)
Binding to TCP port 38687 on host 127.0.0.1 with IPv4
Setting gid to "1023 1023 1023"
2024/08/10-20:05:29 Server closing!
t/chunked_req.t .......... ok
t/chunked_termination.t .. ok
2024/08/10-20:05:29 Starman::Server (type Net::Server::PreFork) starting! pid(564725)
Binding to TCP port 40917 on host 127.0.0.1 with IPv4
Setting gid to "1023 1023 1023"
2024/08/10-20:05:29 Server closing!
t/chunked_zero_length.t .. ok
2024/08/10-20:05:29 Starman::Server (type Net::Server::PreFork) starting! pid(564732)
Binding to TCP port 37551 on host 127.0.0.1 with IPv4
Setting gid to "1023 1023 1023"
2024/08/10-20:05:30 Server closing!
t/early-hints.t .......... ok
2024/08/10-20:05:30 Starman::Server (type Net::Server::PreFork) starting! pid(564740)
Binding to TCP port 43563 on host 127.0.0.1 with IPv4
Setting gid to "1023 1023 1023"
2024/08/10-20:05:31 Server closing!
t/eintr.t ................ ok
2024/08/10-20:05:31 Starman::Server (type Net::Server::PreFork) starting! pid(564748)
Binding to TCP port 35315 on host 127.0.0.1 with IPv4
Setting gid to "1023 1023 1023"
2024/08/10-20:05:31 Server closing!
t/expect.t ............... ok
2024/08/10-20:05:31 Starman::Server (type Net::Server::PreFork) starting! pid(564755)
Binding to TCP port 35259 on host 127.0.0.1 with IPv4
Setting gid to "1023 1023 1023"
2024/08/10-20:05:31 Server closing!
2024/08/10-20:05:31 Starman::Server (type Net::Server::PreFork) starting! pid(564761)
Binding to TCP port 43475 on host 127.0.0.1 with IPv4
Setting gid to "1023 1023 1023"
2024/08/10-20:05:31 Server closing!
Accept failed with 29 tries left: Invalid argument
Accept failed with 29 tries left: Invalid argument
Accept failed with 28 tries left: Invalid argument
Accept failed with 28 tries left: Invalid argument
Accept failed with 27 tries left: Invalid argument
Accept failed with 27 tries left: Invalid argument
Accept failed with 26 tries left: Invalid argument
Accept failed with 26 tries left: Invalid argument
Accept failed with 25 tries left: Invalid argument
Accept failed with 25 tries left: Invalid argument
Accept failed with 24 tries left: Invalid argument
Accept failed with 24 tries left: Invalid argument
Accept failed with 23 tries left: Invalid argument
Accept failed with 23 tries left: Invalid argument
Accept failed with 22 tries left: Invalid argument
Accept failed with 22 tries left: Invalid argument
Accept failed with 21 tries left: Invalid argument
Accept failed with 21 tries left: Invalid argument
Accept failed with 20 tries left: Invalid argument
Accept failed with 20 tries left: Invalid argument
Accept failed with 19 tries left: Invalid argument
Accept failed with 19 tries left: Invalid argument
Accept failed with 18 tries left: Invalid argument
Accept failed with 18 tries left: Invalid argument
Accept failed with 17 tries left: Invalid argument
Accept failed with 17 tries left: Invalid argument
Accept failed with 16 tries left: Invalid argument
Accept failed with 16 tries left: Invalid argument
Accept failed with 15 tries left: Invalid argument
Accept failed with 15 tries left: Invalid argument
Accept failed with 14 tries left: Invalid argument
Accept failed with 14 tries left: Invalid argument
Accept failed with 13 tries left: Invalid argument
Accept failed with 13 tries left: Invalid argument
Accept failed with 12 tries left: Invalid argument
Accept failed with 12 tries left: Invalid argument
Accept failed with 11 tries left: Invalid argument
Accept failed with 11 tries left: Invalid argument
Accept failed with 10 tries left: Invalid argument
Accept failed with 10 tries left: Invalid argument
Accept failed with 9 tries left: Invalid argument
Accept failed with 9 tries left: Invalid argument
Accept failed with 8 tries left: Invalid argument
Accept failed with 8 tries left: Invalid argument
Accept failed with 7 tries left: Invalid argument
Accept failed with 7 tries left: Invalid argument
Accept failed with 6 tries left: Invalid argument
Accept failed with 6 tries left: Invalid argument
Accept failed with 5 tries left: Invalid argument
Accept failed with 5 tries left: Invalid argument
Accept failed with 4 tries left: Invalid argument
Accept failed with 4 tries left: Invalid argument
Accept failed with 3 tries left: Invalid argument
Accept failed with 3 tries left: Invalid argument
Accept failed with 2 tries left: Invalid argument
Accept failed with 2 tries left: Invalid argument
Accept failed with 1 tries left: Invalid argument
Accept failed with 1 tries left: Invalid argument
Accept failed with 0 tries left: Invalid argument
Accept failed with 0 tries left: Invalid argument
Ran out of accept retries!
Ran out of accept retries!
t/harakiri.t ............. ok
2024/08/10-20:06:01 Starman::Server (type Net::Server::PreFork) starting! pid(564832)
Binding to TCP port 32817 on host 127.0.0.1 with IPv4
Setting gid to "1023 1023 1023"
2024/08/10-20:06:01 Server closing!
t/lf_only_request.t ...... ok
2024/08/10-20:06:01 Starman::Server (type Net::Server::PreFork) starting! pid(564839)
Binding to TCP port 46745 on host 127.0.0.1 with IPv4
Setting gid to "1023 1023 1023"
2024/08/10-20:06:01 Server closing!
t/no_chunked_head.t ...... ok
t/release-findbin.t ...... skipped: these tests are for release candidate testing
t/release-rand.t ......... skipped: these tests are for release candidate testing
2024/08/10-20:06:02 Starman::Server (type Net::Server::PreFork) starting! pid(564848)
Binding to TCP port 35049 on host 127.0.0.1 with IPv4
Setting gid to "1023 1023 1023"
2024/08/10-20:06:02 Server closing!
t/single_zero.t .......... ok
2024/08/10-20:06:02 Starman::Server (type Net::Server::PreFork) starting! pid(564855)
Resolved [localhost]:39999 to [::1]:39999, IPv6
Resolved [localhost]:39999 to [127.0.0.1]:39999, IPv4
Binding to SSL port 39999 on host ::1 with IPv6
Binding to SSL port 39999 on host 127.0.0.1 with IPv4
Setting gid to "1023 1023 1023"
Passed serialize value of none is incompatible with multiple ports - using default serialize
Could not finalize SSL connection with client handle (SSL accept attempt failed error:0A000126:SSL routines::unexpected eof while reading)
Child process 564856 exited with status 255
2024/08/10-20:06:02 Server closing!
t/ssl.t .................. ok
2024/08/10-20:06:02 Starman::Server (type Net::Server::PreFork) starting! pid(564865)
Resolved [localhost]:39211 to [::1]:39211, IPv6
Resolved [localhost]:39211 to [127.0.0.1]:39211, IPv4
Binding to SSL port 39211 on host ::1 with IPv6
Binding to SSL port 39211 on host 127.0.0.1 with IPv4
Setting gid to "1023 1023 1023"
Passed serialize value of none is incompatible with multiple ports - using default serialize
Could not finalize SSL connection with client handle (SSL accept attempt failed error:0A000126:SSL routines::unexpected eof while reading)
2024/08/10-20:06:02 Server closing!
t/ssl_largebody.t ........ ok
2024/08/10-20:06:02 Starman::Server (type Net::Server::PreFork) starting! pid(564873)
Binding to TCP port 46507 on host 127.0.0.1 with IPv4
Setting gid to "1023 1023 1023"
2024/08/10-20:06:03 Server closing!
t/suite.t ................ ok
All tests successful.
Files=17, Tests=125, 34 wallclock secs ( 0.06 usr 0.01 sys + 1.80 cusr 0.63 csys = 2.50 CPU)
Result: PASS
------------------------------
PREREQUISITES
------------------------------
Prerequisite modules loaded:
requires:
Module Need Have
------------------- -------- --------
Data::Dump 0 1.25
HTTP::Date 0 6.06
HTTP::Parser::XS 0 0.17
HTTP::Status 0 6.46
Net::Server 2.007 2.014
parent 0 0.241
perl 5.008001 5.038002
Plack 0.9971 1.0051
Test::TCP 2.00 2.22
build_requires:
Module Need Have
------------------- -------- --------
LWP::UserAgent 0 6.77
Test::More 0 1.302200
Test::Requires 0 0.11
configure_requires:
Module Need Have
------------------- -------- --------
Module::Build::Tiny 0.034 0.048
------------------------------
ENVIRONMENT AND OTHER CONTEXT
------------------------------
Environment variables:
LANG = en_US.UTF-8
PATH = /usr/local/bin:/usr/bin:/bin:/usr/local/sbin:/usr/sbin:/sbin:/home/cpansand/bin/linux-gnu:/home/cpansand/bin/sh:/home/cpansand/bin:/usr/games:/home/cpansand/devel:/home/eserte/src/srezic-misc/scripts
PERL5LIB =
PERL5OPT =
PERL5_CPANPLUS_IS_RUNNING = 554079
PERL5_CPAN_IS_RUNNING = 554079
PERL5_CPAN_IS_RUNNING_IN_RECURSION = 554023,554079
PERLDOC = -MPod::Perldoc::ToTextOverstrike
PERL_BATCH = yes
PERL_CANARY_STABILITY_NOPROMPT = 1
PERL_CPAN_REPORTER_CONFIG = /var/tmp/cpansmoker-1023/2024081019/cpanreporter_000_config.ini
PERL_EXTUTILS_AUTOINSTALL = --defaultdeps
PERL_USE_UNSAFE_INC = 1
SHELL = /usr/bin/zsh
TERM = screen
TMPDIR = /var/tmp/cpansmoker-1023/2024081019
Perl special variables (and OS-specific diagnostics, for MSWin32):
$^X = /opt/perl-5.38.2/bin/perl
$UID/$EUID = 1023 / 1023
$GID = 1023 1023
$EGID = 1023 1023
Perl module toolchain versions installed:
Module Have
------------------- --------
CPAN 2.36
CPAN::Meta 2.150010
Cwd 3.89
ExtUtils::CBuilder 0.280238
ExtUtils::Command 7.70
ExtUtils::Install 2.22
ExtUtils::MakeMaker 7.70
ExtUtils::Manifest 1.73
ExtUtils::ParseXS 3.51
File::Spec 3.88
JSON 4.10
JSON::PP 4.16
Module::Build 0.4234
Module::Signature 0.88
Parse::CPAN::Meta 2.150010
Test2 1.302200
Test::Harness 3.44
Test::More 1.302200
YAML 1.31
YAML::Syck 1.34
version 0.9929
--
Summary of my perl5 (revision 5 version 38 subversion 2) configuration:
Platform:
osname=linux
osvers=5.14.0-427.24.1.el9_4.x86_64
archname=x86_64-linux
uname='linux rockylinux9-2gb-ash-1-cloud3.cloud 5.14.0-427.24.1.el9_4.x86_64 #1 smp preempt_dynamic mon jul 8 17:47:19 utc 2024 x86_64 x86_64 x86_64 gnulinux '
config_args='-ds -e -Dprefix=/opt/perl-5.38.2 -Uinstallusrbinperl -Dcf_email=srezic@cpan.org'
hint=recommended
useposix=true
d_sigaction=define
useithreads=undef
usemultiplicity=undef
use64bitint=define
use64bitall=define
uselongdouble=undef
usemymalloc=n
default_inc_excludes_dot=define
Compiler:
cc='cc'
ccflags ='-fwrapv -fno-strict-aliasing -pipe -fstack-protector-strong -I/usr/local/include -D_LARGEFILE_SOURCE -D_FILE_OFFSET_BITS=64 -D_FORTIFY_SOURCE=2'
optimize='-O2'
cppflags='-fwrapv -fno-strict-aliasing -pipe -fstack-protector-strong -I/usr/local/include'
ccversion=''
gccversion='11.4.1 20231218 (Red Hat 11.4.1-3)'
gccosandvers=''
intsize=4
longsize=8
ptrsize=8
doublesize=8
byteorder=12345678
doublekind=3
d_longlong=define
longlongsize=8
d_longdbl=define
longdblsize=16
longdblkind=3
ivtype='long'
ivsize=8
nvtype='double'
nvsize=8
Off_t='off_t'
lseeksize=8
alignbytes=8
prototype=define
Linker and Libraries:
ld='cc'
ldflags =' -fstack-protector-strong -L/usr/local/lib'
libpth=/usr/local/lib /usr/lib /usr/lib64 /usr/local/lib64
libs=-lpthread -ldl -lm -lcrypt -lutil -lc
perllibs=-lpthread -ldl -lm -lcrypt -lutil -lc
libc=/lib/../lib64/libc.so.6
so=so
useshrplib=false
libperl=libperl.a
gnulibc_version='2.34'
Dynamic Linking:
dlsrc=dl_dlopen.xs
dlext=so
d_dlsymun=undef
ccdlflags='-Wl,-E'
cccdlflags='-fPIC'
lddlflags='-shared -O2 -L/usr/local/lib -fstack-protector-strong'
Characteristics of this binary (from libperl):
Compile-time options:
HAS_LONG_DOUBLE
HAS_STRTOLD
HAS_TIMES
PERLIO_LAYERS
PERL_COPY_ON_WRITE
PERL_DONT_CREATE_GVSV
PERL_HASH_FUNC_SIPHASH13
PERL_HASH_USE_SBOX32
PERL_MALLOC_WRAP
PERL_OP_PARENT
PERL_PRESERVE_IVUV
PERL_USE_SAFE_PUTENV
USE_64_BIT_ALL
USE_64_BIT_INT
USE_LARGE_FILES
USE_LOCALE
USE_LOCALE_COLLATE
USE_LOCALE_CTYPE
USE_LOCALE_NUMERIC
USE_LOCALE_TIME
USE_PERLIO
USE_PERL_ATOF
Built under linux
Compiled at Jul 13 2024 07:06:32
%ENV:
PERL5LIB=""
PERL5OPT=""
PERL5_CPANPLUS_IS_RUNNING="554079"
PERL5_CPAN_IS_RUNNING="554079"
PERL5_CPAN_IS_RUNNING_IN_RECURSION="554023,554079"
PERLDOC="-MPod::Perldoc::ToTextOverstrike"
PERL_BATCH="yes"
PERL_CANARY_STABILITY_NOPROMPT="1"
PERL_CPAN_REPORTER_CONFIG="/var/tmp/cpansmoker-1023/2024081019/cpanreporter_000_config.ini"
PERL_EXTUTILS_AUTOINSTALL="--defaultdeps"
PERL_USE_UNSAFE_INC="1"
@INC:
/opt/perl-5.38.2/lib/site_perl/5.38.2/x86_64-linux
/opt/perl-5.38.2/lib/site_perl/5.38.2
/opt/perl-5.38.2/lib/5.38.2/x86_64-linux
/opt/perl-5.38.2/lib/5.38.2
.