Dist-Zilla-Plugin-RemovePrereqs-Provided v0.001001 Perl 5 v5.33.8 x86_64-linux

Status
Pass
From
Nigel Horne
Dist
Dist-Zilla-Plugin-RemovePrereqs-Provided v0.001001
Platform
Perl 5 v5.33.8 x86_64-linux
Date
2021-04-27 02:34:43
ID
1ff78f3c-a701-11eb-bb8c-89d08d963b33
This distribution has been tested as part of the CPAN Testers
project, supporting the Perl programming language.  See
http://wiki.cpantesters.org/ for more information or email
questions to cpan-testers-discuss@perl.org


--
Dear Kent Fredric (PAUSE Custodial Account),

This is a computer-generated report for Dist-Zilla-Plugin-RemovePrereqs-Provided-0.001001
on perl 5.33.8, created by CPAN-Reporter-1.2018.

Thank you for uploading your work to CPAN.  Congratulations!
All tests were successful.

Sections of this report:

    * Tester comments
    * Program output
    * Prerequisites
    * Environment and other context

------------------------------
TESTER COMMENTS
------------------------------

Additional comments from tester:

none provided

------------------------------
PROGRAM OUTPUT
------------------------------

Output from '/usr/bin/make test':

PERL_DL_NONLAZY=1 "/home/njh/perl5/perlbrew/perls/perl-5.33.8/bin/perl5.33.8" "-MExtUtils::Command::MM" "-MTest::Harness" "-e" "undef *Test::Harness::Switches; test_harness(0, 'blib/lib', 'blib/arch')" t/*.t t/00-compile/*.t
t/00-compile/lib_Dist_Zilla_Plugin_RemovePrereqs_Provided_pm.t .. ok
# 
# Versions for all modules listed in MYMETA.json (including optional ones):
# 
# === Configure Requires ===
# 
#     Module              Want Have
#     ------------------- ---- ----
#     ExtUtils::MakeMaker  any 7.62
# 
# === Configure Recommends ===
# 
#     Module              Want Have
#     ------------------- ---- ----
#     ExtUtils::MakeMaker 7.00 7.62
# 
# === Build Requires ===
# 
#     Module              Want Have
#     ------------------- ---- ----
#     ExtUtils::MakeMaker  any 7.62
# 
# === Test Requires ===
# 
#     Module                              Want     Have
#     ------------------------------- -------- --------
#     Dist::Zilla::Plugin::GatherDir       any    6.017
#     Dist::Zilla::Plugin::Prereqs         any    6.017
#     Dist::Zilla::Util::Test::KENTNL 1.005000 1.005014
#     ExtUtils::MakeMaker                  any     7.62
#     File::Spec                           any     3.80
#     Test::DZil                           any    6.017
#     Test::More                           any 1.302183
# 
# === Test Recommends ===
# 
#     Module                                         Want     Have
#     ------------------------------------------ -------- --------
#     CPAN::Meta                                 2.120900 2.150010
#     Dist::Zilla::Plugin::MetaProvides::Package      any 2.004003
#     ExtUtils::MakeMaker                            7.00     7.62
#     Test::More                                     0.99 1.302183
# 
# === Runtime Requires ===
# 
#     Module                          Want     Have
#     ------------------------------- ---- --------
#     Dist::Zilla::Role::PrereqSource  any    6.017
#     Dist::Zilla::Util::ConfigDumper  any 0.003009
#     Moose                            any   2.2015
#     Moose::Util::TypeConstraints     any   2.2015
#     strict                           any     1.12
#     warnings                         any     1.51
# 
# === Runtime Recommends ===
# 
#     Module  Want   Have
#     ------ ----- ------
#     Moose  2.000 2.2015
# 
t/00-report-prereqs.t ........................................... ok
t/01_basic.t .................................................... ok
All tests successful.
Files=3, Tests=4,  5 wallclock secs ( 0.02 usr  0.01 sys +  4.06 cusr  0.31 csys =  4.40 CPU)
Result: PASS

------------------------------
PREREQUISITES
------------------------------

Prerequisite modules loaded:

requires:

    Module                                     Need     Have    
    ------------------------------------------ -------- --------
    Dist::Zilla::Role::PrereqSource            0        6.017   
    Dist::Zilla::Util::ConfigDumper            0        0.003009
    Moose                                      0        2.2015  
    Moose::Util::TypeConstraints               0        2.2015  
    perl                                       5.006    5.033008
    strict                                     0        1.12    
    warnings                                   0        1.51    

build_requires:

    Module                                     Need     Have    
    ------------------------------------------ -------- --------
    Dist::Zilla::Plugin::GatherDir             0        6.017   
    Dist::Zilla::Plugin::Prereqs               0        6.017   
    Dist::Zilla::Util::Test::KENTNL            1.005000 1.005014
    ExtUtils::MakeMaker                        0        7.62    
    File::Spec                                 0        3.80    
    Test::DZil                                 0        6.017   
    Test::More                                 0        1.302183

configure_requires:

    Module                                     Need     Have    
    ------------------------------------------ -------- --------
    ExtUtils::MakeMaker                        0        7.62    
    perl                                       5.006    5.033008

opt_requires:

    Module                                     Need     Have    
    ------------------------------------------ -------- --------
    Moose                                      2.000    2.2015  

opt_build_requires:

    Module                                     Need     Have    
    ------------------------------------------ -------- --------
    CPAN::Meta                                 2.120900 2.150010
    Dist::Zilla::Plugin::MetaProvides::Package 0        2.004003
    ExtUtils::MakeMaker                        7.00     7.62    
    Test::More                                 0.99     1.302183


------------------------------
ENVIRONMENT AND OTHER CONTEXT
------------------------------

Environment variables:

    LANG = C.UTF-8
    NONINTERACTIVE_TESTING = 1
    PATH = /home/njh/perl5/perlbrew/bin:/home/njh/perl5/perlbrew/perls/perl-5.33.8/bin:/usr/local/sbin:/usr/local/bin:/usr/sbin:/usr/bin:/sbin:/bin:/usr/games:/usr/local/games:/snap/bin
    PERL5LIB = 
    PERL5OPT = 
    PERL5_CPANPLUS_IS_RUNNING = 7443
    PERL5_CPAN_IS_RUNNING = 7443
    PERLBREW_LIB = 
    PERLBREW_MANPATH = /home/njh/perl5/perlbrew/perls/perl-5.33.8/man
    PERLBREW_PATH = /home/njh/perl5/perlbrew/bin:/home/njh/perl5/perlbrew/perls/perl-5.33.8/bin
    PERLBREW_PERL = perl-5.33.8
    PERLBREW_ROOT = /home/njh/perl5/perlbrew
    PERLBREW_VERSION = 0.91
    PERL_LOCAL_LIB_ROOT = 
    PERL_MM_USE_DEFAULT = 1
    PERL_USE_UNSAFE_INC = 1
    SHELL = /bin/bash
    TEMP = /tmp/user/1002
    TMPDIR = /tmp/user/1002

Perl special variables (and OS-specific diagnostics, for MSWin32):

    $^X = /home/njh/perl5/perlbrew/perls/perl-5.33.8/bin/perl5.33.8
    $UID/$EUID = 1002 / 1002
    $GID = 1002 120 1002
    $EGID = 1002 120 1002

Perl module toolchain versions installed:

    Module              Have    
    ------------------- --------
    CPAN                2.28    
    CPAN::Meta          2.150010
    Cwd                 3.80    
    ExtUtils::CBuilder  0.280236
    ExtUtils::Command   7.62    
    ExtUtils::Install   2.20    
    ExtUtils::MakeMaker 7.62    
    ExtUtils::Manifest  1.73    
    ExtUtils::ParseXS   3.42    
    File::Spec          3.80    
    JSON                4.03    
    JSON::PP            4.06    
    Module::Build       0.4231  
    Module::Signature   0.87    
    Parse::CPAN::Meta   2.150010
    Test::Harness       3.43    
    Test::More          1.302183
    YAML                1.30    
    YAML::Syck          n/a     
    version             0.9929  


--

Summary of my perl5 (revision 5 version 33 subversion 8) configuration:
   
  Platform:
    osname=linux
    osvers=5.4.0-1039-oracle
    archname=x86_64-linux
    uname='linux oracle1 5.4.0-1039-oracle #42~18.04.1-ubuntu smp mon mar 1 16:33:55 utc 2021 x86_64 x86_64 x86_64 gnulinux '
    config_args='-de -Dprefix=/home/njh/perl5/perlbrew/perls/perl-5.33.8 -Dusedevel -Aeval:scriptdir=/home/njh/perl5/perlbrew/perls/perl-5.33.8/bin'
    hint=recommended
    useposix=true
    d_sigaction=define
    useithreads=undef
    usemultiplicity=undef
    use64bitint=define
    use64bitall=define
    uselongdouble=undef
    usemymalloc=n
    default_inc_excludes_dot=define
  Compiler:
    cc='cc'
    ccflags ='-fwrapv -fno-strict-aliasing -pipe -fstack-protector-strong -I/usr/local/include -D_LARGEFILE_SOURCE -D_FILE_OFFSET_BITS=64'
    optimize='-O2'
    cppflags='-fwrapv -fno-strict-aliasing -pipe -fstack-protector-strong -I/usr/local/include'
    ccversion=''
    gccversion='7.5.0'
    gccosandvers=''
    intsize=4
    longsize=8
    ptrsize=8
    doublesize=8
    byteorder=12345678
    doublekind=3
    d_longlong=define
    longlongsize=8
    d_longdbl=define
    longdblsize=16
    longdblkind=3
    ivtype='long'
    ivsize=8
    nvtype='double'
    nvsize=8
    Off_t='off_t'
    lseeksize=8
    alignbytes=8
    prototype=define
  Linker and Libraries:
    ld='cc'
    ldflags =' -fstack-protector-strong -L/usr/local/lib'
    libpth=/usr/local/lib /usr/lib/gcc/x86_64-linux-gnu/7/include-fixed /usr/include/x86_64-linux-gnu /usr/lib /lib/x86_64-linux-gnu /lib/../lib /usr/lib/x86_64-linux-gnu /usr/lib/../lib /lib
    libs=-lpthread -lnsl -lgdbm -ldb -ldl -lm -lcrypt -lutil -lc
    perllibs=-lpthread -lnsl -ldl -lm -lcrypt -lutil -lc
    libc=libc-2.27.so
    so=so
    useshrplib=false
    libperl=libperl.a
    gnulibc_version='2.27'
  Dynamic Linking:
    dlsrc=dl_dlopen.xs
    dlext=so
    d_dlsymun=undef
    ccdlflags='-Wl,-E'
    cccdlflags='-fPIC'
    lddlflags='-shared -O2 -L/usr/local/lib -fstack-protector-strong'


Characteristics of this binary (from libperl): 
  Compile-time options:
    HAS_TIMES
    PERLIO_LAYERS
    PERL_COPY_ON_WRITE
    PERL_DONT_CREATE_GVSV
    PERL_MALLOC_WRAP
    PERL_OP_PARENT
    PERL_PRESERVE_IVUV
    PERL_USE_DEVEL
    USE_64_BIT_ALL
    USE_64_BIT_INT
    USE_LARGE_FILES
    USE_LOCALE
    USE_LOCALE_COLLATE
    USE_LOCALE_CTYPE
    USE_LOCALE_NUMERIC
    USE_LOCALE_TIME
    USE_PERLIO
    USE_PERL_ATOF
  Built under linux
  Compiled at Mar 22 2021 00:37:44
  %ENV:
    PERL5LIB=""
    PERL5OPT=""
    PERL5_CPANPLUS_IS_RUNNING="7443"
    PERL5_CPAN_IS_RUNNING="7443"
    PERLBREW_LIB=""
    PERLBREW_MANPATH="/home/njh/perl5/perlbrew/perls/perl-5.33.8/man"
    PERLBREW_PATH="/home/njh/perl5/perlbrew/bin:/home/njh/perl5/perlbrew/perls/perl-5.33.8/bin"
    PERLBREW_PERL="perl-5.33.8"
    PERLBREW_ROOT="/home/njh/perl5/perlbrew"
    PERLBREW_VERSION="0.91"
    PERL_LOCAL_LIB_ROOT=""
    PERL_MM_USE_DEFAULT="1"
    PERL_USE_UNSAFE_INC="1"
  @INC:
    /home/njh/perl5/perlbrew/perls/perl-5.33.8/lib/site_perl/5.33.8/x86_64-linux
    /home/njh/perl5/perlbrew/perls/perl-5.33.8/lib/site_perl/5.33.8
    /home/njh/perl5/perlbrew/perls/perl-5.33.8/lib/5.33.8/x86_64-linux
    /home/njh/perl5/perlbrew/perls/perl-5.33.8/lib/5.33.8
    .