Dist-Zilla-Plugin-Test-EOL v0.19 Perl 5 v5.33.9 x86_64-linux
- Status
- Pass
- From
- Dagfinn Ilmari MannsÃÂÃÂ¥ker
- Dist
-
Dist-Zilla-Plugin-Test-EOL v0.19
- Platform
- Perl 5 v5.33.9 x86_64-linux
- Date
- 2021-04-28 15:12:19
- ID
- 1ffaf7ec-a834-11eb-b126-3b7a34986e65
This distribution has been tested as part of the CPAN Testers
project, supporting the Perl programming language. See
http://wiki.cpantesters.org/ for more information or email
questions to cpan-testers-discuss@perl.org
--
Dear ETHER,
This is a computer-generated report for Dist-Zilla-Plugin-Test-EOL-0.19
on perl 5.33.9, created by App::cpanminus::reporter 0.17 (1.7044).
Thank you for uploading your work to CPAN. Congratulations!
All tests were successful.
Sections of this report:
* Tester comments
* Program output
* Prerequisites
* Environment and other context
------------------------------
TESTER COMMENTS
------------------------------
Additional comments from tester:
none provided
------------------------------
PROGRAM OUTPUT
------------------------------
Output from '':
Building and testing Dist-Zilla-Plugin-Test-EOL-0.19
cp lib/Dist/Zilla/Plugin/Test/EOL.pm blib/lib/Dist/Zilla/Plugin/Test/EOL.pm
cp lib/Dist/Zilla/Plugin/EOLTests.pm blib/lib/Dist/Zilla/Plugin/EOLTests.pm
#
# Versions for all modules listed in MYMETA.json (including optional ones):
#
# === Configure Requires ===
#
# Module Want Have
# ------------------- ----- -----
# Module::Build::Tiny 0.034 0.039
#
# === Test Requires ===
#
# Module Want Have
# ---------------- ----- --------
# File::Spec any 3.80
# File::pushd any 1.016
# FindBin any 1.52
# Module::Metadata any 1.000037
# Test::DZil any 6.017
# Test::Deep any 1.130
# Test::EOL any 2.02
# Test::More 0.88 1.302183
# Test::Warnings 0.009 0.030
# if any 0.0609
#
# === Test Recommends ===
#
# Module Want Have
# ---------- -------- --------
# CPAN::Meta 2.120900 2.150010
#
# === Runtime Requires ===
#
# Module Want Have
# --------------------------------- ----- --------
# Data::Section 0.004 0.200007
# Dist::Zilla::File::InMemory any 6.017
# Dist::Zilla::Role::FileFinderUser any 6.017
# Dist::Zilla::Role::FileGatherer any 6.017
# Dist::Zilla::Role::FileMunger any 6.017
# Dist::Zilla::Role::PrereqSource any 6.017
# Dist::Zilla::Role::TextTemplate any 6.017
# Moose any 2.2015
# Moose::Util::TypeConstraints any 2.2015
# Path::Tiny any 0.118
# Sub::Exporter::ForMethods any 0.100054
# namespace::autoclean any 0.29
# strict any 1.12
# warnings any 1.51
#
# === Other Modules ===
#
# Module Have
# --------------------- --------
# CPAN::Meta::Validator 2.150010
# Pod::Coverage 0.23
#
t/00-report-prereqs.t .. ok
t/01-basic.t ........... ok
t/02-eoltests.t ........ ok
t/03-finder.t .......... ok
t/04-filename.t ........ ok
t/eol.t ................ ok
t/prereqs.t ............ ok
t/zzz-check-breaks.t ... ok
All tests successful.
Files=8, Tests=66, 5 wallclock secs ( 0.05 usr 0.01 sys + 4.46 cusr 0.22 csys = 4.74 CPU)
Result: PASS
------------------------------
PREREQUISITES
------------------------------
Prerequisite modules loaded:
No requirements found
------------------------------
ENVIRONMENT AND OTHER CONTEXT
------------------------------
Environment variables:
LANG = en_GB.UTF-8
PATH = /home/ilmari/.perlbrew/libs/33.9d@std/bin:/home/ilmari/perl5/perlbrew/bin:/home/ilmari/perl5/perlbrew/perls/33.9d/bin:/home/ilmari/.pyenv/bin:/home/ilmari/.local/bin:/home/ilmari/.cargo/bin:/usr/lib/ccache:/home/ilmari/bin:/usr/local/bin:/usr/bin:/bin:/usr/local/games:/usr/games
PERL5LIB = /home/ilmari/.perlbrew/libs/33.9d@std/lib/perl5
PERLBREW_HOME = /home/ilmari/.perlbrew
PERLBREW_LIB = std
PERLBREW_MANPATH = /home/ilmari/.perlbrew/libs/33.9d@std/man:/home/ilmari/perl5/perlbrew/perls/33.9d/man
PERLBREW_PATH = /home/ilmari/.perlbrew/libs/33.9d@std/bin:/home/ilmari/perl5/perlbrew/bin:/home/ilmari/perl5/perlbrew/perls/33.9d/bin
PERLBREW_PERL = 33.9d
PERLBREW_ROOT = /home/ilmari/perl5/perlbrew
PERLBREW_SHELLRC_VERSION = 0.82
PERLBREW_VERSION = 0.88
PERL_LOCAL_LIB_ROOT = /home/ilmari/.perlbrew/libs/33.9d@std
PERL_MB_OPT = --install_base /home/ilmari/.perlbrew/libs/33.9d@std
PERL_MM_OPT = INSTALL_BASE=/home/ilmari/.perlbrew/libs/33.9d@std
SHELL = /bin/bash
TERM = xterm-256color
Perl special variables (and OS-specific diagnostics, for MSWin32):
EGID = 1000 4 24 25 27 29 30 44 46 50 108 114 128 129 999 1000
EUID = 1000
EXECUTABLE_NAME = /home/ilmari/perl5/perlbrew/perls/33.9d/bin/perl5.33.9
GID = 1000 4 24 25 27 29 30 44 46 50 108 114 128 129 999 1000
UID = 1000
Perl module toolchain versions installed:
Module Have
------------------- --------
CPAN 2.28
CPAN::Meta 2.150010
Cwd 3.80
ExtUtils::CBuilder 0.280236
ExtUtils::Command 7.62
ExtUtils::Install 2.20
ExtUtils::MakeMaker 7.62
ExtUtils::Manifest 1.73
ExtUtils::ParseXS 3.43
File::Spec 3.80
JSON 4.03
JSON::PP 4.06
Module::Build 0.4231
Module::Signature n/a
Parse::CPAN::Meta 2.150010
Test::Harness 3.43
Test::More 1.302183
YAML 1.30
YAML::Syck n/a
version 0.9928
--
Summary of my perl5 (revision 5 version 33 subversion 9) configuration:
Platform:
osname=linux
osvers=5.10.0-0.bpo.3-amd64
archname=x86_64-linux
uname='linux ilmari-thinkpad 5.10.0-0.bpo.3-amd64 #1 smp debian 5.10.13-1~bpo10+1 (2021-02-11) x86_64 gnulinux '
config_args='-de -Dprefix=/home/ilmari/perl5/perlbrew/perls/33.9d -Duseshrplib -DDEBUGGING -Dman1dir=none -Dman3dir=none -Dusedevel -Aeval:scriptdir=/home/ilmari/perl5/perlbrew/perls/33.9d/bin'
hint=recommended
useposix=true
d_sigaction=define
useithreads=undef
usemultiplicity=undef
use64bitint=define
use64bitall=define
uselongdouble=undef
usemymalloc=n
default_inc_excludes_dot=define
Compiler:
cc='cc'
ccflags ='-fwrapv -DDEBUGGING -fno-strict-aliasing -pipe -fstack-protector-strong -I/usr/local/include -D_LARGEFILE_SOURCE -D_FILE_OFFSET_BITS=64 -D_FORTIFY_SOURCE=2'
optimize='-O2 -g'
cppflags='-fwrapv -DDEBUGGING -fno-strict-aliasing -pipe -fstack-protector-strong -I/usr/local/include'
ccversion=''
gccversion='8.3.0'
gccosandvers=''
intsize=4
longsize=8
ptrsize=8
doublesize=8
byteorder=12345678
doublekind=3
d_longlong=define
longlongsize=8
d_longdbl=define
longdblsize=16
longdblkind=3
ivtype='long'
ivsize=8
nvtype='double'
nvsize=8
Off_t='off_t'
lseeksize=8
alignbytes=8
prototype=define
Linker and Libraries:
ld='cc'
ldflags =' -fstack-protector-strong -L/usr/local/lib'
libpth=/usr/local/lib /usr/lib/x86_64-linux-gnu /usr/lib /lib/x86_64-linux-gnu /lib
libs=-lpthread -lnsl -lgdbm -ldb -ldl -lm -lcrypt -lutil -lc
perllibs=-lpthread -lnsl -ldl -lm -lcrypt -lutil -lc
libc=libc-2.28.so
so=so
useshrplib=true
libperl=libperl.so
gnulibc_version='2.28'
Dynamic Linking:
dlsrc=dl_dlopen.xs
dlext=so
d_dlsymun=undef
ccdlflags='-Wl,-E -Wl,-rpath,/home/ilmari/perl5/perlbrew/perls/33.9d/lib/5.33.9/x86_64-linux/CORE'
cccdlflags='-fPIC'
lddlflags='-shared -O2 -g -L/usr/local/lib -fstack-protector-strong'
Characteristics of this binary (from libperl):
Compile-time options:
DEBUGGING
HAS_TIMES
PERLIO_LAYERS
PERL_COPY_ON_WRITE
PERL_DONT_CREATE_GVSV
PERL_MALLOC_WRAP
PERL_OP_PARENT
PERL_PRESERVE_IVUV
PERL_USE_DEVEL
USE_64_BIT_ALL
USE_64_BIT_INT
USE_LARGE_FILES
USE_LOCALE
USE_LOCALE_COLLATE
USE_LOCALE_CTYPE
USE_LOCALE_NUMERIC
USE_LOCALE_TIME
USE_PERLIO
USE_PERL_ATOF
Built under linux
Compiled at Apr 21 2021 18:12:13
%ENV:
PERL5LIB="/home/ilmari/.perlbrew/libs/33.9d@std/lib/perl5"
PERLBREW_HOME="/home/ilmari/.perlbrew"
PERLBREW_LIB="std"
PERLBREW_MANPATH="/home/ilmari/.perlbrew/libs/33.9d@std/man:/home/ilmari/perl5/perlbrew/perls/33.9d/man"
PERLBREW_PATH="/home/ilmari/.perlbrew/libs/33.9d@std/bin:/home/ilmari/perl5/perlbrew/bin:/home/ilmari/perl5/perlbrew/perls/33.9d/bin"
PERLBREW_PERL="33.9d"
PERLBREW_ROOT="/home/ilmari/perl5/perlbrew"
PERLBREW_SHELLRC_VERSION="0.82"
PERLBREW_VERSION="0.88"
PERL_LOCAL_LIB_ROOT="/home/ilmari/.perlbrew/libs/33.9d@std"
PERL_MB_OPT="--install_base /home/ilmari/.perlbrew/libs/33.9d@std"
PERL_MM_OPT="INSTALL_BASE=/home/ilmari/.perlbrew/libs/33.9d@std"
@INC:
/home/ilmari/.perlbrew/libs/33.9d@std/lib/perl5/x86_64-linux
/home/ilmari/.perlbrew/libs/33.9d@std/lib/perl5
/home/ilmari/perl5/perlbrew/perls/33.9d/lib/site_perl/5.33.9/x86_64-linux
/home/ilmari/perl5/perlbrew/perls/33.9d/lib/site_perl/5.33.9
/home/ilmari/perl5/perlbrew/perls/33.9d/lib/5.33.9/x86_64-linux
/home/ilmari/perl5/perlbrew/perls/33.9d/lib/5.33.9