Finance-Contract v0.011 Perl 5 v5.24.1 x86_64-linux-thread-multi

Status
Pass
From
Slaven Rezić (SREZIC)
Dist
Finance-Contract v0.011
Platform
Perl 5 v5.24.1 x86_64-linux-thread-multi
Date
2017-12-21 20:25:46
ID
20196126-e68d-11e7-aa84-e7cddbbd3a95
This distribution has been tested as part of the CPAN Testers
project, supporting the Perl programming language.  See
http://wiki.cpantesters.org/ for more information or email
questions to cpan-testers-discuss@perl.org


--
Dear Binary.com,

This is a computer-generated report for Finance-Contract-0.011
on perl 5.24.1, created by CPAN-Reporter-1.2018.

Thank you for uploading your work to CPAN.  Congratulations!
All tests were successful.

Sections of this report:

    * Tester comments
    * Program output
    * Prerequisites
    * Environment and other context

------------------------------
TESTER COMMENTS
------------------------------

Additional comments from tester:

none provided

------------------------------
PROGRAM OUTPUT
------------------------------

Output from '/usr/bin/make test':

Skip blib/lib/auto/share/dist/Finance-Contract/contract_categories.yml (unchanged)
Skip blib/lib/auto/share/dist/Finance-Contract/contract_types.yml (unchanged)
PERL_DL_NONLAZY=1 "/opt/perl-5.24.1t/bin/perl" "-MExtUtils::Command::MM" "-MTest::Harness" "-e" "undef *Test::Harness::Switches; test_harness(0, 'blib/lib', 'blib/arch')" t/*.t
t/00-check-deps.t ......... ok
t/00-compile.t ............ ok
# 
# Versions for all modules listed in MYMETA.json (including optional ones):
# 
# === Configure Requires ===
# 
#     Module                  Want    Have
#     ----------------------- ---- -------
#     ExtUtils::MakeMaker     6.48 7.10_02
#     File::ShareDir::Install 0.06    0.11
# 
# === Build Requires ===
# 
#     Module              Want    Have
#     ------------------- ---- -------
#     ExtUtils::MakeMaker  any 7.10_02
# 
# === Test Requires ===
# 
#     Module               Want     Have
#     ------------------- ----- --------
#     ExtUtils::MakeMaker   any  7.10_02
#     File::Spec            any  3.63_01
#     IO::Handle            any     1.36
#     IPC::Open3            any     1.20
#     Test::CheckDeps     0.010    0.010
#     Test::More           0.94 1.302086
# 
# === Test Recommends ===
# 
#     Module         Want     Have
#     ---------- -------- --------
#     CPAN::Meta 2.120900 2.150005
# 
# === Runtime Requires ===
# 
#     Module                                   Want   Have
#     ---------------------------------------- ---- ------
#     Date::Utility                             any   1.08
#     Format::Util::Numbers                     any   0.13
#     Math::Util::CalculatedValue::Validatable  any   0.07
#     Moose                                     any 2.2005
#     Time::Duration::Concise                   any   2.61
#     Time::HiRes                               any 1.9741
#     YAML                                      any   1.23
# 
t/00-report-prereqs.t ..... ok
t/for_shortcode_string.t .. ok
All tests successful.
Files=4, Tests=35,  2 wallclock secs ( 0.03 usr  0.02 sys +  1.15 cusr  0.21 csys =  1.41 CPU)
Result: PASS

------------------------------
PREREQUISITES
------------------------------

Prerequisite modules loaded:

requires:

    Module                                   Need     Have    
    ---------------------------------------- -------- --------
    Date::Utility                            0        1.08    
    Format::Util::Numbers                    0        0.13    
    Math::Util::CalculatedValue::Validatable 0        0.07    
    Moose                                    0        2.2005  
    perl                                     5.010000 5.024001
    Time::Duration::Concise                  0        2.61    
    Time::HiRes                              0        1.9741  
    YAML                                     0        1.23    

build_requires:

    Module                                   Need     Have    
    ---------------------------------------- -------- --------
    ExtUtils::MakeMaker                      0        7.10_02 
    File::Spec                               0        3.63_01 
    IO::Handle                               0        1.36    
    IPC::Open3                               0        1.20    
    Test::CheckDeps                          0.010    0.010   
    Test::More                               0.94     1.302086

configure_requires:

    Module                                   Need     Have    
    ---------------------------------------- -------- --------
    ExtUtils::MakeMaker                      6.48     7.10_02 
    File::ShareDir::Install                  0.06     0.11    

opt_build_requires:

    Module                                   Need     Have    
    ---------------------------------------- -------- --------
    CPAN::Meta                               2.120900 2.150005


------------------------------
ENVIRONMENT AND OTHER CONTEXT
------------------------------

Environment variables:

    LANG = C
    PATH = /usr/local/bin:/usr/bin:/bin:/usr/local/sbin:/usr/sbin:/sbin:/home/cpansand/bin/linux-gnu:/home/cpansand/bin/sh:/home/cpansand/bin:/usr/games:/home/cpansand/devel:/home/eserte/src/srezic-misc/scripts
    PERL5LIB = /home/cpansand/.cpan/build/2017122118/Math-Util-CalculatedValue-0.07-UWDSKs/blib/arch:/home/cpansand/.cpan/build/2017122118/Math-Util-CalculatedValue-0.07-UWDSKs/blib/lib:/home/cpansand/.cpan/build/2017122118/MooseX-Role-Validatable-0.10-RXxjku/blib/arch:/home/cpansand/.cpan/build/2017122118/MooseX-Role-Validatable-0.10-RXxjku/blib/lib:/home/cpansand/.cpan/build/2017122118/MooseX-NonMoose-0.26-mRmHCE/blib/arch:/home/cpansand/.cpan/build/2017122118/MooseX-NonMoose-0.26-mRmHCE/blib/lib:/home/cpansand/.cpan/build/2017122118/Date-Utility-1.08-ExcAdg/blib/arch:/home/cpansand/.cpan/build/2017122118/Date-Utility-1.08-ExcAdg/blib/lib:/home/cpansand/.cpan/build/2017122118/Test-MockTime-0.15-_Q5pEO/blib/arch:/home/cpansand/.cpan/build/2017122118/Test-MockTime-0.15-_Q5pEO/blib/lib:/home/cpansand/.cpan/build/2017122118/Time-Duration-Concise-Localize-2.61-5bguZi/blib/arch:/home/cpansand/.cpan/build/2017122118/Time-Duration-Concise-Localize-2.61-5bguZi/blib/lib:/home/cpansand/.cpan/build/2017122118/Tie-Hash-LRU-0.05-SHYCqQ/blib/arch:/home/cpansand/.cpan/build/2017122118/Tie-Hash-LRU-0.05-SHYCqQ/blib/lib:/home/cpansand/.cpan/build/2017122118/Format-Util-0.13-EbKhHb/blib/arch:/home/cpansand/.cpan/build/2017122118/Format-Util-0.13-EbKhHb/blib/lib
    PERL5OPT = 
    PERL5_CPANPLUS_IS_RUNNING = 23237
    PERL5_CPAN_IS_RUNNING = 23237
    PERL5_CPAN_IS_RUNNING_IN_RECURSION = 17732,23237
    PERLDOC = -MPod::Perldoc::ToTextOverstrike
    PERL_BATCH = yes
    PERL_CANARY_STABILITY_NOPROMPT = 1
    PERL_CPAN_REPORTER_CONFIG = /var/tmp/cpansmoker-1023/2017122118/cpanreporter_001_config.ini
    PERL_EXTUTILS_AUTOINSTALL = --defaultdeps
    SHELL = /usr/bin/zsh
    TERM = screen
    TMPDIR = /var/tmp/cpansmoker-1023/2017122118

Perl special variables (and OS-specific diagnostics, for MSWin32):

    $^X = /opt/perl-5.24.1t/bin/perl
    $UID/$EUID = 1023 / 1023
    $GID = 1023 1023
    $EGID = 1023 1023

Perl module toolchain versions installed:

    Module              Have      
    ------------------- ----------
    CPAN                2.11_01   
    CPAN::Meta          2.150005  
    Cwd                 3.63_01   
    ExtUtils::CBuilder  0.280225  
    ExtUtils::Command   7.10_02   
    ExtUtils::Install   2.04      
    ExtUtils::MakeMaker 7.10_02   
    ExtUtils::Manifest  1.70      
    ExtUtils::ParseXS   3.31      
    File::Spec          3.63_01   
    JSON                2.94      
    JSON::PP            2.27300_01
    Module::Build       0.4224    
    Module::Signature   n/a       
    Parse::CPAN::Meta   1.4417_001
    Test::Harness       3.36_01   
    Test::More          1.302086  
    YAML                1.23      
    YAML::Syck          1.30      
    version             0.9916    


--

Summary of my perl5 (revision 5 version 24 subversion 1) configuration:
   
  Platform:
    osname=linux, osvers=4.9.0-3-amd64, archname=x86_64-linux-thread-multi
    uname='linux debian9 4.9.0-3-amd64 #1 smp debian 4.9.30-2+deb9u1 (2017-06-18) x86_64 gnulinux '
    config_args='-ds -e -Dprefix=/opt/perl-5.24.1t -Dusethreads -Dcf_email=srezic@cpan.org'
    hint=recommended, useposix=true, d_sigaction=define
    useithreads=define, usemultiplicity=define
    use64bitint=define, use64bitall=define, uselongdouble=undef
    usemymalloc=n, bincompat5005=undef
  Compiler:
    cc='cc', ccflags ='-D_REENTRANT -D_GNU_SOURCE -fwrapv -fno-strict-aliasing -pipe -fstack-protector-strong -I/usr/local/include -D_LARGEFILE_SOURCE -D_FILE_OFFSET_BITS=64',
    optimize='-O2',
    cppflags='-D_REENTRANT -D_GNU_SOURCE -fwrapv -fno-strict-aliasing -pipe -fstack-protector-strong -I/usr/local/include'
    ccversion='', gccversion='6.3.0 20170516', gccosandvers=''
    intsize=4, longsize=8, ptrsize=8, doublesize=8, byteorder=12345678, doublekind=3
    d_longlong=define, longlongsize=8, d_longdbl=define, longdblsize=16, longdblkind=3
    ivtype='long', ivsize=8, nvtype='double', nvsize=8, Off_t='off_t', lseeksize=8
    alignbytes=8, prototype=define
  Linker and Libraries:
    ld='cc', ldflags =' -fstack-protector-strong -L/usr/local/lib'
    libpth=/usr/local/lib /usr/lib/gcc/x86_64-linux-gnu/6/include-fixed /usr/include/x86_64-linux-gnu /usr/lib /lib/x86_64-linux-gnu /lib/../lib /usr/lib/x86_64-linux-gnu /usr/lib/../lib /lib
    libs=-lpthread -lnsl -lgdbm -ldb -ldl -lm -lcrypt -lutil -lc -lgdbm_compat
    perllibs=-lpthread -lnsl -ldl -lm -lcrypt -lutil -lc
    libc=libc-2.24.so, so=so, useshrplib=false, libperl=libperl.a
    gnulibc_version='2.24'
  Dynamic Linking:
    dlsrc=dl_dlopen.xs, dlext=so, d_dlsymun=undef, ccdlflags='-Wl,-E'
    cccdlflags='-fPIC', lddlflags='-shared -O2 -L/usr/local/lib -fstack-protector-strong'


Characteristics of this binary (from libperl): 
  Compile-time options: HAS_TIMES MULTIPLICITY PERLIO_LAYERS
                        PERL_COPY_ON_WRITE PERL_DONT_CREATE_GVSV
                        PERL_HASH_FUNC_ONE_AT_A_TIME_HARD
                        PERL_IMPLICIT_CONTEXT PERL_MALLOC_WRAP
                        PERL_PRESERVE_IVUV USE_64_BIT_ALL USE_64_BIT_INT
                        USE_ITHREADS USE_LARGE_FILES USE_LOCALE
                        USE_LOCALE_COLLATE USE_LOCALE_CTYPE
                        USE_LOCALE_NUMERIC USE_LOCALE_TIME USE_PERLIO
                        USE_PERL_ATOF USE_REENTRANT_API
  Locally applied patches:
	Devel::PatchPerl 1.48
  Built under linux
  Compiled at Jun 25 2017 14:39:12
  %ENV:
    PERL5LIB="/home/cpansand/.cpan/build/2017122118/Math-Util-CalculatedValue-0.07-UWDSKs/blib/arch:/home/cpansand/.cpan/build/2017122118/Math-Util-CalculatedValue-0.07-UWDSKs/blib/lib:/home/cpansand/.cpan/build/2017122118/MooseX-Role-Validatable-0.10-RXxjku/blib/arch:/home/cpansand/.cpan/build/2017122118/MooseX-Role-Validatable-0.10-RXxjku/blib/lib:/home/cpansand/.cpan/build/2017122118/MooseX-NonMoose-0.26-mRmHCE/blib/arch:/home/cpansand/.cpan/build/2017122118/MooseX-NonMoose-0.26-mRmHCE/blib/lib:/home/cpansand/.cpan/build/2017122118/Date-Utility-1.08-ExcAdg/blib/arch:/home/cpansand/.cpan/build/2017122118/Date-Utility-1.08-ExcAdg/blib/lib:/home/cpansand/.cpan/build/2017122118/Test-MockTime-0.15-_Q5pEO/blib/arch:/home/cpansand/.cpan/build/2017122118/Test-MockTime-0.15-_Q5pEO/blib/lib:/home/cpansand/.cpan/build/2017122118/Time-Duration-Concise-Localize-2.61-5bguZi/blib/arch:/home/cpansand/.cpan/build/2017122118/Time-Duration-Concise-Localize-2.61-5bguZi/blib/lib:/home/cpansand/.cpan/build/2017122118/Tie-Hash-LRU-0.05-SHYCqQ/blib/arch:/home/cpansand/.cpan/build/2017122118/Tie-Hash-LRU-0.05-SHYCqQ/blib/lib:/home/cpansand/.cpan/build/2017122118/Format-Util-0.13-EbKhHb/blib/arch:/home/cpansand/.cpan/build/2017122118/Format-Util-0.13-EbKhHb/blib/lib"
    PERL5OPT=""
    PERL5_CPANPLUS_IS_RUNNING="23237"
    PERL5_CPAN_IS_RUNNING="23237"
    PERL5_CPAN_IS_RUNNING_IN_RECURSION="17732,23237"
    PERLDOC="-MPod::Perldoc::ToTextOverstrike"
    PERL_BATCH="yes"
    PERL_CANARY_STABILITY_NOPROMPT="1"
    PERL_CPAN_REPORTER_CONFIG="/var/tmp/cpansmoker-1023/2017122118/cpanreporter_001_config.ini"
    PERL_EXTUTILS_AUTOINSTALL="--defaultdeps"
  @INC:
    /home/cpansand/.cpan/build/2017122118/Math-Util-CalculatedValue-0.07-UWDSKs/blib/arch
    /home/cpansand/.cpan/build/2017122118/Math-Util-CalculatedValue-0.07-UWDSKs/blib/lib
    /home/cpansand/.cpan/build/2017122118/MooseX-Role-Validatable-0.10-RXxjku/blib/arch
    /home/cpansand/.cpan/build/2017122118/MooseX-Role-Validatable-0.10-RXxjku/blib/lib
    /home/cpansand/.cpan/build/2017122118/MooseX-NonMoose-0.26-mRmHCE/blib/arch
    /home/cpansand/.cpan/build/2017122118/MooseX-NonMoose-0.26-mRmHCE/blib/lib
    /home/cpansand/.cpan/build/2017122118/Date-Utility-1.08-ExcAdg/blib/arch
    /home/cpansand/.cpan/build/2017122118/Date-Utility-1.08-ExcAdg/blib/lib
    /home/cpansand/.cpan/build/2017122118/Test-MockTime-0.15-_Q5pEO/blib/arch
    /home/cpansand/.cpan/build/2017122118/Test-MockTime-0.15-_Q5pEO/blib/lib
    /home/cpansand/.cpan/build/2017122118/Time-Duration-Concise-Localize-2.61-5bguZi/blib/arch
    /home/cpansand/.cpan/build/2017122118/Time-Duration-Concise-Localize-2.61-5bguZi/blib/lib
    /home/cpansand/.cpan/build/2017122118/Tie-Hash-LRU-0.05-SHYCqQ/blib/arch
    /home/cpansand/.cpan/build/2017122118/Tie-Hash-LRU-0.05-SHYCqQ/blib/lib
    /home/cpansand/.cpan/build/2017122118/Format-Util-0.13-EbKhHb/blib/arch
    /home/cpansand/.cpan/build/2017122118/Format-Util-0.13-EbKhHb/blib/lib
    /opt/perl-5.24.1t/lib/site_perl/5.24.1/x86_64-linux-thread-multi
    /opt/perl-5.24.1t/lib/site_perl/5.24.1
    /opt/perl-5.24.1t/lib/5.24.1/x86_64-linux-thread-multi
    /opt/perl-5.24.1t/lib/5.24.1
    .