Alien-automake v0.18 Perl 5 v5.34.0 x86_64-linux
- Status
- Pass
- From
- Andreas J. König (ANDK)
- Dist
-
Alien-automake v0.18
- Platform
- Perl 5 v5.34.0 x86_64-linux
- Date
- 2022-08-12 00:31:37
- ID
- 202c64d4-19d6-11ed-bf6a-fffd4fef0e9f
This distribution has been tested as part of the CPAN Testers
project, supporting the Perl programming language. See
http://wiki.cpantesters.org/ for more information or email
questions to cpan-testers-discuss@perl.org
--
Dear Graham Ollis,
This is a computer-generated report for Alien-automake-0.18
on perl 5.34.0, created by CPAN-Reporter-1.2018.
Thank you for uploading your work to CPAN. Congratulations!
All tests were successful.
Sections of this report:
* Tester comments
* Program output
* Prerequisites
* Environment and other context
------------------------------
TESTER COMMENTS
------------------------------
Additional comments from tester:
this report is from an automated smoke testing program
and was not reviewed by a human for accuracy
------------------------------
PROGRAM OUTPUT
------------------------------
Output from '/usr/bin/make test':
"/home/sand/src/perl/repoperls/installed-perls/host/k93msid/v5.34.0/bb7f/bin/perl" -MAlien::Build::MM=cmd -e test
PERL_DL_NONLAZY=1 "/home/sand/src/perl/repoperls/installed-perls/host/k93msid/v5.34.0/bb7f/bin/perl" "-MExtUtils::Command::MM" "-MTest::Harness" "-e" "undef *Test::Harness::Switches; test_harness(0, 'blib/lib', 'blib/arch')" t/*.t
#
#
#
# HARNESS_ACTIVE=1
# HARNESS_VERSION=3.44
# LANG=en_US.UTF-8
# PERL5LIB=/tmp/loop_over_bdir-738329-jZI7kf/Alien-automake-0.18-0/blib/lib:/tmp/loop_over_bdir-738329-jZI7kf/Alien-automake-0.18-0/blib/arch:
# PERL5OPT=
# PERL5_CPANPLUS_IS_RUNNING=2683760
# PERL5_CPAN_IS_RUNNING=2683760
# PERL_CANARY_STABILITY_NOPROMPT=1
# PERL_DL_NONLAZY=1
# PERL_MM_USE_DEFAULT=1
# PERL_USE_UNSAFE_INC=1
# SHELL=/usr/bin/zsh
#
#
#
# PERL5LIB path
# /tmp/loop_over_bdir-738329-jZI7kf/Alien-automake-0.18-0/blib/lib
# /tmp/loop_over_bdir-738329-jZI7kf/Alien-automake-0.18-0/blib/arch
#
#
#
# perl 5.034000 linux x86_64-linux
# Alien::Base 2.52
# Alien::Build 2.52
# Alien::Build::MM 2.52
# Alien::Build::Plugin::Build::Autoconf 2.52
# Alien::Build::Plugin::Build::MSYS 2.52
# Alien::autoconf 0.17
# Env 1.05
# ExtUtils::MakeMaker 7.64
# Test2::V0 0.000145
# Test::Alien 2.52
# Test::More 1.302191
#
#
#
t/00_diag.t ......... ok
t/01_use.t .......... ok
t/alien_automake.t .. ok
All tests successful.
Files=3, Tests=7, 4 wallclock secs ( 0.03 usr 0.04 sys + 1.22 cusr 0.78 csys = 2.07 CPU)
Result: PASS
------------------------------
PREREQUISITES
------------------------------
Prerequisite modules loaded:
requires:
Module Need Have
------------------------------------- -------- --------
Alien::Base 0.038 2.52
Alien::Build 0.25 2.52
perl 5.008001 5.034000
build_requires:
Module Need Have
------------------------------------- -------- --------
Alien::autoconf 0.05 0.17
Alien::Build 0.49 2.52
Alien::Build::MM 0.32 2.52
Alien::Build::Plugin::Build::Autoconf 0.47 2.52
Alien::m4 0.11 0.21
Archive::Tar 0 2.40
Config 0 5.034000
Env 0 1.05
ExtUtils::MakeMaker 6.52 7.64
HTTP::Tiny 0.044 0.081
IO::Socket::SSL 1.56 2.074
IO::Zlib 0 1.11
Mojo::DOM58 1.00 3.001
Net::SSLeay 1.49 1.92
Path::Tiny 0.077 0.122
Sort::Versions 0 1.62
Test2::V0 0.000121 0.000145
Test::Alien 2.52 2.52
Test::More 0.98 1.302191
URI 0 5.10
URI::Escape 0 5.10
configure_requires:
Module Need Have
------------------------------------- -------- --------
Alien::Build 0.32 2.52
Alien::Build::MM 0.32 2.52
Alien::Build::Plugin::Build::MSYS 0.84 2.52
ExtUtils::MakeMaker 6.52 7.64
perl 5.008001 5.034000
------------------------------
ENVIRONMENT AND OTHER CONTEXT
------------------------------
Environment variables:
AUTOMATED_TESTING = 1
LANG = en_US.UTF-8
LANGUAGE = en_US:en
PATH = /home/sand/bin:/usr/local/bin:/usr/bin:/bin:/usr/games:/usr/local/perl/bin:/usr/X11/bin:/sbin:/usr/sbin
PERL5LIB =
PERL5OPT =
PERL5_CPANPLUS_IS_RUNNING = 2683760
PERL5_CPAN_IS_RUNNING = 2683760
PERL_CANARY_STABILITY_NOPROMPT = 1
PERL_MM_USE_DEFAULT = 1
PERL_USE_UNSAFE_INC = 1
SHELL = /usr/bin/zsh
TERM = screen
Perl special variables (and OS-specific diagnostics, for MSWin32):
$^X = /home/sand/src/perl/repoperls/installed-perls/host/k93msid/v5.34.0/bb7f/bin/perl
$UID/$EUID = 1005 / 1005
$GID = 1005 1005
$EGID = 1005 1005
Perl module toolchain versions installed:
Module Have
------------------- --------
CPAN 2.34
CPAN::Meta 2.150010
Cwd 3.80
ExtUtils::CBuilder 0.280236
ExtUtils::Command 7.64
ExtUtils::Install 2.20
ExtUtils::MakeMaker 7.64
ExtUtils::Manifest 1.73
ExtUtils::ParseXS 3.43
File::Spec 3.80
JSON 4.07
JSON::PP 4.10
Module::Build 0.4231
Module::Signature 0.88
Parse::CPAN::Meta 2.150010
Test::Harness 3.44
Test::More 1.302191
YAML 1.30
YAML::Syck 1.34
version 0.9929
--
Summary of my perl5 (revision 5 version 34 subversion 0) configuration:
Commit id: 79a7b254d85a10b65126ad99bf10e70480569d68
Platform:
osname=linux
osvers=5.16.0-6-amd64
archname=x86_64-linux
uname='linux k93msid 5.16.0-6-amd64 #1 smp preempt debian 5.16.18-1 (2022-03-29) x86_64 gnulinux '
config_args='-Dprefix=/home/sand/src/perl/repoperls/installed-perls/host/k93msid/v5.34.0/bb7f -Dmyhostname=k93msid -Dinstallusrbinperl=n -Uversiononly -Dusedevel -des -Ui_db -Dlibswanted=cl pthread socket inet nsl gdbm dbm malloc dl ld sun m crypt sec util c cposix posix ucb BSD gdbm_compat -Uuseithreads -Uuselongdouble -DEBUGGING=both'
hint=recommended
useposix=true
d_sigaction=define
useithreads=undef
usemultiplicity=undef
use64bitint=define
use64bitall=define
uselongdouble=undef
usemymalloc=n
default_inc_excludes_dot=define
Compiler:
cc='cc'
ccflags ='-fwrapv -DDEBUGGING -fno-strict-aliasing -pipe -fstack-protector-strong -I/usr/local/include -D_LARGEFILE_SOURCE -D_FILE_OFFSET_BITS=64 -D_FORTIFY_SOURCE=2'
optimize='-O2 -g'
cppflags='-fwrapv -DDEBUGGING -fno-strict-aliasing -pipe -fstack-protector-strong -I/usr/local/include'
ccversion=''
gccversion='11.2.0'
gccosandvers=''
intsize=4
longsize=8
ptrsize=8
doublesize=8
byteorder=12345678
doublekind=3
d_longlong=define
longlongsize=8
d_longdbl=define
longdblsize=16
longdblkind=3
ivtype='long'
ivsize=8
nvtype='double'
nvsize=8
Off_t='off_t'
lseeksize=8
alignbytes=8
prototype=define
Linker and Libraries:
ld='cc'
ldflags =' -fstack-protector-strong -L/usr/local/lib'
libpth=/usr/local/lib /usr/lib/x86_64-linux-gnu /usr/lib /lib/x86_64-linux-gnu /lib
libs=-lpthread -lnsl -ldl -lm -lcrypt -lutil -lc
perllibs=-lpthread -lnsl -ldl -lm -lcrypt -lutil -lc
libc=libc-2.33.so
so=so
useshrplib=false
libperl=libperl.a
gnulibc_version='2.33'
Dynamic Linking:
dlsrc=dl_dlopen.xs
dlext=so
d_dlsymun=undef
ccdlflags='-Wl,-E'
cccdlflags='-fPIC'
lddlflags='-shared -O2 -g -L/usr/local/lib -fstack-protector-strong'
Characteristics of this binary (from libperl):
Compile-time options:
DEBUGGING
HAS_TIMES
PERLIO_LAYERS
PERL_COPY_ON_WRITE
PERL_DONT_CREATE_GVSV
PERL_MALLOC_WRAP
PERL_OP_PARENT
PERL_PRESERVE_IVUV
PERL_USE_DEVEL
USE_64_BIT_ALL
USE_64_BIT_INT
USE_LARGE_FILES
USE_LOCALE
USE_LOCALE_COLLATE
USE_LOCALE_CTYPE
USE_LOCALE_NUMERIC
USE_LOCALE_TIME
USE_PERLIO
USE_PERL_ATOF
Built under linux
Compiled at Apr 24 2022 08:37:31
%ENV:
PERL5LIB=""
PERL5OPT=""
PERL5_CPANPLUS_IS_RUNNING="2683760"
PERL5_CPAN_IS_RUNNING="2683760"
PERL_CANARY_STABILITY_NOPROMPT="1"
PERL_MM_USE_DEFAULT="1"
PERL_USE_UNSAFE_INC="1"
@INC:
/home/sand/src/perl/repoperls/installed-perls/host/k93msid/v5.34.0/bb7f/lib/site_perl/5.34.0/x86_64-linux
/home/sand/src/perl/repoperls/installed-perls/host/k93msid/v5.34.0/bb7f/lib/site_perl/5.34.0
/home/sand/src/perl/repoperls/installed-perls/host/k93msid/v5.34.0/bb7f/lib/5.34.0/x86_64-linux
/home/sand/src/perl/repoperls/installed-perls/host/k93msid/v5.34.0/bb7f/lib/5.34.0
.