Crypt-OpenSSL-RSA v0.30 Perl 5 v5.24.3 x86_64-linux
- Status
- Pass
- From
- Nigel Horne
- Dist
-
Crypt-OpenSSL-RSA v0.30
- Platform
- Perl 5 v5.24.3 x86_64-linux
- Date
- 2018-05-10 21:07:19
- ID
- 20359cb6-5496-11e8-9da6-f703c768dc7a
This distribution has been tested as part of the CPAN Testers
project, supporting the Perl programming language. See
http://wiki.cpantesters.org/ for more information or email
questions to cpan-testers-discuss@perl.org
--
Dear Todd Rinaldo,
This is a computer-generated report for Crypt-OpenSSL-RSA-0.30
on perl 5.24.3, created by CPAN-Reporter-1.2018.
Thank you for uploading your work to CPAN. Congratulations!
All tests were successful.
Sections of this report:
* Tester comments
* Program output
* Prerequisites
* Environment and other context
------------------------------
TESTER COMMENTS
------------------------------
Additional comments from tester:
this report is from an automated smoke testing program
and was not reviewed by a human for accuracy
------------------------------
PROGRAM OUTPUT
------------------------------
Output from '/usr/bin/make test':
"/home/njh/perl5/perlbrew/perls/perl-5.24.3/bin/perl5.24.3" -MExtUtils::Command::MM -e 'cp_nonempty' -- RSA.bs blib/arch/auto/Crypt/OpenSSL/RSA/RSA.bs 644
PERL_DL_NONLAZY=1 "/home/njh/perl5/perlbrew/perls/perl-5.24.3/bin/perl5.24.3" "-MExtUtils::Command::MM" "-MTest::Harness" "-e" "undef *Test::Harness::Switches; test_harness(0, 'blib/lib', 'blib/arch')" t/*.t
t/format.t .................. ok
t/bignum.t .................. skipped: Crypt::OpenSSL::Bignum required for bignum tests
t/z_kwalitee.t .............. skipped: This test is only run for the module author
t/rsa.t ..................... ok
t/z_meta.t .................. skipped: This test is only run for the module author
t/z_perl_minimum_version.t .. skipped: Author tests not required for installation
t/z_pod-coverage.t .......... skipped: This test is only run for the module author
t/z_pod.t ................... skipped: This test is only run for the module author
All tests successful.
Files=8, Tests=73, 1 wallclock secs ( 0.03 usr 0.03 sys + 0.54 cusr 0.13 csys = 0.73 CPU)
Result: PASS
------------------------------
PREREQUISITES
------------------------------
Prerequisite modules loaded:
requires:
Module Need Have
---------------------- ----- --------
Crypt::OpenSSL::Random 0 0.15
perl 5.006 5.024003
Test::More 0 1.302106
build_requires:
Module Need Have
---------------------- ----- --------
ExtUtils::MakeMaker 0 7.30
configure_requires:
Module Need Have
---------------------- ----- --------
Crypt::OpenSSL::Guess 0.11 0.11
ExtUtils::MakeMaker 0 7.30
------------------------------
ENVIRONMENT AND OTHER CONTEXT
------------------------------
Environment variables:
AUTOMATED_TESTING = 1
HARNESS_OPTIONS = j2
LANG = en_US.UTF-8
PATH = /home/njh/perl5/perlbrew/bin:/home/njh/perl5/perlbrew/perls/perl-5.24.3/bin:src/njh/smoker/bin:/usr/bin:/bin
PERL5LIB = /home/njh/.cpan/build/Crypt-OpenSSL-Random-0.15-xBJm8u/blib/arch:/home/njh/.cpan/build/Crypt-OpenSSL-Random-0.15-xBJm8u/blib/lib:/home/njh/.cpan/build/Crypt-OpenSSL-Guess-0.11-L46pIY/blib/arch:/home/njh/.cpan/build/Crypt-OpenSSL-Guess-0.11-L46pIY/blib/lib:/home/njh/.cpan/build/XML-CanonicalizeXML-0.10-WLYUZK/blib/arch:/home/njh/.cpan/build/XML-CanonicalizeXML-0.10-WLYUZK/blib/lib:/home/njh/.cpan/build/Module-Build-Tiny-0.039-_Y7k57/blib/arch:/home/njh/.cpan/build/Module-Build-Tiny-0.039-_Y7k57/blib/lib:/home/njh/.cpan/build/ExtUtils-InstallPaths-0.012-Hloym6/blib/arch:/home/njh/.cpan/build/ExtUtils-InstallPaths-0.012-Hloym6/blib/lib:/home/njh/.cpan/build/ExtUtils-Config-0.008-jAWI_R/blib/arch:/home/njh/.cpan/build/ExtUtils-Config-0.008-jAWI_R/blib/lib:/home/njh/.cpan/build/ExtUtils-Helpers-0.026-iaQcYh/blib/arch:/home/njh/.cpan/build/ExtUtils-Helpers-0.026-iaQcYh/blib/lib
PERL5OPT =
PERL5_CPANPLUS_IS_RUNNING = 32257
PERL5_CPAN_IS_RUNNING = 32257
PERLBREW_HOME = /home/njh/.perlbrew
PERLBREW_MANPATH = /home/njh/perl5/perlbrew/perls/perl-5.24.3/man
PERLBREW_PATH = /home/njh/perl5/perlbrew/bin:/home/njh/perl5/perlbrew/perls/perl-5.24.3/bin
PERLBREW_PERL = perl-5.24.3
PERLBREW_ROOT = /home/njh/perl5/perlbrew
PERLBREW_SHELLRC_VERSION = 0.82
PERLBREW_VERSION = 0.82
SHELL = /bin/sh
TMPDIR = /tmp/testwrapper.32247
Perl special variables (and OS-specific diagnostics, for MSWin32):
$^X = /home/njh/perl5/perlbrew/perls/perl-5.24.3/bin/perl5.24.3
$UID/$EUID = 1000 / 1000
$GID = 1000 4 24 25 29 30 44 46 103 108 115 123 1000
$EGID = 1000 4 24 25 29 30 44 46 103 108 115 123 1000
Perl module toolchain versions installed:
Module Have
------------------- ----------
CPAN 2.11_01
CPAN::Meta 2.150005
Cwd 3.63_01
ExtUtils::CBuilder 0.280225
ExtUtils::Command 7.30
ExtUtils::Install 2.06
ExtUtils::MakeMaker 7.30
ExtUtils::Manifest 1.70
ExtUtils::ParseXS 3.31
File::Spec 3.63_01
JSON n/a
JSON::PP 2.27300_01
Module::Build 0.4224
Module::Signature n/a
Parse::CPAN::Meta 1.4417_001
Test::Harness 3.36_01
Test::More 1.302106
YAML n/a
YAML::Syck n/a
version 0.9916
--
Summary of my perl5 (revision 5 version 24 subversion 3) configuration:
Platform:
osname=linux, osvers=4.9.0-3-amd64, archname=x86_64-linux
uname='linux amelia 4.9.0-3-amd64 #1 smp debian 4.9.25-1 (2017-05-02) x86_64 gnulinux '
config_args='-de -Dprefix=/home/njh/perl5/perlbrew/perls/perl-5.24.3 -Dusedevel -Accflags= -Aeval:scriptdir=/home/njh/perl5/perlbrew/perls/perl-5.24.3/bin'
hint=recommended, useposix=true, d_sigaction=define
useithreads=undef, usemultiplicity=undef
use64bitint=define, use64bitall=define, uselongdouble=undef
usemymalloc=n, bincompat5005=undef
Compiler:
cc='cc', ccflags ='-fwrapv -fno-strict-aliasing -pipe -fstack-protector-strong -I/usr/local/include -D_LARGEFILE_SOURCE -D_FILE_OFFSET_BITS=64 -D_FORTIFY_SOURCE=2',
optimize='-O2',
cppflags='-fwrapv -fno-strict-aliasing -pipe -fstack-protector-strong -I/usr/local/include'
ccversion='', gccversion='7.2.0', gccosandvers=''
intsize=4, longsize=8, ptrsize=8, doublesize=8, byteorder=12345678, doublekind=3
d_longlong=define, longlongsize=8, d_longdbl=define, longdblsize=16, longdblkind=3
ivtype='long', ivsize=8, nvtype='double', nvsize=8, Off_t='off_t', lseeksize=8
alignbytes=8, prototype=define
Linker and Libraries:
ld='cc', ldflags =' -fstack-protector-strong -L/usr/local/lib'
libpth=/usr/local/lib /usr/lib/gcc/x86_64-linux-gnu/7/include-fixed /usr/include/x86_64-linux-gnu /usr/lib /lib/x86_64-linux-gnu /lib/../lib /usr/lib/x86_64-linux-gnu /usr/lib/../lib /lib /lib64 /usr/lib64
libs=-lpthread -lnsl -lgdbm -ldb -ldl -lm -lcrypt -lutil -lc -lgdbm_compat
perllibs=-lpthread -lnsl -ldl -lm -lcrypt -lutil -lc
libc=libc-2.24.so, so=so, useshrplib=false, libperl=libperl.a
gnulibc_version='2.24'
Dynamic Linking:
dlsrc=dl_dlopen.xs, dlext=so, d_dlsymun=undef, ccdlflags='-Wl,-E'
cccdlflags='-fPIC', lddlflags='-shared -O2 -L/usr/local/lib -fstack-protector-strong'
Characteristics of this binary (from libperl):
Compile-time options: HAS_TIMES PERLIO_LAYERS PERL_COPY_ON_WRITE
PERL_DONT_CREATE_GVSV
PERL_HASH_FUNC_ONE_AT_A_TIME_HARD PERL_MALLOC_WRAP
PERL_PRESERVE_IVUV PERL_USE_DEVEL USE_64_BIT_ALL
USE_64_BIT_INT USE_LARGE_FILES USE_LOCALE
USE_LOCALE_COLLATE USE_LOCALE_CTYPE
USE_LOCALE_NUMERIC USE_LOCALE_TIME USE_PERLIO
USE_PERL_ATOF
Built under linux
Compiled at Oct 5 2017 00:33:18
%ENV:
PERL5LIB="/home/njh/.cpan/build/Crypt-OpenSSL-Random-0.15-xBJm8u/blib/arch:/home/njh/.cpan/build/Crypt-OpenSSL-Random-0.15-xBJm8u/blib/lib:/home/njh/.cpan/build/Crypt-OpenSSL-Guess-0.11-L46pIY/blib/arch:/home/njh/.cpan/build/Crypt-OpenSSL-Guess-0.11-L46pIY/blib/lib:/home/njh/.cpan/build/XML-CanonicalizeXML-0.10-WLYUZK/blib/arch:/home/njh/.cpan/build/XML-CanonicalizeXML-0.10-WLYUZK/blib/lib:/home/njh/.cpan/build/Module-Build-Tiny-0.039-_Y7k57/blib/arch:/home/njh/.cpan/build/Module-Build-Tiny-0.039-_Y7k57/blib/lib:/home/njh/.cpan/build/ExtUtils-InstallPaths-0.012-Hloym6/blib/arch:/home/njh/.cpan/build/ExtUtils-InstallPaths-0.012-Hloym6/blib/lib:/home/njh/.cpan/build/ExtUtils-Config-0.008-jAWI_R/blib/arch:/home/njh/.cpan/build/ExtUtils-Config-0.008-jAWI_R/blib/lib:/home/njh/.cpan/build/ExtUtils-Helpers-0.026-iaQcYh/blib/arch:/home/njh/.cpan/build/ExtUtils-Helpers-0.026-iaQcYh/blib/lib"
PERL5OPT=""
PERL5_CPANPLUS_IS_RUNNING="32257"
PERL5_CPAN_IS_RUNNING="32257"
PERLBREW_HOME="/home/njh/.perlbrew"
PERLBREW_MANPATH="/home/njh/perl5/perlbrew/perls/perl-5.24.3/man"
PERLBREW_PATH="/home/njh/perl5/perlbrew/bin:/home/njh/perl5/perlbrew/perls/perl-5.24.3/bin"
PERLBREW_PERL="perl-5.24.3"
PERLBREW_ROOT="/home/njh/perl5/perlbrew"
PERLBREW_SHELLRC_VERSION="0.82"
PERLBREW_VERSION="0.82"
@INC:
/home/njh/.cpan/build/Crypt-OpenSSL-Random-0.15-xBJm8u/blib/arch
/home/njh/.cpan/build/Crypt-OpenSSL-Random-0.15-xBJm8u/blib/lib
/home/njh/.cpan/build/Crypt-OpenSSL-Guess-0.11-L46pIY/blib/arch
/home/njh/.cpan/build/Crypt-OpenSSL-Guess-0.11-L46pIY/blib/lib
/home/njh/.cpan/build/XML-CanonicalizeXML-0.10-WLYUZK/blib/arch
/home/njh/.cpan/build/XML-CanonicalizeXML-0.10-WLYUZK/blib/lib
/home/njh/.cpan/build/Module-Build-Tiny-0.039-_Y7k57/blib/arch
/home/njh/.cpan/build/Module-Build-Tiny-0.039-_Y7k57/blib/lib
/home/njh/.cpan/build/ExtUtils-InstallPaths-0.012-Hloym6/blib/arch
/home/njh/.cpan/build/ExtUtils-InstallPaths-0.012-Hloym6/blib/lib
/home/njh/.cpan/build/ExtUtils-Config-0.008-jAWI_R/blib/arch
/home/njh/.cpan/build/ExtUtils-Config-0.008-jAWI_R/blib/lib
/home/njh/.cpan/build/ExtUtils-Helpers-0.026-iaQcYh/blib/arch
/home/njh/.cpan/build/ExtUtils-Helpers-0.026-iaQcYh/blib/lib
/home/njh/perl5/perlbrew/perls/perl-5.24.3/lib/site_perl/5.24.3/x86_64-linux
/home/njh/perl5/perlbrew/perls/perl-5.24.3/lib/site_perl/5.24.3
/home/njh/perl5/perlbrew/perls/perl-5.24.3/lib/5.24.3/x86_64-linux
/home/njh/perl5/perlbrew/perls/perl-5.24.3/lib/5.24.3
.