Report for Git-DescribeVersion-1.000010

Back
From: metabase:user:30977d10-2aae-11df-837a-5e0a49663a4f
Subject: PASS Git-DescribeVersion-1.000010 v5.12.1 GNU/Linux
Date: 2010-12-08T18:15:24Z

This distribution has been tested as part of the CPAN Testers
project, supporting the Perl programming language.  See
http://wiki.cpantesters.org/ for more information or email
questions to cpan-testers-discuss@perl.org


--
Dear Randy Stauner,

This is a computer-generated report for Git-DescribeVersion-1.000010
on perl 5.12.1, created by CPAN-Reporter-1.1803.

Thank you for uploading your work to CPAN.  Congratulations!
All tests were successful.

Sections of this report:

    * Tester comments
    * Program output
    * Prerequisites
    * Environment and other context

------------------------------
TESTER COMMENTS
------------------------------

Additional comments from tester:

this report is from an automated smoke testing program
and was not reviewed by a human for accuracy

------------------------------
PROGRAM OUTPUT
------------------------------

Output from '/usr/bin/make test':

PERL_DL_NONLAZY=1 /home/stro/perl/perl5121th/bin/perl "-MExtUtils::Command::MM" "-e" "test_harness(0, 'blib/lib', 'blib/arch')" t/*.t
t/00-compile.t ............... ok
t/app.t ...................... ok
t/author-wrappers.t .......... skipped: these tests are for testing by the author
t/count-objects.t ............ ok
t/describe.t ................. ok
t/parse_version.t ............ ok
t/release-distmeta.t ......... skipped: these tests are for release candidate testing
t/release-kwalitee.t ......... skipped: these tests are for release candidate testing
t/release-minimum-version.t .. skipped: these tests are for release candidate testing
t/release-pod-coverage.t ..... skipped: these tests are for release candidate testing
t/release-pod-spell.t ........ skipped: these tests are for release candidate testing
t/release-pod-syntax.t ....... skipped: these tests are for release candidate testing
t/release-portability.t ...... skipped: these tests are for release candidate testing
t/wrappers.t ................. ok
All tests successful.
Files=14, Tests=2148,  4 wallclock secs ( 0.10 usr  0.10 sys +  0.88 cusr  1.20 csys =  2.28 CPU)
Result: PASS

------------------------------
PREREQUISITES
------------------------------

Prerequisite modules loaded:

requires:

    Module                    Need  Have    
    ------------------------- ----- --------
    perl                      5.006 5.012001
    version                   0.77  0.82    

build_requires:

    Module                    Need  Have    
    ------------------------- ----- --------
    Exporter                  0     5.64_01 
    File::Find                0     1.15    
    File::Temp                0     0.22    
    FindBin                   0     1.50    
    Test::MockObject          0     1.09    
    Test::MockObject::Extends 1.09  1.09    
    Test::More                0.96  0.96    

configure_requires:

    Module                    Need  Have    
    ------------------------- ----- --------
    ExtUtils::MakeMaker       6.31  6.56    


------------------------------
ENVIRONMENT AND OTHER CONTEXT
------------------------------

Environment variables:

    AUTOMATED_TESTING = 1
    LANG = en_US.UTF-8
    PATH = /usr/local/bin:/usr/bin:/bin:/usr/games
    PERL5LIB = 
    PERL5OPT = 
    PERL5_CPANPLUS_IS_RUNNING = 15990
    PERL5_CPAN_IS_RUNNING = 15990
    PERL5_CPAN_IS_RUNNING_IN_RECURSION = 25550,15990
    PERL_CR_SMOKER_CURRENT = Git-DescribeVersion-1.000010
    PERL_EXTUTILS_AUTOINSTALL = --defaultdeps
    PERL_MM_USE_DEFAULT = 1
    SHELL = /bin/bash
    TERM = xterm

Perl special variables (and OS-specific diagnostics, for MSWin32):

    $^X = /home/stro/perl/perl5121th/bin/perl
    $UID/$EUID = 1000 / 1000
    $GID = 1000 20 24 25 29 44 46 1000
    $EGID = 1000 20 24 25 29 44 46 1000

Perl module toolchain versions installed:

    Module              Have   
    ------------------- -------
    CPAN                1.94_56
    Cwd                 3.33   
    ExtUtils::CBuilder  0.2703 
    ExtUtils::Command   1.16   
    ExtUtils::Install   1.55   
    ExtUtils::MakeMaker 6.56   
    ExtUtils::Manifest  1.58   
    ExtUtils::ParseXS   2.2206 
    File::Spec          3.33   
    Module::Build       0.36_17
    Module::Signature   0.66   
    Test::Harness       3.22   
    Test::More          0.96   
    YAML                0.72   
    YAML::Syck          1.14   
    version             0.82   


--

Summary of my perl5 (revision 5 version 12 subversion 1) configuration:
   
  Platform:
    osname=linux, osvers=2.6.26-2-686, archname=i686-linux-thread-multi
    uname='linux debian5 2.6.26-2-686 #1 smp wed may 12 21:56:10 utc 2010 i686 gnulinux '
    config_args=''
    hint=recommended, useposix=true, d_sigaction=define
    useithreads=define, usemultiplicity=define
    useperlio=define, d_sfio=undef, uselargefiles=define, usesocks=undef
    use64bitint=undef, use64bitall=undef, uselongdouble=undef
    usemymalloc=n, bincompat5005=undef
  Compiler:
    cc='cc', ccflags ='-D_REENTRANT -D_GNU_SOURCE -fno-strict-aliasing -pipe -fstack-protector -I/usr/local/include -D_LARGEFILE_SOURCE -D_FILE_OFFSET_BITS=64',
    optimize='-O2',
    cppflags='-D_REENTRANT -D_GNU_SOURCE -fno-strict-aliasing -pipe -fstack-protector -I/usr/local/include'
    ccversion='', gccversion='4.3.2', gccosandvers=''
    intsize=4, longsize=4, ptrsize=4, doublesize=8, byteorder=1234
    d_longlong=define, longlongsize=8, d_longdbl=define, longdblsize=12
    ivtype='long', ivsize=4, nvtype='double', nvsize=8, Off_t='off_t', lseeksize=8
    alignbytes=4, prototype=define
  Linker and Libraries:
    ld='cc', ldflags =' -fstack-protector -L/usr/local/lib'
    libpth=/usr/local/lib /lib /usr/lib
    libs=-lnsl -ldb -ldl -lm -lcrypt -lutil -lpthread -lc
    perllibs=-lnsl -ldl -lm -lcrypt -lutil -lpthread -lc
    libc=/lib/libc-2.7.so, so=so, useshrplib=false, libperl=libperl.a
    gnulibc_version='2.7'
  Dynamic Linking:
    dlsrc=dl_dlopen.xs, dlext=so, d_dlsymun=undef, ccdlflags='-Wl,-E'
    cccdlflags='-fPIC', lddlflags='-shared -O2 -L/usr/local/lib -fstack-protector'


Characteristics of this binary (from libperl): 
  Compile-time options: MULTIPLICITY PERL_DONT_CREATE_GVSV
                        PERL_IMPLICIT_CONTEXT PERL_MALLOC_WRAP USE_ITHREADS
                        USE_LARGE_FILES USE_PERLIO USE_PERL_ATOF
                        USE_REENTRANT_API
  Built under linux
  Compiled at Jun 15 2010 20:12:06
  %ENV:
    PERL5LIB=""
    PERL5OPT=""
    PERL5_CPANPLUS_IS_RUNNING="15990"
    PERL5_CPAN_IS_RUNNING="15990"
    PERL5_CPAN_IS_RUNNING_IN_RECURSION="25550,15990"
    PERL_CR_SMOKER_CURRENT="Git-DescribeVersion-1.000010"
    PERL_EXTUTILS_AUTOINSTALL="--defaultdeps"
    PERL_MM_USE_DEFAULT="1"
  @INC:
    /home/stro/perl/perl5121th/lib/site_perl/5.12.1/i686-linux-thread-multi
    /home/stro/perl/perl5121th/lib/site_perl/5.12.1
    /home/stro/perl/perl5121th/lib/5.12.1/i686-linux-thread-multi
    /home/stro/perl/perl5121th/lib/5.12.1
    .