WebAPI-DBIC v0.004002 Perl 5 v5.38.5 x86_64-linux

Status
Pass
From
Andreas J. König (ANDK)
Dist
WebAPI-DBIC v0.004002
Platform
Perl 5 v5.38.5 x86_64-linux
Date
2025-08-11 19:41:08
ID
20997f04-76eb-11f0-af42-86ee521e3b05
This distribution has been tested as part of the CPAN Testers
project, supporting the Perl programming language.  See
http://wiki.cpantesters.org/ for more information or email
questions to cpan-testers-discuss@perl.org


--
Dear Tim Bunce,

This is a computer-generated report for WebAPI-DBIC-0.004002
on perl 5.38.5, created by CPAN-Reporter-1.2020.

Thank you for uploading your work to CPAN.  Congratulations!
All tests were successful.

Sections of this report:

    * Tester comments
    * Program output
    * Prerequisites
    * Environment and other context

------------------------------
TESTER COMMENTS
------------------------------

Additional comments from tester:

this report is from an automated smoke testing program
and was not reviewed by a human for accuracy

------------------------------
PROGRAM OUTPUT
------------------------------

Output from '/usr/bin/make test':

PERL_DL_NONLAZY=1 "/tmp/basesmoker-reloperl-eMY2/bin/perl" "-MExtUtils::Command::MM" "-MTest::Harness" "-e" "undef *Test::Harness::Switches; test_harness(0, 'blib/lib', 'blib/arch')" t/*.t t/media-active-model/*.t t/media-hal/*.t t/media-jsonapi/*.t
t/00-compile.t .......................... ok
t/10-basics-req.t ....................... ok
t/11-paging-req.t ....................... ok
t/12-searching-req.t .................... ok
t/13-fields-req.t ....................... ok
t/14-distinct-req.t ..................... ok
t/30-ordering-req.t ..................... ok
t/50-modify-req.t ....................... ok
t/53-put_rel-req.t ...................... ok
Exception: DBIx::Class::Row::get_column(): No such column 'nonesuch' on TestSchema::Result::Artist at /tmp/loop_over_bdir-709287-9HRiEy/WebAPI-DBIC-0.004002-0/blib/lib/WebAPI/DBIC/Resource/Role/ItemInvoke.pm line 57
t/60-invoke-req.t ....................... ok
t/90-root-req.t ......................... ok
t/media-active-model/10-basics-req.t .... ok
Child result class TestSchema::Result::CD_to_Producer has multiple keys (cd producer) so relations like cd_to_producer won't have links generated.
t/media-active-model/40-prefetch-req.t .. ok
TestSchema::Result::Artist relationship cds_90s has coderef-based condition which is not handled yet - unknown crosstable_cond_key
t/media-hal/10-basics-req.t ............. ok
TestSchema::Result::Artist relationship cds_90s has coderef-based condition which is not handled yet - unknown crosstable_cond_key
t/media-hal/11-paging-req.t ............. ok
TestSchema::Result::Artist relationship cds_90s has coderef-based condition which is not handled yet - unknown crosstable_cond_key
t/media-hal/12-searching-req.t .......... ok
TestSchema::Result::Artist relationship cds_90s has coderef-based condition which is not handled yet - unknown crosstable_cond_key
t/media-hal/13-fields-req.t ............. ok
t/media-hal/14-distinct-req.t ........... ok
t/media-hal/30-ordering-req.t ........... ok
TestSchema::Result::Artist relationship cds_90s has coderef-based condition which is not handled yet - unknown crosstable_cond_key
t/media-hal/40-prefetch-req.t ........... ok
TestSchema::Result::Artist relationship cds_90s has coderef-based condition which is not handled yet - unknown crosstable_cond_key
t/media-hal/50-modify-req.t ............. ok
TestSchema::Result::Track relationship next_tracks has coderef-based condition which is not handled yet - unknown crosstable_cond_key
t/media-hal/52-post_rel-req.t ........... ok
TestSchema::Result::Track relationship next_tracks has coderef-based condition which is not handled yet - unknown crosstable_cond_key
t/media-hal/53-put_rel-req.t ............ ok
t/media-hal/90-root-req.t ............... ok
t/media-jsonapi/10-basics-req.t ......... ok
Result class TestSchema::Result::CD_to_Producer has multiple keys (cd producer) so relations like cd_to_producer won't have links generated.
t/media-jsonapi/40-prefetch-req.t ....... ok
t/release-pod-syntax.t .................. skipped: these tests are for release candidate testing
All tests successful.
Files=27, Tests=151, 66 wallclock secs ( 0.22 usr  0.08 sys + 40.96 cusr  5.11 csys = 46.37 CPU)
Result: PASS

------------------------------
PREREQUISITES
------------------------------

Prerequisite modules loaded:

requires:

    Module                      Need                 Have    
    --------------------------- -------------------- --------
    Alien::Web::HalBrowser      0                    1       
    Data::Dumper::Concise       0                    2.023   
    DBD::SQLite                 1.46                 1.76    
    DBIx::Class                 0.08250              0.082844
    HTTP::Headers::ActionPack   0                    0.09    
    HTTP::Throwable             0                    0.028   
    JSON::MaybeXS               0                    1.004008
    Lingua::EN::Inflect         1.894                1.905   
    Lingua::EN::Inflect::Number 1.11                 1.12    
    List::MoreUtils             0.408                0.430   
    List::Util                  0                    1.70    
    Module::Runtime             0                    0.018   
    Moo                         1.001000             2.005005
    MooX::StrictConstructor     0.006                0.013   
    namespace::clean            0.25                 0.27    
    parent                      0                    0.244   
    Path::Router                0.14                 0.15    
    perl                        5.010                5.038005
    Plack                       1.0033               1.0051  
    Plack::App::File            0                    0       
    Plack::App::Path::Router    0.08                 0.08    
    Safe::Isa                   0                    1.000010
    Scalar::Util                0                    1.70    
    SQL::Translator             0.11018              1.66    
    String::CamelCase           0                    0.04    
    Sub::Exporter               0                    0.991   
    Sub::Quote                  0                    2.006008
    Sub::Util                   0                    1.70    
    Try::Tiny                   0                    0.32    
    URI                         0                    5.32    
    Web::Machine                0.15                 0.17    

build_requires:

    Module                      Need                 Have    
    --------------------------- -------------------- --------
    autodie                     0                    2.37    
    Cpanel::JSON::XS            >= 3.0110, != 3.0112 4.39    
    Data::Printer               0                    1.002001
    DBIx::Class::Fixtures       1.001025             1.001039
    ExtUtils::MakeMaker         0                    7.76    
    Module::Pluggable           0                    6.3     
    Sort::Key                   0                    1.33    
    Test::Compile               v1.1.0               v3.3.3  
    Test::DBIx::Class           0.43                 0.52    
    Test::HTTP::Response        0                    0.06    
    Test::More                  0.98                 1.302214
    Test::Most                  0                    0.38    
    Test::Pod                   0                    1.52    
    ToolSet                     0                    1.03    

configure_requires:

    Module                      Need                 Have    
    --------------------------- -------------------- --------
    ExtUtils::MakeMaker         0                    7.76    


------------------------------
ENVIRONMENT AND OTHER CONTEXT
------------------------------

Environment variables:

    AUTOMATED_TESTING = 1
    LANG = en_US.UTF-8
    PATH = /home/sand/bin:/usr/local/bin:/usr/local/sbin:/usr/sbin:/usr/bin:/sbin:/bin:/usr/games:/usr/local/games:/snap/bin:/usr/local/perl/bin:/usr/X11/bin
    PERL = /tmp/basesmoker-reloperl-eMY2/bin/perl
    PERL5LIB = /tmp/loop_over_bdir-709287-9HRiEy/triceps-2.1.0-0/blib/arch:/tmp/loop_over_bdir-709287-9HRiEy/triceps-2.1.0-0/blib/lib:/tmp/loop_over_bdir-709287-9HRiEy/dta-tokwrap-0.98-0/blib/arch:/tmp/loop_over_bdir-709287-9HRiEy/dta-tokwrap-0.98-0/blib/lib:/tmp/loop_over_bdir-709287-9HRiEy/mmds-1.902-0/blib/arch:/tmp/loop_over_bdir-709287-9HRiEy/mmds-1.902-0/blib/lib:/tmp/loop_over_bdir-709287-9HRiEy/perl-Hardware-UPS-Perl-0.43-0/blib/arch:/tmp/loop_over_bdir-709287-9HRiEy/perl-Hardware-UPS-Perl-0.43-0/blib/lib:/tmp/loop_over_bdir-709287-9HRiEy/Debian-Packages-0.03-0/blib/arch:/tmp/loop_over_bdir-709287-9HRiEy/Debian-Packages-0.03-0/blib/lib:/tmp/loop_over_bdir-709287-9HRiEy/App-oo_modulino_zsh_completion_helper-0.06-0/blib/arch:/tmp/loop_over_bdir-709287-9HRiEy/App-oo_modulino_zsh_completion_helper-0.06-0/blib/lib:/tmp/loop_over_bdir-709287-9HRiEy/makepp-1.19-0/blib/arch:/tmp/loop_over_bdir-709287-9HRiEy/makepp-1.19-0/blib/lib:/tmp/loop_over_bdir-709287-9HRiEy/Simulation-Automate-1.0.1-0/blib/arch:/tmp/loop_over_bdir-709287-9HRiEy/Simulation-Automate-1.0.1-0/blib/lib:/tmp/loop_over_bdir-709287-9HRiEy/Net-OpenVPN-DDNS-0.1-0/blib/arch:/tmp/loop_over_bdir-709287-9HRiEy/Net-OpenVPN-DDNS-0.1-0/blib/lib:/tmp/loop_over_bdir-709287-9HRiEy/Lemonldap-NG-Cli-0.2-0/blib/arch:/tmp/loop_over_bdir-709287-9HRiEy/Lemonldap-NG-Cli-0.2-0/blib/lib:/tmp/loop_over_bdir-709287-9HRiEy/Dpkg-1.22.21-0/blib/arch:/tmp/loop_over_bdir-709287-9HRiEy/Dpkg-1.22.21-0/blib/lib:/tmp/loop_over_bdir-709287-9HRiEy/DBIx-Migration-Directories-0.12-0/blib/arch:/tmp/loop_over_bdir-709287-9HRiEy/DBIx-Migration-Directories-0.12-0/blib/lib:/tmp/loop_over_bdir-709287-9HRiEy/AllKnowingDNS-1.7-0/blib/arch:/tmp/loop_over_bdir-709287-9HRiEy/AllKnowingDNS-1.7-0/blib/lib
    PERL5OPT = 
    PERL5_CPANPLUS_IS_RUNNING = 709455
    PERL5_CPAN_IS_RUNNING = 709455
    PERL_CANARY_STABILITY_NOPROMPT = 1
    PERL_MM_USE_DEFAULT = 1
    PERL_USE_UNSAFE_INC = 1
    SHELL = /usr/bin/zsh
    TERM = screen

Perl special variables (and OS-specific diagnostics, for MSWin32):

    $^X = /tmp/basesmoker-reloperl-eMY2/bin/perl
    $UID/$EUID = 1005 / 1005
    $GID = 1005 1005
    $EGID = 1005 1005

Perl module toolchain versions installed:

    Module              Have    
    ------------------- --------
    CPAN                2.38    
    CPAN::Meta          2.150010
    Cwd                 3.89    
    ExtUtils::CBuilder  0.280238
    ExtUtils::Command   7.76    
    ExtUtils::Install   2.22    
    ExtUtils::MakeMaker 7.76    
    ExtUtils::Manifest  1.73    
    ExtUtils::ParseXS   3.58    
    File::Spec          3.88    
    JSON                4.10    
    JSON::PP            4.16    
    Module::Build       0.4234  
    Module::Signature   0.93    
    Parse::CPAN::Meta   2.150010
    Test2               1.302214
    Test::Harness       3.52    
    Test::More          1.302214
    YAML                1.31    
    YAML::Syck          1.34    
    version             0.9933  


--

Summary of my perl5 (revision 5 version 38 subversion 5) configuration:
  Commit id: a443b089ceb9a90e28864e502077d092a16267d4
  Platform:
    osname=linux
    osvers=5.4.0-216-generic
    archname=x86_64-linux
    uname='linux k93focal 5.4.0-216-generic #236-ubuntu smp fri apr 11 19:53:21 utc 2025 x86_64 x86_64 x86_64 gnulinux '
    config_args='-Dprefix=/home/sand/src/perl/repoperls/installed-perls/host/k93focal/v5.38.5/b254 -Dmyhostname=k93focal -Dinstallusrbinperl=n -Uversiononly -Dusedevel -des -Ui_db -Dlibswanted=cl pthread socket inet nsl gdbm dbm malloc dl ld sun m crypt sec util c cposix posix ucb BSD gdbm_compat -Uuseithreads -Uuselongdouble -DEBUGGING=both'
    hint=recommended
    useposix=true
    d_sigaction=define
    useithreads=undef
    usemultiplicity=undef
    use64bitint=define
    use64bitall=define
    uselongdouble=undef
    usemymalloc=n
    default_inc_excludes_dot=define
  Compiler:
    cc='cc'
    ccflags ='-fwrapv -DDEBUGGING -fno-strict-aliasing -pipe -fstack-protector-strong -I/usr/local/include -D_LARGEFILE_SOURCE -D_FILE_OFFSET_BITS=64'
    optimize='-O2 -g'
    cppflags='-fwrapv -DDEBUGGING -fno-strict-aliasing -pipe -fstack-protector-strong -I/usr/local/include'
    ccversion=''
    gccversion='9.4.0'
    gccosandvers=''
    intsize=4
    longsize=8
    ptrsize=8
    doublesize=8
    byteorder=12345678
    doublekind=3
    d_longlong=define
    longlongsize=8
    d_longdbl=define
    longdblsize=16
    longdblkind=3
    ivtype='long'
    ivsize=8
    nvtype='double'
    nvsize=8
    Off_t='off_t'
    lseeksize=8
    alignbytes=8
    prototype=define
  Linker and Libraries:
    ld='cc'
    ldflags =' -fstack-protector-strong -L/usr/local/lib'
    libpth=/usr/local/lib /usr/lib/x86_64-linux-gnu /usr/lib /usr/lib64
    libs=-lpthread -lnsl -ldl -lm -lcrypt -lutil -lc
    perllibs=-lpthread -lnsl -ldl -lm -lcrypt -lutil -lc
    libc=libc-2.31.so
    so=so
    useshrplib=false
    libperl=libperl.a
    gnulibc_version='2.31'
  Dynamic Linking:
    dlsrc=dl_dlopen.xs
    dlext=so
    d_dlsymun=undef
    ccdlflags='-Wl,-E'
    cccdlflags='-fPIC'
    lddlflags='-shared -O2 -g -L/usr/local/lib -fstack-protector-strong'


Characteristics of this binary (from libperl): 
  Compile-time options:
    DEBUGGING
    HAS_LONG_DOUBLE
    HAS_STRTOLD
    HAS_TIMES
    PERLIO_LAYERS
    PERL_COPY_ON_WRITE
    PERL_DONT_CREATE_GVSV
    PERL_HASH_FUNC_SIPHASH13
    PERL_HASH_USE_SBOX32
    PERL_MALLOC_WRAP
    PERL_OP_PARENT
    PERL_PRESERVE_IVUV
    PERL_USE_DEVEL
    PERL_USE_SAFE_PUTENV
    USE_64_BIT_ALL
    USE_64_BIT_INT
    USE_LARGE_FILES
    USE_LOCALE
    USE_LOCALE_COLLATE
    USE_LOCALE_CTYPE
    USE_LOCALE_NUMERIC
    USE_LOCALE_TIME
    USE_PERLIO
    USE_PERL_ATOF
  Built under linux
  Compiled at Aug  4 2025 09:05:52
  %ENV:
    PERL="/tmp/basesmoker-reloperl-eMY2/bin/perl"
    PERL5LIB="/tmp/loop_over_bdir-709287-9HRiEy/triceps-2.1.0-0/blib/arch:/tmp/loop_over_bdir-709287-9HRiEy/triceps-2.1.0-0/blib/lib:/tmp/loop_over_bdir-709287-9HRiEy/dta-tokwrap-0.98-0/blib/arch:/tmp/loop_over_bdir-709287-9HRiEy/dta-tokwrap-0.98-0/blib/lib:/tmp/loop_over_bdir-709287-9HRiEy/mmds-1.902-0/blib/arch:/tmp/loop_over_bdir-709287-9HRiEy/mmds-1.902-0/blib/lib:/tmp/loop_over_bdir-709287-9HRiEy/perl-Hardware-UPS-Perl-0.43-0/blib/arch:/tmp/loop_over_bdir-709287-9HRiEy/perl-Hardware-UPS-Perl-0.43-0/blib/lib:/tmp/loop_over_bdir-709287-9HRiEy/Debian-Packages-0.03-0/blib/arch:/tmp/loop_over_bdir-709287-9HRiEy/Debian-Packages-0.03-0/blib/lib:/tmp/loop_over_bdir-709287-9HRiEy/App-oo_modulino_zsh_completion_helper-0.06-0/blib/arch:/tmp/loop_over_bdir-709287-9HRiEy/App-oo_modulino_zsh_completion_helper-0.06-0/blib/lib:/tmp/loop_over_bdir-709287-9HRiEy/makepp-1.19-0/blib/arch:/tmp/loop_over_bdir-709287-9HRiEy/makepp-1.19-0/blib/lib:/tmp/loop_over_bdir-709287-9HRiEy/Simulation-Automate-1.0.1-0/blib/arch:/tmp/loop_over_bdir-709287-9HRiEy/Simulation-Automate-1.0.1-0/blib/lib:/tmp/loop_over_bdir-709287-9HRiEy/Net-OpenVPN-DDNS-0.1-0/blib/arch:/tmp/loop_over_bdir-709287-9HRiEy/Net-OpenVPN-DDNS-0.1-0/blib/lib:/tmp/loop_over_bdir-709287-9HRiEy/Lemonldap-NG-Cli-0.2-0/blib/arch:/tmp/loop_over_bdir-709287-9HRiEy/Lemonldap-NG-Cli-0.2-0/blib/lib:/tmp/loop_over_bdir-709287-9HRiEy/Dpkg-1.22.21-0/blib/arch:/tmp/loop_over_bdir-709287-9HRiEy/Dpkg-1.22.21-0/blib/lib:/tmp/loop_over_bdir-709287-9HRiEy/DBIx-Migration-Directories-0.12-0/blib/arch:/tmp/loop_over_bdir-709287-9HRiEy/DBIx-Migration-Directories-0.12-0/blib/lib:/tmp/loop_over_bdir-709287-9HRiEy/AllKnowingDNS-1.7-0/blib/arch:/tmp/loop_over_bdir-709287-9HRiEy/AllKnowingDNS-1.7-0/blib/lib"
    PERL5OPT=""
    PERL5_CPANPLUS_IS_RUNNING="709455"
    PERL5_CPAN_IS_RUNNING="709455"
    PERL_CANARY_STABILITY_NOPROMPT="1"
    PERL_MM_USE_DEFAULT="1"
    PERL_USE_UNSAFE_INC="1"
  @INC:
    /tmp/loop_over_bdir-709287-9HRiEy/triceps-2.1.0-0/blib/arch
    /tmp/loop_over_bdir-709287-9HRiEy/triceps-2.1.0-0/blib/lib
    /tmp/loop_over_bdir-709287-9HRiEy/dta-tokwrap-0.98-0/blib/arch
    /tmp/loop_over_bdir-709287-9HRiEy/dta-tokwrap-0.98-0/blib/lib
    /tmp/loop_over_bdir-709287-9HRiEy/mmds-1.902-0/blib/arch
    /tmp/loop_over_bdir-709287-9HRiEy/mmds-1.902-0/blib/lib
    /tmp/loop_over_bdir-709287-9HRiEy/perl-Hardware-UPS-Perl-0.43-0/blib/arch
    /tmp/loop_over_bdir-709287-9HRiEy/perl-Hardware-UPS-Perl-0.43-0/blib/lib
    /tmp/loop_over_bdir-709287-9HRiEy/Debian-Packages-0.03-0/blib/arch
    /tmp/loop_over_bdir-709287-9HRiEy/Debian-Packages-0.03-0/blib/lib
    /tmp/loop_over_bdir-709287-9HRiEy/App-oo_modulino_zsh_completion_helper-0.06-0/blib/arch
    /tmp/loop_over_bdir-709287-9HRiEy/App-oo_modulino_zsh_completion_helper-0.06-0/blib/lib
    /tmp/loop_over_bdir-709287-9HRiEy/makepp-1.19-0/blib/arch
    /tmp/loop_over_bdir-709287-9HRiEy/makepp-1.19-0/blib/lib
    /tmp/loop_over_bdir-709287-9HRiEy/Simulation-Automate-1.0.1-0/blib/arch
    /tmp/loop_over_bdir-709287-9HRiEy/Simulation-Automate-1.0.1-0/blib/lib
    /tmp/loop_over_bdir-709287-9HRiEy/Net-OpenVPN-DDNS-0.1-0/blib/arch
    /tmp/loop_over_bdir-709287-9HRiEy/Net-OpenVPN-DDNS-0.1-0/blib/lib
    /tmp/loop_over_bdir-709287-9HRiEy/Lemonldap-NG-Cli-0.2-0/blib/arch
    /tmp/loop_over_bdir-709287-9HRiEy/Lemonldap-NG-Cli-0.2-0/blib/lib
    /tmp/loop_over_bdir-709287-9HRiEy/Dpkg-1.22.21-0/blib/arch
    /tmp/loop_over_bdir-709287-9HRiEy/Dpkg-1.22.21-0/blib/lib
    /tmp/loop_over_bdir-709287-9HRiEy/DBIx-Migration-Directories-0.12-0/blib/arch
    /tmp/loop_over_bdir-709287-9HRiEy/DBIx-Migration-Directories-0.12-0/blib/lib
    /tmp/loop_over_bdir-709287-9HRiEy/AllKnowingDNS-1.7-0/blib/arch
    /tmp/loop_over_bdir-709287-9HRiEy/AllKnowingDNS-1.7-0/blib/lib
    /home/sand/src/perl/repoperls/installed-perls/host/k93focal/v5.38.5/b254/lib/site_perl/5.38.5/x86_64-linux
    /home/sand/src/perl/repoperls/installed-perls/host/k93focal/v5.38.5/b254/lib/site_perl/5.38.5
    /home/sand/src/perl/repoperls/installed-perls/host/k93focal/v5.38.5/b254/lib/5.38.5/x86_64-linux
    /home/sand/src/perl/repoperls/installed-perls/host/k93focal/v5.38.5/b254/lib/5.38.5
    .