Back
From: metabase:user:322078bc-2aae-11df-837a-5e0a49663a4f
Subject: PASS autodie-2.29 v5.22.0 Windows (Cygwin)
Date: 2015-07-12T17:40:46Z
This distribution has been tested as part of the CPAN Testers
project, supporting the Perl programming language. See
http://wiki.cpantesters.org/ for more information or email
questions to cpan-testers-discuss@perl.org
--
Dear PJF,
This is a computer-generated error report created automatically by
CPANPLUS, version 0.9154. Testers personal comments may appear
at the end of this report.
Thank you for uploading your work to CPAN. Congratulations!
All tests were successful.
TEST RESULTS:
Below is the error stack from stage 'make test':
PERL_DL_NONLAZY=1 "/opt/perl-5.22.0/bin/perl.exe" "-MExtUtils::Command::MM" "-MTest::Harness" "-e" "undef *Test::Harness::Switches; test_harness(0, 'blib/lib', 'blib/arch')" t/*.t
t/00-load.t ...................... ok
t/args.t ......................... ok
t/author-critic.t ................ skipped: these tests are for testing by the author
t/autodie.t ...................... ok
t/backcompat.t ................... ok
t/basic_exceptions.t ............. ok
t/binmode.t ...................... ok
t/blog_hints.t ................... ok
t/caller.t ....................... ok
t/chmod.t ........................ ok
t/chown.t ........................ ok
t/context.t ...................... ok
t/context_lexical.t .............. ok
t/core-trampoline-slurp.t ........ ok
t/crickey.t ...................... ok
t/critic.t ....................... skipped: Author test. Set $ENV{AUTHOR_TESTING} to true to run.
t/dbmopen.t ...................... ok
t/eval_error.t ................... ok
t/exception_class.t .............. ok
t/exceptions.t ................... ok
t/exec.t ......................... ok
t/Fatal.t ........................ ok
t/filehandles.t .................. ok
t/fileno.t ....................... ok
t/flock.t ........................ ok
t/fork.t ......................... skipped: BSD::Resource required to test fork()
t/format-clobber.t ............... ok
# Sub::Identify is loaded
t/hints.t ........................ ok
t/hints_insist.t ................. ok
t/hints_pod_examples.t ........... ok
t/hints_provider_does.t .......... ok
t/hints_provider_easy_does_it.t .. ok
t/hints_provider_isa.t ........... ok
t/import-into.t .................. skipped: Test needs Import::Into >= 1.002004
t/internal-backcompat.t .......... ok
t/internal.t ..................... ok
t/kill.t ......................... ok
t/kwalitee.t ..................... skipped: Author test. Set $ENV{RELEASE_TESTING} to true to run.
t/lethal.t ....................... ok
t/lex58.t ........................ skipped: IPC::System::Simple required
t/mkdir.t ........................ ok
t/no_carp.t ...................... ok
t/open.t ......................... ok
t/pod-coverage.t ................. skipped: Author test. Set $ENV{AUTHOR_TESTING} to true to run.
t/pod.t .......................... skipped: Author test. Set $ENV{AUTHOR_TESTING} to true to run.
t/read.t ......................... ok
t/recv.t ......................... ok
t/release-pod-coverage.t ......... skipped: these tests are for release candidate testing
t/release-pod-syntax.t ........... skipped: these tests are for release candidate testing
t/repeat.t ....................... ok
t/rt-74246.t ..................... ok
t/scope_leak.t ................... ok
t/skip.t ......................... ok
t/socket.t ....................... skipped: Author test. Set $ENV{AUTHOR_TESTING} to true to run.
t/string-eval-basic.t ............ ok
t/string-eval-leak.t ............. ok
t/sysopen.t ...................... ok
t/system.t ....................... skipped: IPC::System::Simple not installed
t/truncate.t ..................... ok
t/unlink.t ....................... ok
t/user-context.t ................. ok
t/usersub.t ...................... ok
t/utf8_open.t .................... ok
t/utime.t ........................ ok
t/version.t ...................... skipped: Release test. Set $ENV{RELEASE_TESTING} to true to run.
t/version_tag.t .................. ok
All tests successful.
Files=66, Tests=495, 8 wallclock secs ( 0.03 usr 0.08 sys + 4.15 cusr 2.53 csys = 6.78 CPU)
Result: PASS
PREREQUISITES:
Here is a list of prerequisites you specified and versions we
managed to load:
Module Name Have Want
B 1.58 0
Carp 1.36 0
Exporter 5.72 5.57
ExtUtils::MakeMaker 7.04_01 0
Fcntl 1.13 0
File::Copy 2.30 0
File::Spec 3.56 0
File::Temp 0.2304 0
FindBin 1.51 0
IO::Handle 1.35 0
POSIX 1.53 0
Scalar::Util 1.42 0
Socket 2.019 0
Test::More 1.001014 0
Tie::RefHash 1.39 0
constant 1.33 0
if 0.0604 0
lib 0.63 0
overload 1.26 0
parent 0.234 0
strict 1.09 0
warnings 1.32 0
Perl module toolchain versions installed:
Module Name Have
CPANPLUS 0.9154
CPANPLUS::Dist::Build 0.78
Cwd 3.56
ExtUtils::CBuilder 0.280223
ExtUtils::Command 1.20
ExtUtils::Install 2.04
ExtUtils::MakeMaker 7.04_01
ExtUtils::Manifest 1.70
ExtUtils::ParseXS 3.28
File::Spec 3.56
Module::Build 0.4214
Pod::Parser 1.63
Pod::Simple 3.30
Test::Harness 3.35
Test::More 1.001014
version 0.9912
******************************** NOTE ********************************
The comments above are created mechanically, possibly without manual
checking by the sender. As there are many people performing automatic
tests on each upload to CPAN, it is likely that you will receive
identical messages about the same problem.
If you believe that the message is mistaken, please reply to the first
one with correction and/or additional informations, and do not take
it personally. We appreciate your patience. :)
**********************************************************************
Additional comments:
This report was machine-generated by CPANPLUS::Dist::YACSmoke 0.94.
------------------------------
ENVIRONMENT AND OTHER CONTEXT
------------------------------
Environment variables:
AUTOMATED_TESTING = 1
COMSPEC = C:\Windows\system32\cmd.exe
LANG = en_GB.UTF-8
NUMBER_OF_PROCESSORS = 4
PATH = /usr/local/bin:/usr/bin:/cygdrive/c/Program Files (x86)/NVIDIA Corporation/PhysX/Common:/cygdrive/c/Program Files/Common Files/Microsoft Shared/Windows Live:/cygdrive/c/Windows/system32:/cygdrive/c/Windows:/cygdrive/c/Windows/System32/Wbem:/cygdrive/c/Windows/System32/WindowsPowerShell/v1.0:/cygdrive/c/Program Files (x86)/ATI Technologies/ATI.ACE/Core-Static:/cygdrive/c/Program Files (x86)/AMD/ATI.ACE/Core-Static:/cygdrive/c/Program Files/Common Files/Microsoft Shared/Windows Live:/usr/lib/lapack
PERL5LIB = :/opt/perl-5.22.0/.cpanplus/5.22.0/build/autodie-2.29/blib/lib:/opt/perl-5.22.0/.cpanplus/5.22.0/build/autodie-2.29/blib/arch
PERL5_CPANIDX_URL = http://cpan.mirror.local/cpanidx/
PERL5_CPANPLUS_HOME = /opt/perl-5.22.0
PERL5_CPANPLUS_IS_RUNNING = 3640
PERL5_CPANPLUS_IS_VERSION = 0.9154
PERL_EXTUTILS_AUTOINSTALL = --defaultdeps
PERL_INSTALL_QUIET = 1
PERL_MM_USE_DEFAULT = 1
PROCESSOR_IDENTIFIER = AMD64 Family 18 Model 1 Stepping 0, AuthenticAMD
SHELL = /bin/bash
TERM = xterm
Perl special variables (and OS-specific diagnostics, for MSWin32):
Perl: $^X = /opt/perl-5.22.0/bin/perl
UID: $< = 1000
EUID: $> = 1000
GID: $( = 513 513 1001 545 4 66049 11 15 113 4095 66048 262154 401408
EGID: $) = 513 513 1001 545 4 66049 11 15 113 4095 66048 262154 401408
-------------------------------
--
Summary of my perl5 (revision 5 version 22 subversion 0) configuration:
Platform:
osname=cygwin, osvers=2.0.4(0.28753), archname=cygwin-thread-multi
uname='cygwin_nt-6.1 azkaban 2.0.4(0.28753) 2015-06-09 12:22 x86_64 cygwin '
config_args='-des -Dprefix=/opt/perl-5.22.0 -Dusethreads -Darchname=x86_64-cygwin-threads -Dcc=gcc -Dld=g++ -Dlibperl=cygperl5_22.dll'
hint=recommended, useposix=true, d_sigaction=define
useithreads=define, usemultiplicity=define
use64bitint=define, use64bitall=define, uselongdouble=undef
usemymalloc=n, bincompat5005=undef
Compiler:
cc='gcc', ccflags ='-DPERL_USE_SAFE_PUTENV -U__STRICT_ANSI__ -fwrapv -fno-strict-aliasing -pipe -fstack-protector-strong -D_FORTIFY_SOURCE=2',
optimize='-O3',
cppflags='-DPERL_USE_SAFE_PUTENV -U__STRICT_ANSI__ -fwrapv -fno-strict-aliasing -pipe -fstack-protector-strong'
ccversion='', gccversion='4.9.2', gccosandvers=''
intsize=4, longsize=8, ptrsize=8, doublesize=8, byteorder=12345678, doublekind=3
d_longlong=define, longlongsize=8, d_longdbl=define, longdblsize=16, longdblkind=3
ivtype='long', ivsize=8, nvtype='double', nvsize=8, Off_t='off_t', lseeksize=8
alignbytes=8, prototype=define
Linker and Libraries:
ld='g++', ldflags =' -Wl,--enable-auto-import -Wl,--export-all-symbols -Wl,--enable-auto-image-base -fstack-protector-strong -L/usr/local/lib'
libpth=/usr/lib/gcc/x86_64-pc-cygwin/4.9.2/include-fixed /usr/lib /usr/lib/gcc/x86_64-pc-cygwin/4.9.2/../../../../lib/../include/w32api /usr/local/lib /lib
libs=-lpthread -ldb -ldl -lcrypt
perllibs=-lpthread -ldl -lcrypt
libc=/usr/lib/libc.a, so=dll, useshrplib=true, libperl=cygperl5_22.dll
gnulibc_version=''
Dynamic Linking:
dlsrc=dl_dlopen.xs, dlext=dll, d_dlsymun=undef, ccdlflags=' '
cccdlflags=' ', lddlflags=' --shared -Wl,--enable-auto-import -Wl,--export-all-symbols -Wl,--enable-auto-image-base -L/usr/local/lib -fstack-protector-strong'
Characteristics of this binary (from libperl):
Compile-time options: HAS_TIMES MULTIPLICITY PERLIO_LAYERS
PERL_DONT_CREATE_GVSV
PERL_HASH_FUNC_ONE_AT_A_TIME_HARD
PERL_IMPLICIT_CONTEXT PERL_NEW_COPY_ON_WRITE
PERL_PRESERVE_IVUV PERL_USE_SAFE_PUTENV
USE_64_BIT_ALL USE_64_BIT_INT USE_ITHREADS
USE_LARGE_FILES USE_LOCALE USE_LOCALE_COLLATE
USE_LOCALE_CTYPE USE_LOCALE_NUMERIC USE_LOCALE_TIME
USE_PERLIO USE_PERL_ATOF USE_REENTRANT_API
Built under cygwin
Compiled at Jun 18 2015 14:58:57
%ENV:
PERL5LIB=":/opt/perl-5.22.0/.cpanplus/5.22.0/build/autodie-2.29/blib/lib:/opt/perl-5.22.0/.cpanplus/5.22.0/build/autodie-2.29/blib/arch"
PERL5_CPANIDX_URL="http://cpan.mirror.local/cpanidx/"
PERL5_CPANPLUS_HOME="/opt/perl-5.22.0"
PERL5_CPANPLUS_IS_RUNNING="3640"
PERL5_CPANPLUS_IS_VERSION="0.9154"
PERL_EXTUTILS_AUTOINSTALL="--defaultdeps"
PERL_INSTALL_QUIET="1"
PERL_MM_USE_DEFAULT="1"
@INC:
/opt/perl-5.22.0/.cpanplus/5.22.0/build/autodie-2.29/blib/lib
/opt/perl-5.22.0/.cpanplus/5.22.0/build/autodie-2.29/blib/arch
/opt/perl-5.22.0/lib/site_perl/5.22.0/cygwin-thread-multi
/opt/perl-5.22.0/lib/site_perl/5.22.0
/opt/perl-5.22.0/lib/5.22.0/cygwin-thread-multi
/opt/perl-5.22.0/lib/5.22.0
.