DBIx-Class-Helpers v2.036000 Perl 5 v5.30.2 armv6l-linux
- Status
- Pass
- From
- gregor herrmann
- Dist
-
DBIx-Class-Helpers v2.036000
- Platform
- Perl 5 v5.30.2 armv6l-linux
- Date
- 2020-03-29 11:12:07
- ID
- 20b1345c-71ae-11ea-9c9d-c94ecccccfd6
This distribution has been tested as part of the CPAN Testers
project, supporting the Perl programming language. See
http://wiki.cpantesters.org/ for more information or email
questions to cpan-testers-discuss@perl.org
--
Dear Arthur Axel 'fREW' Schmidt,
This is a computer-generated report for DBIx-Class-Helpers-2.036000
on perl 5.30.2, created by CPAN-Reporter-1.2018.
Thank you for uploading your work to CPAN. Congratulations!
All tests were successful.
Sections of this report:
* Tester comments
* Program output
* Prerequisites
* Environment and other context
------------------------------
TESTER COMMENTS
------------------------------
Additional comments from tester:
this report is from an automated smoke testing program
and was not reviewed by a human for accuracy
------------------------------
PROGRAM OUTPUT
------------------------------
Output from '/usr/bin/make test':
PERL_DL_NONLAZY=1 "/srv/smoker/perl5/perlbrew/perls/perl-5.30.2/bin/perl" "-MExtUtils::Command::MM" "-MTest::Harness" "-e" "undef *Test::Harness::Switches; test_harness(0, 'blib/lib', 'blib/arch')" t/*.t t/ResultClass/*.t t/ResultSet/*.t t/ResultSet/DateMethods1/*.t t/ResultSet/RemoveColumns/*.t t/ResultSet/Shortcut/*.t t/ResultSet/Shortcut/Search/*.t t/Row/*.t t/Schema/*.t t/Schema/Verifier/*.t
t/author-pod-syntax.t ........................ skipped: these tests are for testing by the author
t/bug-1.t .................................... ok
t/ResultClass/Tee.t .......................... ok
t/ResultSet/Bare.t ........................... ok
t/ResultSet/CorrelateRelationship.t .......... ok
t/ResultSet/DateMethods1/bugs.t .............. ok
t/ResultSet/DateMethods1/mssql.t ............. ok
t/ResultSet/DateMethods1/mysql.t ............. ok
t/ResultSet/DateMethods1/oracle.t ............ ok
t/ResultSet/DateMethods1/pg.t ................ ok
t/ResultSet/DateMethods1/sqlite.t ............ ok
t/ResultSet/Errors.t ......................... ok
t/ResultSet/Explain.t ........................ ok
t/ResultSet/IgnoreWantarray.t ................ ok
t/ResultSet/Me.t ............................. ok
t/ResultSet/NoColumns.t ...................... ok
t/ResultSet/OneRow.t ......................... ok
t/ResultSet/Random.t ......................... ok
t/ResultSet/RemoveColumns.t .................. ok
t/ResultSet/RemoveColumns/_resolved_attrs.t .. ok
t/ResultSet/ResultClassDWIM.t ................ ok
t/ResultSet/SearchOr.t ....................... ok
t/ResultSet/SetOperations.t .................. ok
t/ResultSet/Shortcut/AddColumns.t ............ ok
t/ResultSet/Shortcut/Columns.t ............... ok
t/ResultSet/Shortcut/Distinct.t .............. ok
t/ResultSet/Shortcut/GroupBy.t ............... ok
t/ResultSet/Shortcut/HasRows.t ............... ok
t/ResultSet/Shortcut/HRI.t ................... ok
t/ResultSet/Shortcut/Limit.t ................. ok
t/ResultSet/Shortcut/LimitedPage.t ........... ok
t/ResultSet/Shortcut/OrderBy.t ............... ok
t/ResultSet/Shortcut/OrderByMagic.t .......... ok
t/ResultSet/Shortcut/Prefetch.t .............. ok
t/ResultSet/Shortcut/RemoveColumns.t ......... ok
t/ResultSet/Shortcut/ResultsExist.t .......... ok
t/ResultSet/Shortcut/Rows.t .................. ok
t/ResultSet/Shortcut/Search/Base.t ........... ok
t/ResultSet/Shortcut/Search/Like.t ........... ok
t/ResultSet/Shortcut/Search/NotLike.t ........ ok
t/ResultSet/Shortcut/Search/NotNull.t ........ ok
t/ResultSet/Shortcut/Search/Null.t ........... ok
t/Row/CleanResultSet.t ....................... ok
t/Row/JoinTable.t ............................ ok
t/Row/NumifyGet.t ............................ ok
t/Row/OnColumnChange.t ....................... ok
t/Row/OnColumnMissing.t ...................... ok
t/Row/ProxyResultSetMethod.t ................. ok
t/Row/ProxyResultSetUpdate.t ................. ok
t/Row/RelationshipDWIM.t ..................... ok
t/Row/SelfResultSet.t ........................ ok
t/Row/StorageValues.t ........................ ok
t/Row/SubClass.t ............................. ok
t/Row/ToJSON.t ............................... ok
t/Schema/DateTime.t .......................... ok
t/Schema/DidYouMean.t ........................ ok
t/Schema/GenerateSource.t .................... ok
t/Schema/LintContents.t ...................... ok
t/Schema/Verifier.t .......................... ok
t/Schema/Verifier/C3.t ....................... ok
t/Schema/Verifier/ColumnInfo.t ............... ok
t/Schema/Verifier/Parent.t ................... ok
t/Schema/Verifier/RelationshipColumnName.t ... ok
t/utilities.t ................................ ok
All tests successful.
Files=64, Tests=230, 847 wallclock secs ( 4.14 usr 0.67 sys + 636.31 cusr 21.84 csys = 662.96 CPU)
Result: PASS
------------------------------
PREREQUISITES
------------------------------
Prerequisite modules loaded:
requires:
Module Need Have
-------------------------- -------- --------
Carp::Clan 6.04 6.08
DBIx::Class 0.0826 0.082841
DBIx::Class::Candy 0.003001 0.005003
DBIx::Introspector 0.001002 0.001005
Lingua::EN::Inflect 0 1.904
List::Util 0 1.50
Module::Runtime 0 0.016
Moo 2 2.003006
namespace::clean 0.23 0.27
parent 0 0.237
Safe::Isa 0 1.000010
Sub::Exporter::Progressive 0.001006 0.001013
Text::Brew 0 0.02
Try::Tiny 0 0.30
build_requires:
Module Need Have
-------------------------- -------- --------
aliased 0.34 0.34
DateTime::Format::SQLite 0 0.11
DBD::SQLite 0 1.64
ExtUtils::MakeMaker 0 7.34
Test::Deep 0 1.130
Test::Fatal 0.006 0.014
Test::More 0.94 1.302162
Test::Roo 1.003 1.004
configure_requires:
Module Need Have
-------------------------- -------- --------
ExtUtils::MakeMaker 0 7.34
------------------------------
ENVIRONMENT AND OTHER CONTEXT
------------------------------
Environment variables:
AUTOMATED_TESTING = 1
LC_CTYPE = de_AT.utf8
LD_LIBRARY_PATH = /usr/lib/libeatmydata
NONINTERACTIVE_TESTING = 1
PATH = /srv/smoker/bin:/usr/lib/ccache:/srv/smoker/perl5/perlbrew/bin:/srv/smoker/perl5/perlbrew/perls/perl-5.30.2/bin:/usr/local/bin:/usr/bin:/bin:/usr/local/games:/usr/games
PERL5LIB =
PERL5OPT =
PERL5_CPANPLUS_IS_RUNNING = 22168
PERL5_CPAN_IS_RUNNING = 22168
PERL5_CPAN_IS_RUNNING_IN_RECURSION = 23312,22168
PERLBREW_HOME = /srv/smoker/.perlbrew
PERLBREW_MANPATH = /srv/smoker/perl5/perlbrew/perls/perl-5.30.2/man
PERLBREW_PATH = /srv/smoker/perl5/perlbrew/bin:/srv/smoker/perl5/perlbrew/perls/perl-5.30.2/bin
PERLBREW_PERL = perl-5.30.2
PERLBREW_ROOT = /srv/smoker/perl5/perlbrew
PERLBREW_SHELLRC_VERSION = 0.88
PERLBREW_VERSION = 0.88
PERL_CR_SMOKER_CURRENT = DBIx-Class-Helpers-2.036000
PERL_EXTUTILS_AUTOINSTALL = --defaultdeps
PERL_MM_USE_DEFAULT = 1
PERL_TEST_TIME_OUT_FACTOR = 3
PERL_TEST_TIME_OUT_FACTOR = 3
PERL_USE_UNSAFE_INC = 1
SHELL = /bin/bash
TERM = screen-256color
Perl special variables (and OS-specific diagnostics, for MSWin32):
$^X = /srv/smoker/perl5/perlbrew/perls/perl-5.30.2/bin/perl
$UID/$EUID = 1111 / 1111
$GID = 65534 65534
$EGID = 65534 65534
Perl module toolchain versions installed:
Module Have
------------------- --------
CPAN 2.27
CPAN::Meta 2.150010
Cwd 3.78
ExtUtils::CBuilder 0.280231
ExtUtils::Command 7.34
ExtUtils::Install 2.14
ExtUtils::MakeMaker 7.34
ExtUtils::Manifest 1.72
ExtUtils::ParseXS 3.40
File::Spec 3.78
JSON 4.02
JSON::PP 4.02
Module::Build 0.4231
Module::Signature n/a
Parse::CPAN::Meta 2.150010
Test::Harness 3.42
Test::More 1.302162
YAML 1.30
YAML::Syck n/a
version 0.9924
--
Summary of my perl5 (revision 5 version 30 subversion 2) configuration:
Platform:
osname=linux
osvers=3.18.0-trunk-rpi
archname=armv6l-linux
uname='linux smoker 3.18.0-trunk-rpi #1 preempt raspbian 3.18.5-1~exp1+rpi19+stretch (2015-10-14) armv6l gnulinux '
config_args='-de -Dprefix=/srv/smoker/perl5/perlbrew/perls/perl-5.30.2 -Aeval:scriptdir=/srv/smoker/perl5/perlbrew/perls/perl-5.30.2/bin'
hint=recommended
useposix=true
d_sigaction=define
useithreads=undef
usemultiplicity=undef
use64bitint=undef
use64bitall=undef
uselongdouble=undef
usemymalloc=n
default_inc_excludes_dot=define
bincompat5005=undef
Compiler:
cc='cc'
ccflags ='-fwrapv -fno-strict-aliasing -pipe -fstack-protector-strong -I/usr/local/include -D_LARGEFILE_SOURCE -D_FILE_OFFSET_BITS=64 -D_FORTIFY_SOURCE=2'
optimize='-O2'
cppflags='-fwrapv -fno-strict-aliasing -pipe -fstack-protector-strong -I/usr/local/include'
ccversion=''
gccversion='9.2.1 20200224'
gccosandvers=''
intsize=4
longsize=4
ptrsize=4
doublesize=8
byteorder=1234
doublekind=3
d_longlong=define
longlongsize=8
d_longdbl=define
longdblsize=8
longdblkind=0
ivtype='long'
ivsize=4
nvtype='double'
nvsize=8
Off_t='off_t'
lseeksize=8
alignbytes=8
prototype=define
Linker and Libraries:
ld='cc'
ldflags =' -fstack-protector-strong -L/usr/local/lib'
libpth=/usr/local/lib /usr/lib/gcc/arm-linux-gnueabihf/9/include-fixed /usr/include/arm-linux-gnueabihf /usr/lib /lib/arm-linux-gnueabihf /lib /usr/lib/arm-linux-gnueabihf
libs=-lpthread -lnsl -ldb -ldl -lm -lcrypt -lutil -lc
perllibs=-lpthread -lnsl -ldl -lm -lcrypt -lutil -lc
libc=libc-2.29.so
so=so
useshrplib=false
libperl=libperl.a
gnulibc_version='2.29'
Dynamic Linking:
dlsrc=dl_dlopen.xs
dlext=so
d_dlsymun=undef
ccdlflags='-Wl,-E'
cccdlflags='-fPIC'
lddlflags='-shared -O2 -L/usr/local/lib -fstack-protector-strong'
Characteristics of this binary (from libperl):
Compile-time options:
HAS_TIMES
PERLIO_LAYERS
PERL_COPY_ON_WRITE
PERL_DONT_CREATE_GVSV
PERL_MALLOC_WRAP
PERL_OP_PARENT
PERL_PRESERVE_IVUV
USE_LARGE_FILES
USE_LOCALE
USE_LOCALE_COLLATE
USE_LOCALE_CTYPE
USE_LOCALE_NUMERIC
USE_LOCALE_TIME
USE_PERLIO
USE_PERL_ATOF
Locally applied patches:
Devel::PatchPerl 1.38
Built under linux
Compiled at Mar 15 2020 00:44:09
%ENV:
PERL5LIB=""
PERL5OPT=""
PERL5_CPANPLUS_IS_RUNNING="22168"
PERL5_CPAN_IS_RUNNING="22168"
PERL5_CPAN_IS_RUNNING_IN_RECURSION="23312,22168"
PERLBREW_HOME="/srv/smoker/.perlbrew"
PERLBREW_MANPATH="/srv/smoker/perl5/perlbrew/perls/perl-5.30.2/man"
PERLBREW_PATH="/srv/smoker/perl5/perlbrew/bin:/srv/smoker/perl5/perlbrew/perls/perl-5.30.2/bin"
PERLBREW_PERL="perl-5.30.2"
PERLBREW_ROOT="/srv/smoker/perl5/perlbrew"
PERLBREW_SHELLRC_VERSION="0.88"
PERLBREW_VERSION="0.88"
PERL_CR_SMOKER_CURRENT="DBIx-Class-Helpers-2.036000"
PERL_EXTUTILS_AUTOINSTALL="--defaultdeps"
PERL_MM_USE_DEFAULT="1"
PERL_TEST_TIME_OUT_FACTOR="3"
PERL_USE_UNSAFE_INC="1"
@INC:
/srv/smoker/perl5/perlbrew/perls/perl-5.30.2/lib/site_perl/5.30.2/armv6l-linux
/srv/smoker/perl5/perlbrew/perls/perl-5.30.2/lib/site_perl/5.30.2
/srv/smoker/perl5/perlbrew/perls/perl-5.30.2/lib/5.30.2/armv6l-linux
/srv/smoker/perl5/perlbrew/perls/perl-5.30.2/lib/5.30.2
.