Back
From: metabase:user:320bfe00-2aae-11df-837a-5e0a49663a4f
Subject: PASS SWISH-Prog-0.75 v5.20.0 RC0 GNU/Linux
Date: 2014-05-14T20:20:01Z
This distribution has been tested as part of the CPAN Testers
project, supporting the Perl programming language. See
http://wiki.cpantesters.org/ for more information or email
questions to cpan-testers-discuss@perl.org
--
Dear Peter Karman,
This is a computer-generated report for SWISH-Prog-0.75
on perl 5.20.0, created by CPAN-Reporter-1.2011.
Thank you for uploading your work to CPAN. Congratulations!
All tests were successful.
Sections of this report:
* Tester comments
* Program output
* Prerequisites
* Environment and other context
------------------------------
TESTER COMMENTS
------------------------------
Additional comments from tester:
this report is from an automated smoke testing program
and was not reviewed by a human for accuracy
------------------------------
PROGRAM OUTPUT
------------------------------
Output from '/usr/bin/make test':
PERL_DL_NONLAZY=1 /tmp/basesmoker-reloperl-sjTB/bin/perl "-MExtUtils::Command::MM" "-MTest::Harness" "-e" "undef *Test::Harness::Switches; test_harness(0, 'inc', 'blib/lib', 'blib/arch')" t/*.t
# testing SWISH::Prog version 0.75
Can't exec "swish-e": No such file or directory at /tmp/loop_over_bdir-5191-63glz_/SWISH-Prog-0.75-xGdhQp/blib/lib/SWISH/Prog/Native/Indexer.pm line 120.
t/00_synopsis.t ........... ok
Can't exec "swish-e": No such file or directory at /tmp/loop_over_bdir-5191-63glz_/SWISH-Prog-0.75-xGdhQp/blib/lib/SWISH/Prog/Native/Indexer.pm line 120.
t/01_fs.t ................. ok
Can't exec "swish-e": No such file or directory at /tmp/loop_over_bdir-5191-63glz_/SWISH-Prog-0.75-xGdhQp/blib/lib/SWISH/Prog/Native/Indexer.pm line 120.
t/02_dbi.t ................ ok
Can't exec "swish-e": No such file or directory at /tmp/loop_over_bdir-5191-63glz_/SWISH-Prog-0.75-xGdhQp/blib/lib/SWISH/Prog/Native/Indexer.pm line 120.
t/03_object.t ............. ok
Can't exec "swish-e": No such file or directory at /tmp/loop_over_bdir-5191-63glz_/SWISH-Prog-0.75-xGdhQp/blib/lib/SWISH/Prog/Native/Indexer.pm line 120.
t/04_mail.t ............... ok
# set TEST_SPIDER env var to test the spider
t/05_spider.t ............. ok
t/06_config.t ............. ok
t/08_meta.t ............... ok
t/10_config.t ............. ok
Can't exec "swish-e": No such file or directory at /tmp/loop_over_bdir-5191-63glz_/SWISH-Prog-0.75-xGdhQp/blib/lib/SWISH/Prog/Native/Indexer.pm line 120.
t/11-leak-test.t .......... ok
Can't exec "swish-e": No such file or directory at /tmp/loop_over_bdir-5191-63glz_/SWISH-Prog-0.75-xGdhQp/blib/lib/SWISH/Prog/Native/Indexer.pm line 120.
t/12-merge.t .............. ok
Can't exec "swish-e": No such file or directory at /tmp/loop_over_bdir-5191-63glz_/SWISH-Prog-0.75-xGdhQp/blib/lib/SWISH/Prog/Native/Indexer.pm line 120.
t/13_mail_fs.t ............ ok
Can't exec "swish-e": No such file or directory at /tmp/loop_over_bdir-5191-63glz_/SWISH-Prog-0.75-xGdhQp/blib/lib/SWISH/Prog/Native/Indexer.pm line 120.
t/14-search.t ............. ok
Can't exec "swish-e": No such file or directory at /tmp/loop_over_bdir-5191-63glz_/SWISH-Prog-0.75-xGdhQp/blib/lib/SWISH/Prog/Native/Indexer.pm line 120.
t/15-index-file-config.t .. ok
t/16-replace-rules.t ...... ok
# spidering http://localhost:5002
t/17-spider-server.t ...... ok
t/18-utils.t .............. ok
t/pod-coverage.t .......... skipped: set RELEASE_TESTING to test POD
t/pod.t ................... skipped: set RELEASE_TESTING to test POD
All tests successful.
Files=19, Tests=185, 3 wallclock secs ( 0.06 usr 0.02 sys + 2.95 cusr 0.20 csys = 3.23 CPU)
Result: PASS
------------------------------
PREREQUISITES
------------------------------
Prerequisite modules loaded:
requires:
Module Need Have
------------------- -------- --------
Config::General 2.31 2.56
Data::Dump 0 1.22
File::Basename 0 2.85
File::Rules 0.02 0.02
File::Slurp 0 9999.19
File::Temp 0 0.2304
MIME::Types 0 2.04
Path::Class 0 0.33
perl 5.008003 5.020000
Rose::DateTime 0 0.540
Rose::ObjectX::CAF 0 0.03
Scalar::Util 0 1.38
Search::Query 0.17 0.300
Search::Tools 0.82 1.000
SWISH::3 1.000005 1.000009
SWISH::Filter 0.15 0.18
Test::More 0 1.001003
Time::HiRes 0 1.9726
XML::Simple 0 2.20
build_requires:
Module Need Have
------------------- -------- --------
ExtUtils::MakeMaker 6.59 6.98
configure_requires:
Module Need Have
------------------- -------- --------
ExtUtils::MakeMaker 6.59 6.98
------------------------------
ENVIRONMENT AND OTHER CONTEXT
------------------------------
Environment variables:
AUTOMATED_TESTING = 1
LANG = en_US.UTF-8
LANGUAGE = en_US:en
PATH = /usr/lib/ccache:/home/sand/bin:/usr/local/bin:/usr/bin:/bin:/usr/games:/usr/local/perl/bin:/usr/X11/bin:/sbin:/usr/sbin
PERL5LIB =
PERL5OPT =
PERL5_CPANPLUS_IS_RUNNING = 18452
PERL5_CPAN_IS_RUNNING = 18452
PERL_MM_USE_DEFAULT = 1
SHELL = /usr/bin/zsh
TERM = screen
Perl special variables (and OS-specific diagnostics, for MSWin32):
$^X = /tmp/basesmoker-reloperl-sjTB/bin/perl
$UID/$EUID = 1005 / 1005
$GID = 1005 1005
$EGID = 1005 1005
Perl module toolchain versions installed:
Module Have
------------------- --------
CPAN 2.05
CPAN::Meta 2.141170
Cwd 3.47
ExtUtils::CBuilder 0.280216
ExtUtils::Command 1.18
ExtUtils::Install 1.67
ExtUtils::MakeMaker 6.98
ExtUtils::Manifest 1.63
ExtUtils::ParseXS 3.24
File::Spec 3.47
JSON 2.90
JSON::PP 2.27203
Module::Build 0.4205
Module::Signature 0.73
Parse::CPAN::Meta 1.4414
Test::Harness 3.30
Test::More 1.001003
YAML 0.90
YAML::Syck 1.27
version 0.9908
--
Summary of my perl5 (revision 5 version 20 subversion 0) configuration:
Commit id: db93ece847ecae62a67dd3899f41f9625d05f011
Platform:
osname=linux, osvers=3.13-1-amd64, archname=x86_64-linux-thread-multi
uname='linux k83 3.13-1-amd64 #1 smp debian 3.13.7-1 (2014-03-25) x86_64 gnulinux '
config_args='-Dprefix=/home/sand/src/perl/repoperls/installed-perls/perl/v5.19.11-109-gdb93ece/9980 -Dmyhostname=k83 -Dinstallusrbinperl=n -Uversiononly -Dusedevel -des -Ui_db -Duseithreads -Uuselongdouble -DDEBUGGING=-g'
hint=recommended, useposix=true, d_sigaction=define
useithreads=define, usemultiplicity=define
use64bitint=define, use64bitall=define, uselongdouble=undef
usemymalloc=n, bincompat5005=undef
Compiler:
cc='cc', ccflags ='-D_REENTRANT -D_GNU_SOURCE -fwrapv -fno-strict-aliasing -pipe -fstack-protector -I/usr/local/include -D_LARGEFILE_SOURCE -D_FILE_OFFSET_BITS=64',
optimize='-O2 -g',
cppflags='-D_REENTRANT -D_GNU_SOURCE -fwrapv -fno-strict-aliasing -pipe -fstack-protector -I/usr/local/include'
ccversion='', gccversion='4.8.2', gccosandvers=''
intsize=4, longsize=8, ptrsize=8, doublesize=8, byteorder=12345678
d_longlong=define, longlongsize=8, d_longdbl=define, longdblsize=16
ivtype='long', ivsize=8, nvtype='double', nvsize=8, Off_t='off_t', lseeksize=8
alignbytes=8, prototype=define
Linker and Libraries:
ld='cc', ldflags =' -fstack-protector -L/usr/local/lib'
libpth=/usr/local/lib /usr/lib/gcc/x86_64-linux-gnu/4.8/include-fixed /usr/include/x86_64-linux-gnu /usr/lib /lib/x86_64-linux-gnu /lib/../lib /usr/lib/x86_64-linux-gnu /usr/lib/../lib /lib
libs=-lnsl -lgdbm -ldb -ldl -lm -lcrypt -lutil -lpthread -lc -lgdbm_compat
perllibs=-lnsl -ldl -lm -lcrypt -lutil -lpthread -lc
libc=libc-2.18.so, so=so, useshrplib=false, libperl=libperl.a
gnulibc_version='2.18'
Dynamic Linking:
dlsrc=dl_dlopen.xs, dlext=so, d_dlsymun=undef, ccdlflags='-Wl,-E'
cccdlflags='-fPIC', lddlflags='-shared -O2 -g -L/usr/local/lib -fstack-protector'
Characteristics of this binary (from libperl):
Compile-time options: HAS_TIMES MULTIPLICITY PERLIO_LAYERS
PERL_DONT_CREATE_GVSV
PERL_HASH_FUNC_ONE_AT_A_TIME_HARD
PERL_IMPLICIT_CONTEXT PERL_MALLOC_WRAP
PERL_NEW_COPY_ON_WRITE PERL_PRESERVE_IVUV
PERL_USE_DEVEL USE_64_BIT_ALL USE_64_BIT_INT
USE_ITHREADS USE_LARGE_FILES USE_LOCALE
USE_LOCALE_COLLATE USE_LOCALE_CTYPE
USE_LOCALE_NUMERIC USE_PERLIO USE_PERL_ATOF
USE_REENTRANT_API
Locally applied patches:
RC0
Built under linux
Compiled at May 14 2014 05:08:47
%ENV:
PERL5LIB=""
PERL5OPT=""
PERL5_CPANPLUS_IS_RUNNING="18452"
PERL5_CPAN_IS_RUNNING="18452"
PERL_MM_USE_DEFAULT="1"
@INC:
/home/sand/src/perl/repoperls/installed-perls/perl/v5.19.11-109-gdb93ece/9980/lib/site_perl/5.20.0/x86_64-linux-thread-multi
/home/sand/src/perl/repoperls/installed-perls/perl/v5.19.11-109-gdb93ece/9980/lib/site_perl/5.20.0
/home/sand/src/perl/repoperls/installed-perls/perl/v5.19.11-109-gdb93ece/9980/lib/5.20.0/x86_64-linux-thread-multi
/home/sand/src/perl/repoperls/installed-perls/perl/v5.19.11-109-gdb93ece/9980/lib/5.20.0
.