Back
From: metabase:user:322078bc-2aae-11df-837a-5e0a49663a4f
Subject: PASS Win32-API-0.68 v5.14.2 Windows (Cygwin)
Date: 2012-04-10T20:24:09Z
This distribution has been tested as part of the CPAN Testers
project, supporting the Perl programming language. See
http://wiki.cpantesters.org/ for more information or email
questions to cpan-testers-discuss@perl.org
--
Dear Cosimo Streppone,
This is a computer-generated error report created automatically by
CPANPLUS, version 0.9123. Testers personal comments may appear
at the end of this report.
Thank you for uploading your work to CPAN. Congratulations!
All tests were successful.
TEST RESULTS:
Below is the error stack from stage 'make test':
chmod 755 API_test.dll
make[1]: Entering directory `/opt/perl-5.14.2/.cpanplus/5.14.2/build/Win32-API-0.68/Callback'
make[1]: Leaving directory `/opt/perl-5.14.2/.cpanplus/5.14.2/build/Win32-API-0.68/Callback'
PERL_DL_NONLAZY=1 /opt/perl-5.14.2/bin/perl.exe "-MExtUtils::Command::MM" "-e" "test_harness(0, 'blib/lib', 'blib/arch')" t/*.t
# API test dll found at (./API_test.dll)
# Cygwin::winpid_to_pid()=2952
# Cygwin::winpid_to_pid()=2952
# Cygwin::winpid_to_pid()=2952
Argument "japh" isn't numeric in pack at /opt/perl-5.14.2/.cpanplus/5.14.2/build/Win32-API-0.68/blib/lib/Win32/API/Type.pm line 233.
t/00_API.t .......... ok
# $^E=
t/01_Struct.t ....... ok
# $result=2156
# $$=3356
t/02_GetProcess.t ... ok
t/03_undef.t ........ skipped: Currently bombs out on 64 bit architectures
t/04_rt_48006.t ..... ok
# Size is 296. Should be 296
t/05_more_struct.t .. ok
All tests successful.
Files=6, Tests=66, 2 wallclock secs ( 0.02 usr 0.06 sys + 0.34 cusr 0.28 csys = 0.69 CPU)
Result: PASS
make[1]: Entering directory `/opt/perl-5.14.2/.cpanplus/5.14.2/build/Win32-API-0.68/Callback'
PERL_DL_NONLAZY=1 /opt/perl-5.14.2/bin/perl.exe "-MExtUtils::Command::MM" "-e" "test_harness(0, '../blib/lib', '../blib/arch')" t/*.t
# Compiler name:gcc
# Compiler version:0
t/02_Callback.t .. ok
t/03_Jim_Shaw.t .. skipped: Unclear why it fails
t/04_rt_53914.t .. skipped: GenerateConsoleCtrlEvent() crashes consistently. Reason unknown so far.
All tests successful.
Files=3, Tests=8, 1 wallclock secs ( 0.02 usr 0.03 sys + 0.15 cusr 0.12 csys = 0.32 CPU)
Result: PASS
make[1]: Leaving directory `/opt/perl-5.14.2/.cpanplus/5.14.2/build/Win32-API-0.68/Callback'
PREREQUISITES:
Here is a list of prerequisites you specified and versions we
managed to load:
Module Name Have Want
Test::More 0.98 0
Win32 0.44 0
Perl module toolchain versions installed:
Module Name Have
CPANPLUS 0.9123
CPANPLUS::Dist::Build 0.62
Cwd 3.36
ExtUtils::CBuilder 0.280205
ExtUtils::Command 1.17
ExtUtils::Install 1.56
ExtUtils::MakeMaker 6.62
ExtUtils::Manifest 1.60
ExtUtils::ParseXS 3.15
File::Spec 3.33
Module::Build 0.40
Test::Harness 3.23
Test::More 0.98
version 0.97
******************************** NOTE ********************************
The comments above are created mechanically, possibly without manual
checking by the sender. As there are many people performing automatic
tests on each upload to CPAN, it is likely that you will receive
identical messages about the same problem.
If you believe that the message is mistaken, please reply to the first
one with correction and/or additional informations, and do not take
it personally. We appreciate your patience. :)
**********************************************************************
Additional comments:
This report was machine-generated by CPANPLUS::Dist::YACSmoke 0.74.
------------------------------
ENVIRONMENT AND OTHER CONTEXT
------------------------------
Environment variables:
AUTOMATED_TESTING = 1
COMSPEC = C:\WINDOWS\system32\cmd.exe
LANG = C.UTF-8
PATH = /home/cwill1is/perl-5.12.4/bin:/usr/local/bin:/usr/bin:/cygdrive/c/WINDOWS/system32:/cygdrive/c/WINDOWS:/cygdrive/c/WINDOWS/System32/Wbem:/cygdrive/c/Program Files/Windows Imaging:/cygdrive/c/Program Files/System Center Operations Manager 2007:/cygdrive/c/strawberry/c/bin:/cygdrive/c/strawberry/perl/site/bin:/cygdrive/c/strawberry/perl/bin:/bin
PERL5LIB = :/opt/perl-5.14.2/.cpanplus/5.14.2/build/Win32-API-0.68/blib/lib:/opt/perl-5.14.2/.cpanplus/5.14.2/build/Win32-API-0.68/blib/arch
PERL5_CPANIDX_URL = http://cpan.mirror.local/cpanidx/
PERL5_CPANPLUS_IS_RUNNING = 2900
PERL5_CPANPLUS_IS_VERSION = 0.9123
PERL_EXTUTILS_AUTOINSTALL = --defaultdeps
PERL_MM_USE_DEFAULT = 1
SHELL = /bin/bash
TERM = xterm
Perl special variables (and OS-specific diagnostics, for MSWin32):
Perl: $^X = /opt/perl-5.14.2/bin/perl
UID: $< = 11964
EUID: $> = 11964
GID: $( = 10513 0 544 545 10513
EGID: $) = 10513 0 544 545 10513
-------------------------------
--
Summary of my perl5 (revision 5 version 14 subversion 2) configuration:
Commit id: ddc0def27695ed141992d0c340b30b5eb44d02bc
Platform:
osname=cygwin, osvers=1.7.9(0.23753), archname=cygwin-thread-multi-64int
uname='cygwin_nt-5.2 citu003v 1.7.9(0.23753) 2011-03-29 10:10 i686 cygwin '
config_args='-es -Dprefix=/opt/perl-5.14.2'
hint=recommended, useposix=true, d_sigaction=define
useithreads=define, usemultiplicity=define
useperlio=define, d_sfio=undef, uselargefiles=define, usesocks=undef
use64bitint=define, use64bitall=undef, uselongdouble=undef
usemymalloc=y, bincompat5005=undef
Compiler:
cc='gcc', ccflags ='-DPERL_USE_SAFE_PUTENV -U__STRICT_ANSI__ -fno-strict-aliasing -pipe -fstack-protector -I/usr/local/include',
optimize='-O3',
cppflags='-DPERL_USE_SAFE_PUTENV -U__STRICT_ANSI__ -fno-strict-aliasing -pipe -fstack-protector -I/usr/local/include'
ccversion='', gccversion='4.3.4 20090804 (release) 1', gccosandvers=''
intsize=4, longsize=4, ptrsize=4, doublesize=8, byteorder=12345678
d_longlong=define, longlongsize=8, d_longdbl=define, longdblsize=12
ivtype='long long', ivsize=8, nvtype='double', nvsize=8, Off_t='off_t', lseeksize=8
alignbytes=8, prototype=define
Linker and Libraries:
ld='g++', ldflags =' -Wl,--enable-auto-import -Wl,--export-all-symbols -Wl,--enable-auto-image-base -fstack-protector -L/usr/local/lib'
libpth=/usr/local/lib /usr/lib /lib
libs=-lgdbm -ldb -ldl -lcrypt -lgdbm_compat
perllibs=-ldl -lcrypt
libc=/usr/lib/libc.a, so=dll, useshrplib=true, libperl=cygperl5_14_2.dll
gnulibc_version=''
Dynamic Linking:
dlsrc=dl_dlopen.xs, dlext=dll, d_dlsymun=undef, ccdlflags=' '
cccdlflags=' ', lddlflags=' --shared -Wl,--enable-auto-import -Wl,--export-all-symbols -Wl,--enable-auto-image-base -L/usr/local/lib -fstack-protector'
Characteristics of this binary (from libperl):
Compile-time options: MULTIPLICITY MYMALLOC PERL_DONT_CREATE_GVSV
PERL_IMPLICIT_CONTEXT PERL_PRESERVE_IVUV
PERL_USE_SAFE_PUTENV USE_64_BIT_INT USE_ITHREADS
USE_LARGE_FILES USE_PERLIO USE_PERL_ATOF
USE_REENTRANT_API
Built under cygwin
Compiled at Sep 29 2011 10:03:51
%ENV:
PERL5LIB=":/opt/perl-5.14.2/.cpanplus/5.14.2/build/Win32-API-0.68/blib/lib:/opt/perl-5.14.2/.cpanplus/5.14.2/build/Win32-API-0.68/blib/arch"
PERL5_CPANIDX_URL="http://cpan.mirror.local/cpanidx/"
PERL5_CPANPLUS_IS_RUNNING="2900"
PERL5_CPANPLUS_IS_VERSION="0.9123"
PERL_EXTUTILS_AUTOINSTALL="--defaultdeps"
PERL_MM_USE_DEFAULT="1"
CYGWIN="ntsec"
@INC:
/opt/perl-5.14.2/.cpanplus/5.14.2/build/Win32-API-0.68/blib/lib
/opt/perl-5.14.2/.cpanplus/5.14.2/build/Win32-API-0.68/blib/arch
/opt/perl-5.14.2/lib/site_perl/5.14.2/cygwin-thread-multi-64int
/opt/perl-5.14.2/lib/site_perl/5.14.2
/opt/perl-5.14.2/lib/5.14.2/cygwin-thread-multi-64int
/opt/perl-5.14.2/lib/5.14.2
.