Net-IMAP-Client v0.9507 Perl 5 v5.12.0 amd64-freebsd
- Status
- Pass
- From
- Bartosz Jarzyna
- Dist
-
Net-IMAP-Client v0.9507
- Platform
- Perl 5 v5.12.0 amd64-freebsd
- Date
- 2023-02-06 16:27:20
- ID
- 20e5687a-a63b-11ed-99b3-dbc83f22876c
This distribution has been tested as part of the CPAN Testers
project, supporting the Perl programming language. See
http://wiki.cpantesters.org/ for more information or email
questions to cpan-testers-discuss@perl.org
--
Dear Joel Roth,
This is a computer-generated report for Net-IMAP-Client-0.9507
on perl 5.12.0, created by CPAN-Reporter-1.2018.
Thank you for uploading your work to CPAN. Congratulations!
All tests were successful.
Sections of this report:
* Tester comments
* Program output
* Prerequisites
* Environment and other context
------------------------------
TESTER COMMENTS
------------------------------
Additional comments from tester:
this report is from an automated smoke testing program
and was not reviewed by a human for accuracy
------------------------------
PROGRAM OUTPUT
------------------------------
Output from 'make test':
PERL_DL_NONLAZY=1 "/home/smoker12/perl5/perlbrew/perls/perl-5.12.0/bin/perl" "-MExtUtils::Command::MM" "-MTest::Harness" "-e" "undef *Test::Harness::Switches; test_harness(0, 'blib/lib', 'blib/arch')" t/*.t
# Testing Net::IMAP::Client 0.9507, Perl 5.012000, /home/smoker12/perl5/perlbrew/perls/perl-5.12.0/bin/perl
t/00-load.t ....... ok
t/boilerplate.t ... ok
t/pod-coverage.t .. skipped: Test::Pod::Coverage 1.08 required for testing POD coverage
t/pod.t ........... ok
All tests successful.
Test Summary Report
-------------------
t/boilerplate.t (Wstat: 0 Tests: 3 Failed: 0)
TODO passed: 1-3
Files=4, Tests=7, 1 wallclock secs ( 0.01 usr 0.02 sys + 0.36 cusr 0.05 csys = 0.44 CPU)
Result: PASS
------------------------------
PREREQUISITES
------------------------------
Prerequisite modules loaded:
requires:
Module Need Have
-------------------- ---- --------
Encode 0 2.39
Encode::MIME::Header 0 2.11
IO::Socket::INET 0 1.31
IO::Socket::SSL 0 2.076
List::MoreUtils 0 0.430
List::Util 0 1.22
Test::More 0 1.302191
build_requires:
Module Need Have
-------------------- ---- --------
ExtUtils::MakeMaker 0 7.64
configure_requires:
Module Need Have
-------------------- ---- --------
ExtUtils::MakeMaker 0 7.64
------------------------------
ENVIRONMENT AND OTHER CONTEXT
------------------------------
Environment variables:
AUTOMATED_TESTING = 1
LANG = C.UTF-8
PATH = /sbin:/bin:/usr/sbin:/usr/bin:/usr/local/sbin:/usr/local/bin:/home/smoker12/bin
PERL5LIB = /home/smoker12/.cpan/build/List-MoreUtils-0.430-30t54Z/blib/arch:/home/smoker12/.cpan/build/List-MoreUtils-0.430-30t54Z/blib/lib:/home/smoker12/.cpan/build/List-MoreUtils-XS-0.430-y4qtPp/blib/arch:/home/smoker12/.cpan/build/List-MoreUtils-XS-0.430-y4qtPp/blib/lib:/home/smoker12/.cpan/build/Exporter-Tiny-1.006000-aP2AKV/blib/arch:/home/smoker12/.cpan/build/Exporter-Tiny-1.006000-aP2AKV/blib/lib
PERL5OPT =
PERL5_CPANPLUS_IS_RUNNING = 57313
PERL5_CPAN_IS_RUNNING = 57313
PERL5_CPAN_IS_RUNNING_IN_RECURSION = 75700,57313
PERL_CR_SMOKER_CURRENT = Net-IMAP-Client-0.9507
PERL_EXTUTILS_AUTOINSTALL = --defaultdeps
PERL_MM_USE_DEFAULT = 1
SHELL = /bin/sh
Perl special variables (and OS-specific diagnostics, for MSWin32):
$^X = /home/smoker12/perl5/perlbrew/perls/perl-5.12.0/bin/perl
$UID/$EUID = 1002 / 1002
$GID = 1002 1002
$EGID = 1002 1002
Perl module toolchain versions installed:
Module Have
------------------- --------
CPAN 1.94_56
CPAN::Meta 2.143240
Cwd 3.31
ExtUtils::CBuilder 0.27
ExtUtils::Command 7.64
ExtUtils::Install 2.06
ExtUtils::MakeMaker 7.64
ExtUtils::Manifest 1.70
ExtUtils::ParseXS 2.21
File::Spec 3.31
JSON n/a
JSON::PP 4.12
Module::Build 0.3603
Module::Signature n/a
Parse::CPAN::Meta 1.4414
Test::Harness 3.17
Test::More 1.302191
YAML n/a
YAML::Syck 1.34
version 0.9929
--
Summary of my perl5 (revision 5 version 12 subversion 0) configuration:
Platform:
osname=freebsd, osvers=13.1-release-p3, archname=amd64-freebsd
uname='freebsd smoker-10.smoker 13.1-release-p3 freebsd 13.1-release-p3 generic amd64 '
config_args='-de -Dprefix=/home/smoker12/perl5/perlbrew/perls/perl-5.12.0 -Duse64bitint -Aeval:scriptdir=/home/smoker12/perl5/perlbrew/perls/perl-5.12.0/bin'
hint=recommended, useposix=true, d_sigaction=define
useithreads=undef, usemultiplicity=undef
useperlio=define, d_sfio=undef, uselargefiles=define, usesocks=undef
use64bitint=define, use64bitall=define, uselongdouble=undef
usemymalloc=n, bincompat5005=undef
Compiler:
cc='cc', ccflags ='-DHAS_FPSETMASK -DHAS_FLOATINGPOINT_H -fno-strict-aliasing -pipe -fstack-protector -I/usr/local/include',
optimize='-O2',
cppflags='-DHAS_FPSETMASK -DHAS_FLOATINGPOINT_H -fno-strict-aliasing -pipe -fstack-protector -I/usr/local/include'
ccversion='', gccversion='FreeBSD Clang 13.0.0 (git@github.com:llvm/llvm-project.git llvmorg-13.0.0-0-gd7b669b3a303)', gccosandvers=''
intsize=4, longsize=8, ptrsize=8, doublesize=8, byteorder=12345678
d_longlong=define, longlongsize=8, d_longdbl=define, longdblsize=16
ivtype='long', ivsize=8, nvtype='double', nvsize=8, Off_t='off_t', lseeksize=8
alignbytes=8, prototype=define
Linker and Libraries:
ld='cc', ldflags ='-Wl,-E -fstack-protector -L/usr/local/lib'
libpth=/usr/lib /usr/local/lib
libs=-ldl -lm -lcrypt -lutil -lc
perllibs=-ldl -lm -lcrypt -lutil -lc
libc=, so=so, useshrplib=false, libperl=libperl.a
gnulibc_version=''
Dynamic Linking:
dlsrc=dl_dlopen.xs, dlext=so, d_dlsymun=undef, ccdlflags=' '
cccdlflags='-DPIC -fPIC', lddlflags='-shared -L/usr/local/lib -fstack-protector'
Characteristics of this binary (from libperl):
Compile-time options: PERL_DONT_CREATE_GVSV PERL_MALLOC_WRAP USE_64_BIT_ALL
USE_64_BIT_INT USE_LARGE_FILES USE_PERLIO
USE_PERL_ATOF
Locally applied patches:
Devel::PatchPerl 2.08
Built under freebsd
Compiled at Nov 17 2022 20:51:41
%ENV:
PERL5LIB="/home/smoker12/.cpan/build/List-MoreUtils-0.430-30t54Z/blib/arch:/home/smoker12/.cpan/build/List-MoreUtils-0.430-30t54Z/blib/lib:/home/smoker12/.cpan/build/List-MoreUtils-XS-0.430-y4qtPp/blib/arch:/home/smoker12/.cpan/build/List-MoreUtils-XS-0.430-y4qtPp/blib/lib:/home/smoker12/.cpan/build/Exporter-Tiny-1.006000-aP2AKV/blib/arch:/home/smoker12/.cpan/build/Exporter-Tiny-1.006000-aP2AKV/blib/lib"
PERL5OPT=""
PERL5_CPANPLUS_IS_RUNNING="57313"
PERL5_CPAN_IS_RUNNING="57313"
PERL5_CPAN_IS_RUNNING_IN_RECURSION="75700,57313"
PERL_CR_SMOKER_CURRENT="Net-IMAP-Client-0.9507"
PERL_EXTUTILS_AUTOINSTALL="--defaultdeps"
PERL_MM_USE_DEFAULT="1"
@INC:
/home/smoker12/.cpan/build/List-MoreUtils-0.430-30t54Z/blib/arch
/home/smoker12/.cpan/build/List-MoreUtils-0.430-30t54Z/blib/lib
/home/smoker12/.cpan/build/List-MoreUtils-XS-0.430-y4qtPp/blib/arch
/home/smoker12/.cpan/build/List-MoreUtils-XS-0.430-y4qtPp/blib/lib
/home/smoker12/.cpan/build/Exporter-Tiny-1.006000-aP2AKV/blib/arch
/home/smoker12/.cpan/build/Exporter-Tiny-1.006000-aP2AKV/blib/lib
/home/smoker12/perl5/perlbrew/perls/perl-5.12.0/lib/site_perl/5.12.0/amd64-freebsd
/home/smoker12/perl5/perlbrew/perls/perl-5.12.0/lib/site_perl/5.12.0
/home/smoker12/perl5/perlbrew/perls/perl-5.12.0/lib/5.12.0/amd64-freebsd
/home/smoker12/perl5/perlbrew/perls/perl-5.12.0/lib/5.12.0
.