Report for POE-Loop-Glib-0.038

Back
From: metabase:user:e3434da8-b236-11df-85ca-0247c6d74bde
Subject: PASS POE-Loop-Glib-0.038 v5.12.3 GNU/Linux
Date: 2011-02-02T16:04:36Z

This distribution has been tested as part of the CPAN Testers
project, supporting the Perl programming language.  See
http://wiki.cpantesters.org/ for more information or email
questions to cpan-testers-discuss@perl.org


--
Dear Apocalypse,

This is a computer-generated report for POE-Loop-Glib-0.038
on perl 5.12.3, created by CPAN-Reporter-1.1902.

Thank you for uploading your work to CPAN.  Congratulations!
All tests were successful.

Sections of this report:

    * Tester comments
    * Program output
    * Prerequisites
    * Environment and other context

------------------------------
TESTER COMMENTS
------------------------------

Additional comments from tester:

this report is from an automated smoke testing program
and was not reviewed by a human for accuracy

------------------------------
PROGRAM OUTPUT
------------------------------

Output from './Build test':

t/1_load.t ............................. ok
t/apocalypse.t ......................... skipped: Test::Apocalypse required for validating the distribution
# Testing POE 1.294, POE::Test::Loops 1.036, Using Loop(POE::Loop::Glib), Perl 5.012003, /home/tester/testing/perl-5.12.3/bin/perl5.12.3 on linux
t/glib/00_info.t ....................... ok
t/glib/all_errors.t .................... skipped: most of these should move into other test files
t/glib/comp_tcp.t ...................... ok
# You might see a 'disconnect' error during this test.
# It may be ignored.
t/glib/comp_tcp_concurrent.t ........... ok
t/glib/connect_errors.t ................ ok
t/glib/k_alarms.t ...................... ok
t/glib/k_aliases.t ..................... ok
t/glib/k_detach.t ...................... ok
t/glib/k_run_returns.t ................. ok
t/glib/k_selects.t ..................... ok
# Waiting 2 seconds for child processes to settle.
t/glib/k_sig_child.t ................... ok
# Waiting 2 seconds for child processes to settle.
t/glib/k_signals.t ..................... ok
t/glib/k_signals_rerun.t ............... ok
t/glib/sbk_signal_init.t ............... ok
t/glib/ses_nfa.t ....................... ok
# This test generates some STDERR during trace testing.
25075: 24 -> _start (from /home/tester/testing/perl-5.12.3/.cpan/build/POE-1.294-EbxKIF/blib/lib/POE/Kernel.pm at 1499)
25075: 24 -> woot (from /home/tester/testing/perl-5.12.3/.cpan/build/POE-Test-Loops-1.036-1_9S3I/blib/lib/POE/Test/Loops/ses_session.pm at 682)
25075: 24 -> narf (from /home/tester/testing/perl-5.12.3/.cpan/build/POE-1.294-EbxKIF/blib/lib/POE/Kernel.pm at 1906)
25075: 24 -> _stop (from /home/tester/testing/perl-5.12.3/.cpan/build/POE-1.294-EbxKIF/blib/lib/POE/Resource/Sessions.pm at 528)
t/glib/ses_session.t ................... ok
t/glib/wheel_accept.t .................. ok
t/glib/wheel_curses.t .................. skipped: Curses not available
t/glib/wheel_readline.t ................ skipped: This test requires Term::ReadKey
t/glib/wheel_readwrite.t ............... ok
t/glib/wheel_run.t ..................... ok
t/glib/wheel_sf_ipv6.t ................. skipped: Socket6 is needed for IPv6 tests
t/glib/wheel_sf_tcp.t .................. ok
t/glib/wheel_sf_udp.t .................. ok
t/glib/wheel_sf_unix.t ................. ok
t/glib/wheel_tail.t .................... ok
t/glib/z_kogman_sig_order.t ............ ok
t/glib/z_leolo_wheel_run.t ............. ok
# Using '/bin/true' as our thing to run under system()
t/glib/z_merijn_sigchld_system.t ....... ok
t/glib/z_rt39872_sigchld.t ............. ok
# Wait 3
# sending sigusr1
# sent sigusr1
t/glib/z_rt39872_sigchld_stop.t ........ ok
t/glib/z_rt53302_fh_watchers.t ......... ok
t/glib/z_rt54319_bazerka_followtail.t .. ok
t/glib/z_steinert_signal_integrity.t ... ok
All tests successful.
Files=36, Tests=479, 95 wallclock secs ( 0.17 usr  0.10 sys +  4.05 cusr  1.21 csys =  5.53 CPU)
Result: PASS

------------------------------
PREREQUISITES
------------------------------

Prerequisite modules loaded:

requires:

    Module           Need  Have    
    ---------------- ----- --------
    Glib             1.222 1.223   
    perl             5.006 5.012003
    POE              1.288 1.294   

configure_requires:

    Module           Need  Have    
    ---------------- ----- --------
    Module::Build    0.36  0.3624  
    POE::Test::Loops 1.034 1.036   


------------------------------
ENVIRONMENT AND OTHER CONTEXT
------------------------------

Environment variables:

    AUTOMATED_TESTING = 1
    LANG = en_US.UTF-8
    LC_COLLATE = C
    LC_MONETARY = nl_NL.utf8
    PATH = /home/tester/perl5/perlbrew/bin:/home/tester/perl5/perlbrew/perls/perl-5.12.3/bin:/usr/lib64/qt-3.3/bin:/usr/lib64/ccache:/usr/local/bin:/bin:/usr/bin:/usr/local/sbin:/usr/sbin:/sbin:/home/tester/bin:/home/tester/bin
    PATH_WITHOUT_PERLBREW = /usr/lib64/qt-3.3/bin:/usr/lib64/ccache:/usr/local/bin:/bin:/usr/bin:/usr/local/sbin:/usr/sbin:/sbin:/home/tester/bin
    PERL5LIB = /home/tester/testing/perl-5.12.3/.cpan/build/POE-1.294-EbxKIF/blib/arch:/home/tester/testing/perl-5.12.3/.cpan/build/POE-1.294-EbxKIF/blib/lib:/home/tester/testing/perl-5.12.3/.cpan/build/IO-Tty-1.10-DSoF8k/blib/arch:/home/tester/testing/perl-5.12.3/.cpan/build/IO-Tty-1.10-DSoF8k/blib/lib:/home/tester/testing/perl-5.12.3/.cpan/build/Glib-1.223-geuOrJ/blib/arch:/home/tester/testing/perl-5.12.3/.cpan/build/Glib-1.223-geuOrJ/blib/lib:/home/tester/testing/perl-5.12.3/.cpan/build/ExtUtils-PkgConfig-1.12-UNSXfV/blib/arch:/home/tester/testing/perl-5.12.3/.cpan/build/ExtUtils-PkgConfig-1.12-UNSXfV/blib/lib:/home/tester/testing/perl-5.12.3/.cpan/build/ExtUtils-Depends-0.304-b9DFb9/blib/arch:/home/tester/testing/perl-5.12.3/.cpan/build/ExtUtils-Depends-0.304-b9DFb9/blib/lib:/home/tester/testing/perl-5.12.3/.cpan/build/POE-Test-Loops-1.036-1_9S3I/blib/arch:/home/tester/testing/perl-5.12.3/.cpan/build/POE-Test-Loops-1.036-1_9S3I/blib/lib
    PERL5OPT = 
    PERL5_CPANPLUS_IS_RUNNING = 27104
    PERL5_CPAN_IS_RUNNING = 27104
    PERL5_MINISMOKEBOX = 0.40
    PERLBREW_PATH = /home/tester/perl5/perlbrew/bin:/home/tester/perl5/perlbrew/perls/perl-5.12.3/bin
    PERLBREW_PERL = perl-5.12.3
    PERLBREW_ROOT = /home/tester/perl5/perlbrew
    PERLBREW_VERSION = 0.15
    PERL_EXTUTILS_AUTOINSTALL = --defaultdeps
    PERL_MM_USE_DEFAULT = 1
    SHELL = /bin/bash
    TERM = screen

Perl special variables (and OS-specific diagnostics, for MSWin32):

    $^X = /home/tester/testing/perl-5.12.3/bin/perl5.12.3
    $UID/$EUID = 501 / 501
    $GID = 501 501
    $EGID = 501 501

Perl module toolchain versions installed:

    Module              Have   
    ------------------- -------
    CPAN                1.94_56
    Cwd                 3.31   
    ExtUtils::CBuilder  0.27   
    ExtUtils::Command   1.16   
    ExtUtils::Install   1.55   
    ExtUtils::MakeMaker 6.56   
    ExtUtils::Manifest  1.57   
    ExtUtils::ParseXS   2.21   
    File::Spec          3.31_01
    Module::Build       0.3624 
    Module::Signature   n/a    
    Test::Harness       3.17   
    Test::More          0.94   
    YAML                n/a    
    YAML::Syck          1.17   
    version             0.88   


--

Summary of my perl5 (revision 5 version 12 subversion 3) configuration:
   
  Platform:
    osname=linux, osvers=2.6.35.6-45.fc14.x86_64, archname=x86_64-linux-thread-multi
    uname='linux firenze.fritz.box 2.6.35.6-45.fc14.x86_64 #1 smp mon oct 18 23:57:44 utc 2010 x86_64 x86_64 x86_64 gnulinux '
    config_args='-des -Dprefix=/home/tester/testing/perl-5.12.3 -Dusethreads -Duse64bitint'
    hint=recommended, useposix=true, d_sigaction=define
    useithreads=define, usemultiplicity=define
    useperlio=define, d_sfio=undef, uselargefiles=define, usesocks=undef
    use64bitint=define, use64bitall=define, uselongdouble=undef
    usemymalloc=n, bincompat5005=undef
  Compiler:
    cc='cc', ccflags ='-D_REENTRANT -D_GNU_SOURCE -fno-strict-aliasing -pipe -fstack-protector -I/usr/local/include -D_LARGEFILE_SOURCE -D_FILE_OFFSET_BITS=64',
    optimize='-O2',
    cppflags='-D_REENTRANT -D_GNU_SOURCE -fno-strict-aliasing -pipe -fstack-protector -I/usr/local/include'
    ccversion='', gccversion='4.5.1 20100924 (Red Hat 4.5.1-4)', gccosandvers=''
    intsize=4, longsize=8, ptrsize=8, doublesize=8, byteorder=12345678
    d_longlong=define, longlongsize=8, d_longdbl=define, longdblsize=16
    ivtype='long', ivsize=8, nvtype='double', nvsize=8, Off_t='off_t', lseeksize=8
    alignbytes=8, prototype=define
  Linker and Libraries:
    ld='cc', ldflags =' -fstack-protector -L/usr/local/lib'
    libpth=/usr/local/lib /lib /usr/lib /lib64 /usr/lib64 /usr/local/lib64
    libs=-lnsl -lgdbm -ldb -ldl -lm -lcrypt -lutil -lpthread -lc -lgdbm_compat
    perllibs=-lnsl -ldl -lm -lcrypt -lutil -lpthread -lc
    libc=, so=so, useshrplib=false, libperl=libperl.a
    gnulibc_version='2.12.90'
  Dynamic Linking:
    dlsrc=dl_dlopen.xs, dlext=so, d_dlsymun=undef, ccdlflags='-Wl,-E'
    cccdlflags='-fPIC', lddlflags='-shared -O2 -L/usr/local/lib -fstack-protector'


Characteristics of this binary (from libperl): 
  Compile-time options: MULTIPLICITY PERL_DONT_CREATE_GVSV
                        PERL_IMPLICIT_CONTEXT PERL_MALLOC_WRAP USE_64_BIT_ALL
                        USE_64_BIT_INT USE_ITHREADS USE_LARGE_FILES
                        USE_PERLIO USE_PERL_ATOF USE_REENTRANT_API
  Built under linux
  Compiled at Jan 31 2011 01:28:03
  %ENV:
    PERL5LIB="/home/tester/testing/perl-5.12.3/.cpan/build/POE-1.294-EbxKIF/blib/arch:/home/tester/testing/perl-5.12.3/.cpan/build/POE-1.294-EbxKIF/blib/lib:/home/tester/testing/perl-5.12.3/.cpan/build/IO-Tty-1.10-DSoF8k/blib/arch:/home/tester/testing/perl-5.12.3/.cpan/build/IO-Tty-1.10-DSoF8k/blib/lib:/home/tester/testing/perl-5.12.3/.cpan/build/Glib-1.223-geuOrJ/blib/arch:/home/tester/testing/perl-5.12.3/.cpan/build/Glib-1.223-geuOrJ/blib/lib:/home/tester/testing/perl-5.12.3/.cpan/build/ExtUtils-PkgConfig-1.12-UNSXfV/blib/arch:/home/tester/testing/perl-5.12.3/.cpan/build/ExtUtils-PkgConfig-1.12-UNSXfV/blib/lib:/home/tester/testing/perl-5.12.3/.cpan/build/ExtUtils-Depends-0.304-b9DFb9/blib/arch:/home/tester/testing/perl-5.12.3/.cpan/build/ExtUtils-Depends-0.304-b9DFb9/blib/lib:/home/tester/testing/perl-5.12.3/.cpan/build/POE-Test-Loops-1.036-1_9S3I/blib/arch:/home/tester/testing/perl-5.12.3/.cpan/build/POE-Test-Loops-1.036-1_9S3I/blib/lib"
    PERL5OPT=""
    PERL5_CPANPLUS_IS_RUNNING="27104"
    PERL5_CPAN_IS_RUNNING="27104"
    PERL5_MINISMOKEBOX="0.40"
    PERLBREW_PATH="/home/tester/perl5/perlbrew/bin:/home/tester/perl5/perlbrew/perls/perl-5.12.3/bin"
    PERLBREW_PERL="perl-5.12.3"
    PERLBREW_ROOT="/home/tester/perl5/perlbrew"
    PERLBREW_VERSION="0.15"
    PERL_EXTUTILS_AUTOINSTALL="--defaultdeps"
    PERL_MM_USE_DEFAULT="1"
  @INC:
    /home/tester/testing/perl-5.12.3/.cpan/build/POE-1.294-EbxKIF/blib/arch
    /home/tester/testing/perl-5.12.3/.cpan/build/POE-1.294-EbxKIF/blib/lib
    /home/tester/testing/perl-5.12.3/.cpan/build/IO-Tty-1.10-DSoF8k/blib/arch
    /home/tester/testing/perl-5.12.3/.cpan/build/IO-Tty-1.10-DSoF8k/blib/lib
    /home/tester/testing/perl-5.12.3/.cpan/build/Glib-1.223-geuOrJ/blib/arch
    /home/tester/testing/perl-5.12.3/.cpan/build/Glib-1.223-geuOrJ/blib/lib
    /home/tester/testing/perl-5.12.3/.cpan/build/ExtUtils-PkgConfig-1.12-UNSXfV/blib/arch
    /home/tester/testing/perl-5.12.3/.cpan/build/ExtUtils-PkgConfig-1.12-UNSXfV/blib/lib
    /home/tester/testing/perl-5.12.3/.cpan/build/ExtUtils-Depends-0.304-b9DFb9/blib/arch
    /home/tester/testing/perl-5.12.3/.cpan/build/ExtUtils-Depends-0.304-b9DFb9/blib/lib
    /home/tester/testing/perl-5.12.3/.cpan/build/POE-Test-Loops-1.036-1_9S3I/blib/arch
    /home/tester/testing/perl-5.12.3/.cpan/build/POE-Test-Loops-1.036-1_9S3I/blib/lib
    /home/tester/testing/perl-5.12.3/lib/site_perl/5.12.3/x86_64-linux-thread-multi
    /home/tester/testing/perl-5.12.3/lib/site_perl/5.12.3
    /home/tester/testing/perl-5.12.3/lib/5.12.3/x86_64-linux-thread-multi
    /home/tester/testing/perl-5.12.3/lib/5.12.3
    .