Report for HTTP-Body-1.15

Back
From: metabase:user:30f4dfbe-2aae-11df-837a-5e0a49663a4f
Subject: PASS HTTP-Body-1.15 v5.15.9 GNU/Linux
Date: 2012-04-11T08:55:47Z

This distribution has been tested as part of the CPAN Testers
project, supporting the Perl programming language.  See
http://wiki.cpantesters.org/ for more information or email
questions to cpan-testers-discuss@perl.org


--
Dear Torsten Raudssus,

This is a computer-generated report for HTTP-Body-1.15
on perl 5.15.9, created by CPAN-Reporter-1.2005.

Thank you for uploading your work to CPAN.  Congratulations!
All tests were successful.

Sections of this report:

    * Tester comments
    * Program output
    * Prerequisites
    * Environment and other context

------------------------------
TESTER COMMENTS
------------------------------

Additional comments from tester:

this report is from an automated smoke testing program
and was not reviewed by a human for accuracy

------------------------------
PROGRAM OUTPUT
------------------------------

Output from '/usr/bin/make test':

PERL_DL_NONLAZY=1 /usr/local/bin/perl5.15.9 "-MExtUtils::Command::MM" "-e" "test_harness(0, 'blib/lib', 'blib/arch')" t/*.t
t/01use.t ............... ok
t/02pod.t ............... skipped: set TEST_POD to enable this test
t/03podcoverage.t ....... skipped: set TEST_POD to enable this test
t/04critic.t ............ skipped: Critic test only for developers.
t/04multipart.t ......... ok
t/05urlencoded.t ........ ok
t/06octetstream.t ....... ok
t/07xforms.t ............ ok
t/08multipart-suffix.t .. ok
All tests successful.
Files=9, Tests=223,  1 wallclock secs ( 0.06 usr  0.01 sys +  0.52 cusr  0.04 csys =  0.63 CPU)
Result: PASS

------------------------------
PREREQUISITES
------------------------------

Prerequisite modules loaded:

requires:

    Module              Need Have   
    ------------------- ---- -------
    Carp                0    1.25   
    Digest::MD5         0    2.51   
    File::Temp          0.14 0.22   
    HTTP::Headers       0    6.00   
    IO::File            1.14 1.16   

build_requires:

    Module              Need Have   
    ------------------- ---- -------
    Test::Deep          0    0.109  
    Test::More          0.86 0.98   

configure_requires:

    Module              Need Have   
    ------------------- ---- -------
    ExtUtils::MakeMaker 6.30 6.63_02


------------------------------
ENVIRONMENT AND OTHER CONTEXT
------------------------------

Environment variables:

    AUTOMATED_TESTING = 1
    LANG = en_GB.UTF-8
    LANGUAGE = en_GB:en
    LD_LIBRARY_PATH = :/usr/local/lib:/usr/lib/qt-3.3/lib:/usr/X11R6/lib
    MANPATH_WITHOUT_PERLBREW = :/usr/local/man:/home/njh/man:/usr/share/inn/man:/usr/share/perl5/man:/usr/share/tcl-8.0/man:/usr/share/tclX-8.0.4/man:/usr/share/tix-4.1/man:/usr/share/tk-8.0/man:/usr/server/doc:/usr/share/man:/opt/intel/cc/9.1.038/man
    PATH = /home/njh/perl5/perlbrew/bin:/usr/local/bin:/usr/bin:/bin:/usr/local/games:/usr/games:/home/njh/bin
    PATH_WITHOUT_PERLBREW = /usr/local/bin:/usr/bin:/bin:/usr/local/games:/usr/games:/home/njh/bin
    PERL5LIB = /home/njh/.cpan/build/Test-TCP-1.15-lDpJvq/blib/arch:/home/njh/.cpan/build/Test-TCP-1.15-lDpJvq/blib/lib:/home/njh/.cpan/build/Test-SharedFork-0.20-SfxwNy/blib/arch:/home/njh/.cpan/build/Test-SharedFork-0.20-SfxwNy/blib/lib:/home/njh/.cpan/build/MooseX-Role-WithOverloading-0.09-cAnspJ/blib/arch:/home/njh/.cpan/build/MooseX-Role-WithOverloading-0.09-cAnspJ/blib/lib:/home/njh/.cpan/build/namespace-autoclean-0.13-8cJuCZ/blib/arch:/home/njh/.cpan/build/namespace-autoclean-0.13-8cJuCZ/blib/lib:/home/njh/.cpan/build/aliased-0.30-EnoBrZ/blib/arch:/home/njh/.cpan/build/aliased-0.30-EnoBrZ/blib/lib:/home/njh/.cpan/build/MooseX-Emulate-Class-Accessor-Fast-0.00903-wYAk3E/blib/arch:/home/njh/.cpan/build/MooseX-Emulate-Class-Accessor-Fast-0.00903-wYAk3E/blib/lib
    PERL5OPT = 
    PERL5_CPANPLUS_IS_RUNNING = 9854
    PERL5_CPAN_IS_RUNNING = 9854
    PERL5_CPAN_IS_RUNNING_IN_RECURSION = 9646,9854
    PERLBREW_BASHRC_VERSION = 0.42
    PERLBREW_HOME = /home/njh/.perlbrew
    PERLBREW_MANPATH = 
    PERLBREW_PATH = /home/njh/perl5/perlbrew/bin
    PERLBREW_PERL = 
    PERLBREW_ROOT = /home/njh/perl5/perlbrew
    PERLBREW_VERSION = 0.42
    PERL_CR_SMOKER_CURRENT = Catalyst-View-TT-0.39
    PERL_EXTUTILS_AUTOINSTALL = --defaultdeps
    PERL_MM_USE_DEFAULT = 1
    SHELL = /bin/bash
    TERM = linux

Perl special variables (and OS-specific diagnostics, for MSWin32):

    $^X = /usr/local/bin/perl5.15.9
    $UID/$EUID = 1000 / 1000
    $GID = 1000 24 25 29 30 44 46 108 112 1000
    $EGID = 1000 24 25 29 30 44 46 108 112 1000

Perl module toolchain versions installed:

    Module              Have    
    ------------------- --------
    CPAN                1.9800  
    CPAN::Meta          2.120921
    Cwd                 3.39_02 
    ExtUtils::CBuilder  0.280206
    ExtUtils::Command   1.17    
    ExtUtils::Install   1.58    
    ExtUtils::MakeMaker 6.63_02 
    ExtUtils::Manifest  1.61    
    ExtUtils::ParseXS   3.16    
    File::Spec          3.39_02 
    JSON                2.53    
    JSON::PP            2.27200 
    Module::Build       0.40    
    Module::Signature   0.68    
    Parse::CPAN::Meta   1.4404  
    Test::Harness       3.23    
    Test::More          0.98    
    YAML                0.80    
    YAML::Syck          1.20    
    version             0.97    


--

Summary of my perl5 (revision 5 version 15 subversion 9) configuration:
  Snapshot of: 52e67aba07fa1e33f37f56e48e0dd93a008ecede
  Platform:
    osname=linux, osvers=3.2.0-2-amd64, archname=x86_64-linux-thread-multi
    uname='linux hp 3.2.0-2-amd64 #1 smp fri apr 6 05:01:55 utc 2012 x86_64 gnulinux '
    config_args='-des -Dusedevel -Accflags=-O2 -W -Wformat=2 -Wall -Wextra -pipe -mtune=native -march=native -fomit-frame-pointer -msse3 -msse2 -msse -mmmx -mfpmath=sse -D_FORTIFY_SOURCE=2 -fstack-protector -Wstack-protector -Wfloat-equal -Duseithreads'
    hint=recommended, useposix=true, d_sigaction=define
    useithreads=define, usemultiplicity=define
    useperlio=define, d_sfio=undef, uselargefiles=define, usesocks=undef
    use64bitint=define, use64bitall=define, uselongdouble=undef
    usemymalloc=n, bincompat5005=undef
  Compiler:
    cc='cc', ccflags ='-D_REENTRANT -D_GNU_SOURCE -DDEBUGGING -O2 -W -Wformat=2 -Wall -Wextra -pipe -mtune=native -march=native -fomit-frame-pointer -msse3 -msse2 -msse -mmmx -mfpmath=sse -D_FORTIFY_SOURCE=2 -fstack-protector -Wstack-protector -Wfloat-equal -fno-strict-aliasing -I/usr/local/include -D_LARGEFILE_SOURCE -D_FILE_OFFSET_BITS=64',
    optimize='-O2',
    cppflags='-D_REENTRANT -D_GNU_SOURCE -DDEBUGGING -O2 -W -Wformat=2 -Wall -Wextra -pipe -mtune=native -march=native -fomit-frame-pointer -msse3 -msse2 -msse -mmmx -mfpmath=sse -D_FORTIFY_SOURCE=2 -fstack-protector -Wstack-protector -Wfloat-equal -fno-strict-aliasing -I/usr/local/include'
    ccversion='', gccversion='4.6.3', gccosandvers=''
    intsize=4, longsize=8, ptrsize=8, doublesize=8, byteorder=12345678
    d_longlong=define, longlongsize=8, d_longdbl=define, longdblsize=16
    ivtype='long', ivsize=8, nvtype='double', nvsize=8, Off_t='off_t', lseeksize=8
    alignbytes=8, prototype=define
  Linker and Libraries:
    ld='cc', ldflags =' -fstack-protector -L/usr/local/lib'
    libpth=/usr/local/lib /lib/x86_64-linux-gnu /lib/../lib /usr/lib/x86_64-linux-gnu /usr/lib/../lib /lib /usr/lib
    libs=-lnsl -lgdbm -ldb -ldl -lm -lcrypt -lutil -lpthread -lc -lgdbm_compat
    perllibs=-lnsl -ldl -lm -lcrypt -lutil -lpthread -lc
    libc=, so=so, useshrplib=false, libperl=libperl.a
    gnulibc_version='2.13'
  Dynamic Linking:
    dlsrc=dl_dlopen.xs, dlext=so, d_dlsymun=undef, ccdlflags='-Wl,-E'
    cccdlflags='-fPIC', lddlflags='-shared -O2 -L/usr/local/lib -fstack-protector'


Characteristics of this binary (from libperl): 
  Compile-time options: DEBUGGING HAS_TIMES MULTIPLICITY PERLIO_LAYERS
                        PERL_DONT_CREATE_GVSV PERL_IMPLICIT_CONTEXT
                        PERL_MALLOC_WRAP PERL_PRESERVE_IVUV
                        PERL_TRACK_MEMPOOL PERL_USE_DEVEL USE_64_BIT_ALL
                        USE_64_BIT_INT USE_ITHREADS USE_LARGE_FILES
                        USE_LOCALE USE_LOCALE_COLLATE USE_LOCALE_CTYPE
                        USE_LOCALE_NUMERIC USE_PERLIO USE_PERL_ATOF
                        USE_REENTRANT_API
  Locally applied patches:
	SMOKE52e67aba07fa1e33f37f56e48e0dd93a008ecede
  Built under linux
  Compiled at Apr 11 2012 00:15:05
  %ENV:
    PERL5LIB="/home/njh/.cpan/build/Test-TCP-1.15-lDpJvq/blib/arch:/home/njh/.cpan/build/Test-TCP-1.15-lDpJvq/blib/lib:/home/njh/.cpan/build/Test-SharedFork-0.20-SfxwNy/blib/arch:/home/njh/.cpan/build/Test-SharedFork-0.20-SfxwNy/blib/lib:/home/njh/.cpan/build/MooseX-Role-WithOverloading-0.09-cAnspJ/blib/arch:/home/njh/.cpan/build/MooseX-Role-WithOverloading-0.09-cAnspJ/blib/lib:/home/njh/.cpan/build/namespace-autoclean-0.13-8cJuCZ/blib/arch:/home/njh/.cpan/build/namespace-autoclean-0.13-8cJuCZ/blib/lib:/home/njh/.cpan/build/aliased-0.30-EnoBrZ/blib/arch:/home/njh/.cpan/build/aliased-0.30-EnoBrZ/blib/lib:/home/njh/.cpan/build/MooseX-Emulate-Class-Accessor-Fast-0.00903-wYAk3E/blib/arch:/home/njh/.cpan/build/MooseX-Emulate-Class-Accessor-Fast-0.00903-wYAk3E/blib/lib"
    PERL5OPT=""
    PERL5_CPANPLUS_IS_RUNNING="9854"
    PERL5_CPAN_IS_RUNNING="9854"
    PERL5_CPAN_IS_RUNNING_IN_RECURSION="9646,9854"
    PERLBREW_BASHRC_VERSION="0.42"
    PERLBREW_HOME="/home/njh/.perlbrew"
    PERLBREW_MANPATH=""
    PERLBREW_PATH="/home/njh/perl5/perlbrew/bin"
    PERLBREW_PERL=""
    PERLBREW_ROOT="/home/njh/perl5/perlbrew"
    PERLBREW_VERSION="0.42"
    PERL_CR_SMOKER_CURRENT="Catalyst-View-TT-0.39"
    PERL_EXTUTILS_AUTOINSTALL="--defaultdeps"
    PERL_MM_USE_DEFAULT="1"
  @INC:
    /home/njh/.cpan/build/Test-TCP-1.15-lDpJvq/blib/arch
    /home/njh/.cpan/build/Test-TCP-1.15-lDpJvq/blib/lib
    /home/njh/.cpan/build/Test-SharedFork-0.20-SfxwNy/blib/arch
    /home/njh/.cpan/build/Test-SharedFork-0.20-SfxwNy/blib/lib
    /home/njh/.cpan/build/MooseX-Role-WithOverloading-0.09-cAnspJ/blib/arch
    /home/njh/.cpan/build/MooseX-Role-WithOverloading-0.09-cAnspJ/blib/lib
    /home/njh/.cpan/build/namespace-autoclean-0.13-8cJuCZ/blib/arch
    /home/njh/.cpan/build/namespace-autoclean-0.13-8cJuCZ/blib/lib
    /home/njh/.cpan/build/aliased-0.30-EnoBrZ/blib/arch
    /home/njh/.cpan/build/aliased-0.30-EnoBrZ/blib/lib
    /home/njh/.cpan/build/MooseX-Emulate-Class-Accessor-Fast-0.00903-wYAk3E/blib/arch
    /home/njh/.cpan/build/MooseX-Emulate-Class-Accessor-Fast-0.00903-wYAk3E/blib/lib
    /usr/local/lib/perl5/site_perl/5.15.9/x86_64-linux-thread-multi
    /usr/local/lib/perl5/site_perl/5.15.9
    /usr/local/lib/perl5/5.15.9/x86_64-linux-thread-multi
    /usr/local/lib/perl5/5.15.9
    /usr/local/lib/perl5/site_perl
    .