Promise-XS v0.20 Perl 5 v5.37.12 amd64-netbsd

Status
Pass
From
Carlos Guevara
Dist
Promise-XS v0.20
Platform
Perl 5 v5.37.12 amd64-netbsd
Date
2023-05-01 23:44:36
ID
2164819c-e87a-11ed-bc8b-bb78eba5e19b
This distribution has been tested as part of the CPAN Testers
project, supporting the Perl programming language.  See
http://wiki.cpantesters.org/ for more information or email
questions to cpan-testers-discuss@perl.org


--
Dear Felipe Gasper,

This is a computer-generated report for Promise-XS-0.20
on perl 5.37.12, created by CPAN-Reporter-1.2019.

Thank you for uploading your work to CPAN.  Congratulations!
All tests were successful.

Sections of this report:

    * Tester comments
    * Program output
    * Prerequisites
    * Environment and other context

------------------------------
TESTER COMMENTS
------------------------------

Additional comments from tester:

this report is from an automated smoke testing program
and was not reviewed by a human for accuracy

------------------------------
PROGRAM OUTPUT
------------------------------

Output from '/usr/bin/make test':

"/home/cpan/bin/perl/bin/perl5.37.12" -MExtUtils::Command::MM -e 'cp_nonempty' -- XS.bs blib/arch/auto/Promise/XS/XS.bs 644
PERL_DL_NONLAZY=1 "/home/cpan/bin/perl/bin/perl5.37.12" "-MExtUtils::Command::MM" "-MTest::Harness" "-e" "undef *Test::Harness::Switches; test_harness(0, 'blib/lib', 'blib/arch')" t/*.t
t/alias.t ........................ ok
# AnyEvent 7.17
t/anyevent.t ..................... ok
t/aplus.t ........................ ok
# Future::AsyncAwait 0.65
Promise::XS::Promise: Unhandled rejection: Late oopsie
Promise::XS::Promise: Unhandled rejection: Oopsie
t/async_await.t .................. ok
t/async_await__several_awaits.t .. ok
t/async_await__simple.t .......... ok
t/async_await_hold_ref.t ......... ok
# Future::AsyncAwait 0.65
t/async_await_version.t .......... ok
t/await_wait__anyevent.t ......... ok
t/await_wait__ioasync.t .......... ok
t/await_wait__mojo.t ............. ok
t/detect_memory_leaks.t .......... ok
t/finally.t ...................... ok
t/infinite_recursion.t ........... ok
# IO::Async::Loop 0.802
t/ioasync.t ...................... ok
# Mojolicious 9.31
t/mojo.t ......................... ok
t/multi_return.t ................. ok
t/no_leak_stashed_ref.t .......... ok
t/oserror.t ...................... ok
t/promise_all_race.t ............. ok
t/reject_undef.t ................. ok
t/subclass.t ..................... ok
t/sync.t ......................... ok
t/unhandled_rejection.t .......... ok
Useless assignment to a temporary at t/XSPromises.t line 62.
t/XSPromises.t ................... ok
All tests successful.
Files=25, Tests=194,  7 wallclock secs ( 0.13 usr  0.06 sys +  4.65 cusr  1.33 csys =  6.17 CPU)
Result: PASS

------------------------------
PREREQUISITES
------------------------------

Prerequisite modules loaded:

build_requires:

    Module                        Need Have    
    ----------------------------- ---- --------
    ExtUtils::MakeMaker           0    7.70    
    File::Temp                    0    0.2311  
    Test::Deep                    0    1.204   
    Test::FailWarnings            0    0.008   
    Test::More                    0    1.302195

configure_requires:

    Module                        Need Have    
    ----------------------------- ---- --------
    ExtUtils::MakeMaker::CPANfile 0.09 0.09    


------------------------------
ENVIRONMENT AND OTHER CONTEXT
------------------------------

Environment variables:

    AUTOMATED_TESTING = 1
    DATE_MANIP_TEST_DM5 = 1
    LC_ALL = C
    NONINTERACTIVE_TESTING = 1
    NO_NETWORK_TESTING = 1
    PATH = /home/cpan/bin/perl/bin:/home/cpan/bin:/home/cpan/bin:/bin:/sbin:/usr/bin:/usr/sbin:/usr/X11R7/bin:/usr/pkg/bin:/usr/pkg/sbin:/usr/games:/usr/local/bin:/usr/local/sbin
    PERL5LIB = 
    PERL5OPT = 
    PERL5_CPANPLUS_IS_RUNNING = 24692
    PERL5_CPAN_IS_RUNNING = 24692
    PERL_MM_USE_DEFAULT = 1
    PERL_USE_UNSAFE_INC = 1
    SHELL = /usr/pkg/bin/bash
    TERM = screen
    TMPDIR = /home/cpan/tmp

Perl special variables (and OS-specific diagnostics, for MSWin32):

    $^X = /home/cpan/bin/perl/bin/perl5.37.12
    $UID/$EUID = 1001 / 1001
    $GID = 100 100
    $EGID = 100 100

Perl module toolchain versions installed:

    Module              Have    
    ------------------- --------
    CPAN                2.35    
    CPAN::Meta          2.150010
    Cwd                 3.89    
    ExtUtils::CBuilder  0.280238
    ExtUtils::Command   7.70    
    ExtUtils::Install   2.22    
    ExtUtils::MakeMaker 7.70    
    ExtUtils::Manifest  1.75    
    ExtUtils::ParseXS   3.50    
    File::Spec          3.88    
    JSON                4.10    
    JSON::PP            4.16    
    Module::Build       0.4234  
    Module::Signature   n/a     
    Parse::CPAN::Meta   2.150010
    Test2               1.302195
    Test::Harness       3.44    
    Test::More          1.302195
    YAML                1.30    
    YAML::Syck          1.34    
    version             0.9929  


--

Summary of my perl5 (revision 5 version 37 subversion 12) configuration:
  Commit id: 265a3a4170eb43b0731b6ebd8f14bb25b02cd2e5
  Platform:
    osname=netbsd
    osvers=8.2
    archname=amd64-netbsd
    uname='netbsd cjg-netbsd8 8.2 netbsd 8.2 (generic) #0: tue mar 31 05:08:40 utc 2020 mkrepro@mkrepro.netbsd.org:usrsrcsysarchamd64compilegeneric amd64 '
    config_args='-des -Dprefix=/home/cpan/bin/perl -Dscriptdir=/home/cpan/bin/perl/bin -Dusedevel -Duse64bitall'
    hint=recommended
    useposix=true
    d_sigaction=define
    useithreads=undef
    usemultiplicity=undef
    use64bitint=define
    use64bitall=define
    uselongdouble=undef
    usemymalloc=n
    default_inc_excludes_dot=define
  Compiler:
    cc='cc'
    ccflags ='-fwrapv -fno-strict-aliasing -pipe -fstack-protector-strong -I/usr/pkg/include -D_FORTIFY_SOURCE=2'
    optimize='-O'
    cppflags='-fwrapv -fno-strict-aliasing -pipe -fstack-protector-strong -I/usr/pkg/include'
    ccversion=''
    gccversion='5.5.0'
    gccosandvers=''
    intsize=4
    longsize=8
    ptrsize=8
    doublesize=8
    byteorder=12345678
    doublekind=3
    d_longlong=define
    longlongsize=8
    d_longdbl=define
    longdblsize=16
    longdblkind=3
    ivtype='long'
    ivsize=8
    nvtype='double'
    nvsize=8
    Off_t='off_t'
    lseeksize=8
    alignbytes=8
    prototype=define
  Linker and Libraries:
    ld='cc'
    ldflags =' -Wl,-rpath,/usr/pkg/lib -Wl,-rpath,/usr/local/lib -fstack-protector-strong -L/usr/pkg/lib'
    libpth=/usr/lib /usr/pkg/lib /lib
    libs=-lpthread -lm -lcrypt -lutil -lc -lposix
    perllibs=-lpthread -lm -lcrypt -lutil -lc -lposix
    libc=/lib/libc.so
    so=so
    useshrplib=false
    libperl=libperl.a
    gnulibc_version=''
  Dynamic Linking:
    dlsrc=dl_dlopen.xs
    dlext=so
    d_dlsymun=undef
    ccdlflags='-Wl,-E '
    cccdlflags='-DPIC -fPIC '
    lddlflags='-shared  -L/usr/pkg/lib -fstack-protector-strong'


Characteristics of this binary (from libperl): 
  Compile-time options:
    HAS_LONG_DOUBLE
    HAS_STRTOLD
    HAS_TIMES
    PERLIO_LAYERS
    PERL_COPY_ON_WRITE
    PERL_DONT_CREATE_GVSV
    PERL_HASH_FUNC_SIPHASH13
    PERL_HASH_USE_SBOX32
    PERL_MALLOC_WRAP
    PERL_OP_PARENT
    PERL_PRESERVE_IVUV
    PERL_USE_DEVEL
    PERL_USE_SAFE_PUTENV
    USE_64_BIT_ALL
    USE_64_BIT_INT
    USE_LARGE_FILES
    USE_LOCALE
    USE_LOCALE_COLLATE
    USE_LOCALE_CTYPE
    USE_LOCALE_NUMERIC
    USE_LOCALE_TIME
    USE_PERLIO
    USE_PERL_ATOF
  Built under netbsd
  Compiled at May  1 2023 00:48:28
  %ENV:
    PERL5LIB=""
    PERL5OPT=""
    PERL5_CPANPLUS_IS_RUNNING="24692"
    PERL5_CPAN_IS_RUNNING="24692"
    PERL_MM_USE_DEFAULT="1"
    PERL_USE_UNSAFE_INC="1"
  @INC:
    /home/cpan/bin/perl/lib/site_perl/5.37.12/amd64-netbsd
    /home/cpan/bin/perl/lib/site_perl/5.37.12
    /home/cpan/bin/perl/lib/5.37.12/amd64-netbsd
    /home/cpan/bin/perl/lib/5.37.12
    .