Back
From: metabase:user:320bfe00-2aae-11df-837a-5e0a49663a4f
Subject: PASS Sys-CpuAffinity-1.10 v5.14.4 GNU/Linux
Date: 2016-08-11T17:29:17Z
This distribution has been tested as part of the CPAN Testers
project, supporting the Perl programming language. See
http://wiki.cpantesters.org/ for more information or email
questions to cpan-testers-discuss@perl.org
--
Dear Marty O'Brien,
This is a computer-generated report for Sys-CpuAffinity-1.10
on perl 5.14.4, created by CPAN-Reporter-1.2017.
Thank you for uploading your work to CPAN. Congratulations!
All tests were successful.
Sections of this report:
* Tester comments
* Program output
* Prerequisites
* Environment and other context
------------------------------
TESTER COMMENTS
------------------------------
Additional comments from tester:
this report is from an automated smoke testing program
and was not reviewed by a human for accuracy
------------------------------
PROGRAM OUTPUT
------------------------------
Output from './Build test':
# Testing Sys::CpuAffinity 1.10, Perl 5.014004, /home/sand/src/perl/repoperls/installed-perls/perl/v5.14.4/79cc/bin/perl, linux
t/00-load.t .......... ok
System configuration
====================
$^O = linux; $] = 5.014004
$ENV{AUTOMATED_TESTING} = 1
Defined XS functions:
xs_fortytwo
xs_sched_getaffinity_get_affinity
xs_sched_setaffinity_set_affinity
module Win32::API: not available
module Win32::Process: not available
module BSD::Process::Affinity: not available
bindprocessor: not found
dmesg available at: /bin/dmesg
sysctl available at: /sbin/sysctl
psrinfo: not found
hinv: not found
hwprefs: not found
lsdev: not found
system_profiler: not found
prtconf: not found
taskset available at: /usr/bin/taskset
pbind: not found
cpuset: not found
t/02-available.t ..... ok
result: -1 3 ESRCH
result: -1 3 ESRCH
Sys::CpuAffinity: invalid mask 0 in call to setAffinty
at t/10-exercise.t line 94.
Sys::CpuAffinity: mask 16 is not valid for system with 4 processors.
at t/10-exercise.t line 95.
t/10-exercise.t ...... ok
=================================================
Num processors =
bindprocessor - 0 -
dmesg_bsd - 0 -
dmesg_solaris - 0 -
ENV - 0 -
hinv - 0 -
hwprefs - 0 -
lsdev - 0 -
proc_cpuinfo - 4 -
proc_stat - 4 -
prtconf - 0 -
psrinfo - 0 -
sysctl - 0 -
system_profiler - 0 -
taskset - 4 -
Test_Smoke_SysInfo - 16 -
Win32API_System_Info - 0 -
xs_cpusetGetCPUCount - 0 -
xs_solaris - 0 -
xs_Win32API_System_Info - 0 -
===============================================
Current affinity =
BSD_Process_Affinity ==> 0
cpuset ==> 0
pbind ==> 0
psaix ==> 0
taskset ==> 15
Win32API ==> 0
Win32Process ==> 0
xs_cpuset_getaffinity ==> 0
xs_DEBUG_sched_getaffinity ==> ---
diag CPU_SETSIZE=1024
diag sizeof(__cpu_mask)=8
diag __NCPUBITS=64
diag sizeof(cpu_set_t)=128
diag sizeof(pid_t)=4
getaffinity0
getaffinity1 pid=15223 size=1024 cpuset=0x7f6203c7e340
getaffinity2
getaffinity5
getaffinity6 i=0 r=0
getaffinity7
getaffinity8 add 0 to mask
getaffinity9
getaffinity6 i=1 r=1
getaffinity7
getaffinity8 add 1 to mask
getaffinity9
getaffinity6 i=2 r=1
getaffinity7
getaffinity8 add 2 to mask
getaffinity9
getaffinity6 i=3 r=1
getaffinity7
getaffinity8 add 3 to mask
getaffinity9
getaffinity6 i=4 r=1
getaffinity9
getaffinity6 i=5 r=1
getaffinity9
getaffinity6 i=6 r=1
getaffinity9
getaffinity6 i=7 r=1
getaffinity9
getaffinity6 i=8 r=1
getaffinity9
getaffinity6 i=9 r=1
getaffinity9
getaffinity6 i=10 r=1
getaffinity9
getaffinity6 i=11 r=1
getaffinity9
getaffinity6 i=12 r=1
getaffinity9
getaffinity6 i=13 r=1
getaffinity9
getaffinity6 i=14 r=1
getaffinity9
getaffinity6 i=15 r=1
getaffinity9
getaffinity6 i=16 r=1
getaffinity9
getaffinity6 i=17 r=1
getaffinity9
getaffinity6 i=18 r=1
getaffinity9
getaffinity6 i=19 r=1
getaffinity9
getaffinity6 i=20 r=1
getaffinity9
getaffinity6 i=21 r=1
getaffinity9
getaffinity6 i=22 r=1
getaffinity9
getaffinity6 i=23 r=1
getaffinity9
getaffinity6 i=24 r=1
getaffinity9
getaffinity6 i=25 r=1
getaffinity9
getaffinity6 i=26 r=1
getaffinity9
getaffinity6 i=27 r=1
getaffinity9
getaffinity6 i=28 r=1
getaffinity9
getaffinity6 i=29 r=1
getaffinity9
getaffinity6 i=30 r=1
getaffinity9
getaffinity6 i=31 r=1
getaffinity9
getaffinity6 i=32 r=1
getaffinity9
getaffinity6 i=33 r=1
getaffinity9
getaffinity6 i=34 r=1
getaffinity9
getaffinity6 i=35 r=1
getaffinity9
getaffinity6 i=36 r=1
getaffinity9
getaffinity6 i=37 r=1
getaffinity9
getaffinity6 i=38 r=1
getaffinity9
getaffinity6 i=39 r=1
getaffinity9
getaffinity6 i=40 r=1
getaffinity9
getaffinity6 i=41 r=1
getaffinity9
getaffinity6 i=42 r=1
getaffinity9
getaffinity6 i=43 r=1
getaffinity9
getaffinity6 i=44 r=1
getaffinity9
getaffinity6 i=45 r=1
getaffinity9
getaffinity6 i=46 r=1
getaffinity9
getaffinity6 i=47 r=1
getaffinity9
getaffinity6 i=48 r=1
getaffinity9
getaffinity6 i=49 r=1
getaffinity9
getaffinity6 i=50 r=1
getaffinity9
getaffinity6 i=51 r=1
getaffinity9
getaffinity6 i=52 r=1
getaffinity9
getaffinity6 i=53 r=1
getaffinity9
getaffinity6 i=54 r=1
getaffinity9
getaffinity6 i=55 r=1
getaffinity9
getaffinity6 i=56 r=1
getaffinity9
getaffinity6 i=57 r=1
getaffinity9
getaffinity6 i=58 r=1
getaffinity9
getaffinity6 i=59 r=1
getaffinity9
getaffinity6 i=60 r=1
getaffinity9
getaffinity6 i=61 r=1
getaffinity9
getaffinity6 i=62 r=1
getaffinity9
getaffinity6 i=63 r=1
getaffinity9
getaffinitya r=1
15
xs_irix_sysmp ==> 0
xs_processor_affinity ==> 0
xs_pthread_self_getaffinity ==> 0
xs_sched_getaffinity ==> 15
xs_win32 ==> 0
==================================================
Set affinity =
bindprocessor => 4 ==> 15 [FAIL]
BSD_Process_Affinity => 3 ==> 15 [FAIL]
cpuset => 2 ==> 15 [FAIL]
pbind => 6 ==> 15 [FAIL]
taskset => 4 ==> 4 [ ok ]
Win32API => 3 ==> 4 [FAIL]
Win32Process => 7 ==> 4 [FAIL]
xs_cpuset_setaffinity => 9 ==> 4 [FAIL]
xs_irix_sysmp => 10 ==> 4 [FAIL]
xs_processor_affinity => 7 ==> 4 [FAIL]
xs_pthread_self_setaffinity => 10 ==> 4 [FAIL]
xs_sched_setaffinity => 13 ==> 13 [ ok ]
xs_win32 => 6 ==> 13 [FAIL]
t/11-exercise-all.t .. ok
# This system has 4 cpus. Spoofing Sys::CpuAffinity::getNumCpus() to return 32
t/12-32cpus.t ........ ok
All tests successful.
Files=5, Tests=24, 5 wallclock secs ( 0.02 usr 0.05 sys + 0.92 cusr 0.32 csys = 1.31 CPU)
Result: PASS
------------------------------
PREREQUISITES
------------------------------
Prerequisite modules loaded:
build_requires:
Module Need Have
------------- ---- --------
Module::Build 0.25 0.42_19
Test::More 0 1.302050
configure_requires:
Module Need Have
------------- ---- --------
Module::Build 0.42 0.42_19
------------------------------
ENVIRONMENT AND OTHER CONTEXT
------------------------------
Environment variables:
AUTOMATED_TESTING = 1
LANG = en_US.UTF-8
LANGUAGE = en_US:en
PATH = /usr/lib/ccache:/home/sand/bin:/usr/local/bin:/usr/bin:/bin:/usr/games:/usr/local/perl/bin:/usr/X11/bin:/sbin:/usr/sbin
PERL5LIB =
PERL5OPT =
PERL5_CPANPLUS_IS_RUNNING = 14264
PERL5_CPAN_IS_RUNNING = 14264
PERL_CANARY_STABILITY_NOPROMPT = 1
PERL_MM_USE_DEFAULT = 1
SHELL = /usr/bin/zsh
TERM = screen
Perl special variables (and OS-specific diagnostics, for MSWin32):
$^X = /home/sand/src/perl/repoperls/installed-perls/perl/v5.14.4/79cc/bin/perl
$UID/$EUID = 1005 / 1005
$GID = 1005 1005
$EGID = 1005 1005
Perl module toolchain versions installed:
Module Have
------------------- --------
CPAN 2.15
CPAN::Meta 2.150009
Cwd 3.62
ExtUtils::CBuilder 0.280224
ExtUtils::Command 7.21_01
ExtUtils::Install 1.56
ExtUtils::MakeMaker 7.21_01
ExtUtils::Manifest 1.70
ExtUtils::ParseXS 3.30
File::Spec 3.62
JSON 2.90
JSON::PP 2.27400
Module::Build 0.42_19
Module::Signature 0.79
Parse::CPAN::Meta 2.150009
Test::Harness 3.36
Test::More 1.302050
YAML 1.17
YAML::Syck 1.29
version 0.9916
--
Summary of my perl5 (revision 5 version 14 subversion 4) configuration:
Derived from: 26c5c13a4ece9084f310610bb17fb2f24c72a73e
Platform:
osname=linux, osvers=4.3.0-1-amd64, archname=x86_64-linux
uname='linux k83 4.3.0-1-amd64 #1 smp debian 4.3.3-7 (2016-01-19) x86_64 gnulinux '
config_args='-Dprefix=/home/sand/src/perl/repoperls/installed-perls/perl/v5.14.4/79cc -Dmyhostname=k83 -Dinstallusrbinperl=n -Uversiononly -Dusedevel -des -Ui_db -Dlibswanted=cl pthread socket inet nsl gdbm dbm malloc dl ld sun m crypt sec util c cposix posix ucb BSD gdbm_compat -Uuseithreads -Uuselongdouble -DDEBUGGING=-g'
hint=recommended, useposix=true, d_sigaction=define
useithreads=undef, usemultiplicity=undef
useperlio=define, d_sfio=undef, uselargefiles=define, usesocks=undef
use64bitint=define, use64bitall=define, uselongdouble=undef
usemymalloc=n, bincompat5005=undef
Compiler:
cc='cc', ccflags ='-fno-strict-aliasing -pipe -fstack-protector -I/usr/local/include -D_LARGEFILE_SOURCE -D_FILE_OFFSET_BITS=64',
optimize='-O2 -g',
cppflags='-fno-strict-aliasing -pipe -fstack-protector -I/usr/local/include'
ccversion='', gccversion='5.3.1 20160121', gccosandvers=''
intsize=4, longsize=8, ptrsize=8, doublesize=8, byteorder=12345678
d_longlong=define, longlongsize=8, d_longdbl=define, longdblsize=16
ivtype='long', ivsize=8, nvtype='double', nvsize=8, Off_t='off_t', lseeksize=8
alignbytes=8, prototype=define
Linker and Libraries:
ld='cc', ldflags =' -fstack-protector -L/usr/local/lib'
libpth=/usr/local/lib /lib/x86_64-linux-gnu /lib/../lib /usr/lib/x86_64-linux-gnu /usr/lib/../lib /lib /usr/lib
libs=-lpthread -lnsl -lgdbm -ldl -lm -lcrypt -lutil -lc -lgdbm_compat
perllibs=-lpthread -lnsl -ldl -lm -lcrypt -lutil -lc
libc=libc-2.21.so, so=so, useshrplib=false, libperl=libperl.a
gnulibc_version='2.21'
Dynamic Linking:
dlsrc=dl_dlopen.xs, dlext=so, d_dlsymun=undef, ccdlflags='-Wl,-E'
cccdlflags='-fPIC', lddlflags='-shared -O2 -g -L/usr/local/lib -fstack-protector'
Characteristics of this binary (from libperl):
Compile-time options: PERL_DONT_CREATE_GVSV PERL_MALLOC_WRAP
PERL_PRESERVE_IVUV PERL_USE_DEVEL USE_64_BIT_ALL
USE_64_BIT_INT USE_LARGE_FILES USE_PERLIO
USE_PERL_ATOF
Locally applied patches:
uncommitted-changes
Devel::PatchPerl 1.40
Built under linux
Compiled at Feb 25 2016 06:17:16
%ENV:
PERL5LIB=""
PERL5OPT=""
PERL5_CPANPLUS_IS_RUNNING="14264"
PERL5_CPAN_IS_RUNNING="14264"
PERL_CANARY_STABILITY_NOPROMPT="1"
PERL_MM_USE_DEFAULT="1"
@INC:
/home/sand/src/perl/repoperls/installed-perls/perl/v5.14.4/79cc/lib/site_perl/5.14.4/x86_64-linux
/home/sand/src/perl/repoperls/installed-perls/perl/v5.14.4/79cc/lib/site_perl/5.14.4
/home/sand/src/perl/repoperls/installed-perls/perl/v5.14.4/79cc/lib/5.14.4/x86_64-linux
/home/sand/src/perl/repoperls/installed-perls/perl/v5.14.4/79cc/lib/5.14.4
.