IPC-Pleather v0.01 Perl 5 v5.24.0 x86_64-linux
- Status
- Pass
- From
- Slaven Rezić (SREZIC)
- Dist
-
IPC-Pleather v0.01
- Platform
- Perl 5 v5.24.0 x86_64-linux
- Date
- 2017-11-12 02:49:41
- ID
- 217f85de-c754-11e7-a454-e0f2d4108ef8
This distribution has been tested as part of the CPAN Testers
project, supporting the Perl programming language. See
http://wiki.cpantesters.org/ for more information or email
questions to cpan-testers-discuss@perl.org
--
Dear Jeff Ober,
This is a computer-generated report for IPC-Pleather-0.01
on perl 5.24.0, created by CPAN-Reporter-1.2018.
Thank you for uploading your work to CPAN. Congratulations!
All tests were successful.
Sections of this report:
* Tester comments
* Program output
* Prerequisites
* Environment and other context
------------------------------
TESTER COMMENTS
------------------------------
Additional comments from tester:
none provided
------------------------------
PROGRAM OUTPUT
------------------------------
Output from '/usr/bin/make test':
PERL_DL_NONLAZY=1 "/opt/perl-5.24.0/bin/perl5.24.0" "-MExtUtils::Command::MM" "-MTest::Harness" "-e" "undef *Test::Harness::Switches; test_harness(0, 'blib/lib', 'blib/arch')" t/*.t
#
# Versions for all modules listed in MYMETA.json (including optional ones):
#
# === Configure Requires ===
#
# Module Want Have
# ------------------- ---- ----
# ExtUtils::MakeMaker any 7.30
#
# === Build Requires ===
#
# Module Want Have
# ------------------- ---- ----
# ExtUtils::MakeMaker any 7.30
#
# === Test Requires ===
#
# Module Want Have
# ----------------------- ---- --------
# ExtUtils::MakeMaker any 7.30
# File::Spec any 3.63
# Test any 1.28
# Test2::Bundle::Extended any 0.000083
# Test::More any 1.302106
# Test::Pod any 1.51
#
# === Test Recommends ===
#
# Module Want Have
# ---------- -------- --------
# CPAN::Meta 2.120900 2.150010
#
# === Runtime Requires ===
#
# Module Want Have
# ---------------- -------- --------
# AnyEvent 7.14 7.14
# Guard 1.023 1.023
# IPC::Semaphore any 2.06_01
# IPC::SysV any 2.06_01
# Keyword::Declare 0.001006 0.001006
#
# === Runtime Conflicts ===
#
# Module Want Have
# ------ ---- ----
#
t/00-report-prereqs.t .. ok
t/author-pod-syntax.t .. skipped: these tests are for testing by the author
t/basics.t ............. ok
t/errors.t ............. ok
t/recursion.t .......... ok
All tests successful.
Files=5, Tests=18, 4 wallclock secs ( 0.02 usr 0.02 sys + 0.74 cusr 8.52 csys = 9.30 CPU)
Result: PASS
------------------------------
PREREQUISITES
------------------------------
Prerequisite modules loaded:
requires:
Module Need Have
----------------------- -------- --------
AnyEvent 7.14 7.14
Guard 1.023 1.023
IPC::Semaphore 0 2.06_01
IPC::SysV 0 2.06_01
Keyword::Declare 0.001006 0.001006
perl 5.014 5.024000
build_requires:
Module Need Have
----------------------- -------- --------
ExtUtils::MakeMaker 0 7.30
File::Spec 0 3.63
Test 0 1.28
Test2::Bundle::Extended 0 0.000083
Test::More 0 1.302106
Test::Pod 0 1.51
configure_requires:
Module Need Have
----------------------- -------- --------
ExtUtils::MakeMaker 0 7.30
opt_build_requires:
Module Need Have
----------------------- -------- --------
CPAN::Meta 2.120900 2.150010
------------------------------
ENVIRONMENT AND OTHER CONTEXT
------------------------------
Environment variables:
LANG = en_US.UTF-8
PATH = /usr/local/bin:/usr/bin:/bin:/usr/local/sbin:/usr/sbin:/sbin:/home/cpansand/bin/linux-gnu:/home/cpansand/bin/sh:/home/cpansand/bin:/usr/games:/home/cpansand/devel:/home/eserte/src/srezic-misc/scripts
PERL5LIB = /home/cpansand/.cpan/build/2017111121/Keyword-Declare-0.001006-0/blib/arch:/home/cpansand/.cpan/build/2017111121/Keyword-Declare-0.001006-0/blib/lib:/home/cpansand/.cpan/build/2017111121/HollyGame-0-33/blib/arch:/home/cpansand/.cpan/build/2017111121/HollyGame-0-33/blib/lib
PERL5OPT =
PERL5_CPANPLUS_IS_RUNNING = 1800
PERL5_CPAN_IS_RUNNING = 1800
PERL5_CPAN_IS_RUNNING_IN_RECURSION = 1743,1800
PERLDOC = -MPod::Perldoc::ToTextOverstrike
PERL_BATCH = yes
PERL_CANARY_STABILITY_NOPROMPT = 1
PERL_CPAN_REPORTER_CONFIG = /var/tmp/cpansmoker-1023/2017111121/cpanreporter_000_config.ini
PERL_EXTUTILS_AUTOINSTALL = --defaultdeps
SHELL = /usr/bin/zsh
TERM = screen
TMPDIR = /var/tmp/cpansmoker-1023/2017111121
Perl special variables (and OS-specific diagnostics, for MSWin32):
$^X = /opt/perl-5.24.0/bin/perl5.24.0
$UID/$EUID = 1023 / 1023
$GID = 1023 1023
$EGID = 1023 1023
Perl module toolchain versions installed:
Module Have
------------------- --------
CPAN 2.16
CPAN::Meta 2.150010
Cwd 3.63
ExtUtils::CBuilder 0.280226
ExtUtils::Command 7.30
ExtUtils::Install 2.06
ExtUtils::MakeMaker 7.30
ExtUtils::Manifest 1.70
ExtUtils::ParseXS 3.31
File::Spec 3.63
JSON 2.94
JSON::PP 2.94
Module::Build 0.4224
Module::Signature 0.81
Parse::CPAN::Meta 2.150010
Test::Harness 3.39
Test::More 1.302106
YAML 1.24
YAML::Syck 1.30
version 0.9916
--
Summary of my perl5 (revision 5 version 24 subversion 0) configuration:
Platform:
osname=linux, osvers=4.4.0-81-generic, archname=x86_64-linux
uname='linux ubuntu16 4.4.0-81-generic #104-ubuntu smp wed jun 14 08:17:06 utc 2017 x86_64 x86_64 x86_64 gnulinux '
config_args='-ds -e -Dprefix=/opt/perl-5.24.0 -Dcf_email=srezic@cpan.org'
hint=recommended, useposix=true, d_sigaction=define
useithreads=undef, usemultiplicity=undef
use64bitint=define, use64bitall=define, uselongdouble=undef
usemymalloc=n, bincompat5005=undef
Compiler:
cc='cc', ccflags ='-fwrapv -fno-strict-aliasing -pipe -fstack-protector-strong -I/usr/local/include -D_LARGEFILE_SOURCE -D_FILE_OFFSET_BITS=64',
optimize='-O2',
cppflags='-fwrapv -fno-strict-aliasing -pipe -fstack-protector-strong -I/usr/local/include'
ccversion='', gccversion='5.4.0 20160609', gccosandvers=''
intsize=4, longsize=8, ptrsize=8, doublesize=8, byteorder=12345678, doublekind=3
d_longlong=define, longlongsize=8, d_longdbl=define, longdblsize=16, longdblkind=3
ivtype='long', ivsize=8, nvtype='double', nvsize=8, Off_t='off_t', lseeksize=8
alignbytes=8, prototype=define
Linker and Libraries:
ld='cc', ldflags =' -fstack-protector-strong -L/usr/local/lib'
libpth=/usr/local/lib /usr/lib/gcc/x86_64-linux-gnu/5/include-fixed /usr/include/x86_64-linux-gnu /usr/lib /lib/x86_64-linux-gnu /lib/../lib /usr/lib/x86_64-linux-gnu /usr/lib/../lib /lib
libs=-lpthread -lnsl -lgdbm -ldb -ldl -lm -lcrypt -lutil -lc -lgdbm_compat
perllibs=-lpthread -lnsl -ldl -lm -lcrypt -lutil -lc
libc=libc-2.23.so, so=so, useshrplib=false, libperl=libperl.a
gnulibc_version='2.23'
Dynamic Linking:
dlsrc=dl_dlopen.xs, dlext=so, d_dlsymun=undef, ccdlflags='-Wl,-E'
cccdlflags='-fPIC', lddlflags='-shared -O2 -L/usr/local/lib -fstack-protector-strong'
Characteristics of this binary (from libperl):
Compile-time options: HAS_TIMES PERLIO_LAYERS PERL_COPY_ON_WRITE
PERL_DONT_CREATE_GVSV
PERL_HASH_FUNC_ONE_AT_A_TIME_HARD PERL_MALLOC_WRAP
PERL_PRESERVE_IVUV USE_64_BIT_ALL USE_64_BIT_INT
USE_LARGE_FILES USE_LOCALE USE_LOCALE_COLLATE
USE_LOCALE_CTYPE USE_LOCALE_NUMERIC USE_LOCALE_TIME
USE_PERLIO USE_PERL_ATOF
Built under linux
Compiled at Jun 21 2017 18:22:24
%ENV:
PERL5LIB="/home/cpansand/.cpan/build/2017111121/Keyword-Declare-0.001006-0/blib/arch:/home/cpansand/.cpan/build/2017111121/Keyword-Declare-0.001006-0/blib/lib:/home/cpansand/.cpan/build/2017111121/HollyGame-0-33/blib/arch:/home/cpansand/.cpan/build/2017111121/HollyGame-0-33/blib/lib"
PERL5OPT=""
PERL5_CPANPLUS_IS_RUNNING="1800"
PERL5_CPAN_IS_RUNNING="1800"
PERL5_CPAN_IS_RUNNING_IN_RECURSION="1743,1800"
PERLDOC="-MPod::Perldoc::ToTextOverstrike"
PERL_BATCH="yes"
PERL_CANARY_STABILITY_NOPROMPT="1"
PERL_CPAN_REPORTER_CONFIG="/var/tmp/cpansmoker-1023/2017111121/cpanreporter_000_config.ini"
PERL_EXTUTILS_AUTOINSTALL="--defaultdeps"
@INC:
/home/cpansand/.cpan/build/2017111121/Keyword-Declare-0.001006-0/blib/arch
/home/cpansand/.cpan/build/2017111121/Keyword-Declare-0.001006-0/blib/lib
/home/cpansand/.cpan/build/2017111121/HollyGame-0-33/blib/arch
/home/cpansand/.cpan/build/2017111121/HollyGame-0-33/blib/lib
/opt/perl-5.24.0/lib/site_perl/5.24.0/x86_64-linux
/opt/perl-5.24.0/lib/site_perl/5.24.0
/opt/perl-5.24.0/lib/5.24.0/x86_64-linux
/opt/perl-5.24.0/lib/5.24.0
.