Back
From: metabase:user:30f4dfbe-2aae-11df-837a-5e0a49663a4f
Subject: PASS Test-Kit-2.10 v5.14.4 Mac OS X
Date: 2014-10-01T12:11:54Z
This distribution has been tested as part of the CPAN Testers
project, supporting the Perl programming language. See
http://wiki.cpantesters.org/ for more information or email
questions to cpan-testers-discuss@perl.org
--
Dear Alex Balhatchet,
This is a computer-generated report for Test-Kit-2.10
on perl 5.14.4, created by CPAN-Reporter-1.2011.
Thank you for uploading your work to CPAN. Congratulations!
All tests were successful.
Sections of this report:
* Tester comments
* Program output
* Prerequisites
* Environment and other context
------------------------------
TESTER COMMENTS
------------------------------
Additional comments from tester:
this report is from an automated smoke testing program
and was not reviewed by a human for accuracy
------------------------------
PROGRAM OUTPUT
------------------------------
Output from '/sw/bin/make test':
PERL_DL_NONLAZY=1 /Users/hornenj/perl5/perlbrew/perls/perl-5.14.4/bin/perl "-MExtUtils::Command::MM" "-MTest::Harness" "-e" "undef *Test::Harness::Switches; test_harness(0, 'blib/lib', 'blib/arch')" t/*.t t/09-test-aggregate/*.t
t/00-compile.t .................................. ok
t/01-basic.t .................................... ok
t/02-simple.t ................................... ok
t/03-exclude.t .................................. ok
t/04-rename.t ................................... ok
t/05-put-it-all-together.t ...................... ok
t/06-sub-name-collide.t ......................... ok
t/07-from-module.t .............................. ok
t/08-double-use-same-process.t .................. ok
t/09-test-aggregate/09-test-aggregate-nested.t .. ok
t/09-test-aggregate/09-test-aggregate.t ......... ok
t/10-import-check.t ............................. ok
t/11-test-nowarnings.t .......................... ok
t/12-data-dumper.t .............................. ok
t/13-list-util.t ................................ ok
t/14-todo-var.t ................................. ok
t/15-test-builder-io-layer-utf8.t ............... ok
t/16-test-more-import.t ......................... ok
t/17-include-list.t ............................. ok
t/18-extra-exports.t ............................ ok
t/19-sub-class.t ................................ ok
t/release-cpan-changes.t ........................ skipped: these tests are for release candidate testing
t/release-pod-syntax.t .......................... skipped: these tests are for release candidate testing
All tests successful.
Files=23, Tests=69, 1 wallclock secs ( 0.05 usr 0.03 sys + 0.54 cusr 0.09 csys = 0.71 CPU)
Result: PASS
------------------------------
PREREQUISITES
------------------------------
Prerequisite modules loaded:
requires:
Module Need Have
----------------------- ---- --------
Exporter 0 5.70
Import::Into 0 1.002004
Module::Runtime 0 0.014
Scalar::Util 0 1.39
Sub::Delete 0 1.00002
Test::Builder 0 1.001003
build_requires:
Module Need Have
----------------------- ---- --------
Test::Aggregate 0 0.371
Test::Aggregate::Nested 0 0.371
Test::Exception 0 0.32
Test::More 0.92 1.001003
Test::NoWarnings 0 1.04
Test::Output 0 1.03
Test::Pod 0 1.48
Test::Warn 0 0.30
configure_requires:
Module Need Have
----------------------- ---- --------
ExtUtils::MakeMaker 6.30 6.98
------------------------------
ENVIRONMENT AND OTHER CONTEXT
------------------------------
Environment variables:
AUTOMATED_TESTING = 1
LANG = en_GB.UTF-8
LC_ALL = POSIX
LD_LIBRARY_PATH = :/net/traces01.be-md.ncbi.nlm.nih.gov/trace_software/vdb/mac/release/x86_64/lib
PATH = /Users/hornenj/perl5/perlbrew/bin:/Users/hornenj/perl5/perlbrew/perls/perl-5.14.4/bin:/Users/hornenj/perl5/perlbrew/bin:/sw/lib/perl5/ExtUtils:/sw/bin:/am/ncbiapdata/bin:/usr/bin:/bin:/usr/X11R6/bin:/Users/hornenj/bin:/netopt/ncbi_tools/bin:/usr/local/ncbi/blast/bin:/net/traces01.be-md.ncbi.nlm.nih.gov/trace_software/vdb/mac/release/x86_64/bin
PERL5LIB = /Users/hornenj/.cpan/build/Sub-Delete-1.00002-O3IIEy/blib/arch:/Users/hornenj/.cpan/build/Sub-Delete-1.00002-O3IIEy/blib/lib:/Users/hornenj/.cpan/build/Test-Aggregate-0.371-KY1VyK/blib/arch:/Users/hornenj/.cpan/build/Test-Aggregate-0.371-KY1VyK/blib/lib:/Users/hornenj/.cpan/build/Getopt-Long-Descriptive-0.097-x7hMaS/blib/arch:/Users/hornenj/.cpan/build/Getopt-Long-Descriptive-0.097-x7hMaS/blib/lib:/Users/hornenj/.cpan/build/MooseX-Object-Pluggable-0.0013-ZsIPxD/blib/arch:/Users/hornenj/.cpan/build/MooseX-Object-Pluggable-0.0013-ZsIPxD/blib/lib
PERL5OPT =
PERL5_CPANPLUS_IS_RUNNING = 27028
PERL5_CPAN_IS_RUNNING = 27028
PERL5_MINISMOKEBOX = 0.58
PERLBREW_BASHRC_VERSION = 0.69
PERLBREW_HOME = /Users/hornenj/.perlbrew
PERLBREW_MANPATH = /Users/hornenj/perl5/perlbrew/perls/perl-5.14.4/man
PERLBREW_PATH = /Users/hornenj/perl5/perlbrew/bin:/Users/hornenj/perl5/perlbrew/perls/perl-5.14.4/bin
PERLBREW_PERL = perl-5.14.4
PERLBREW_ROOT = /Users/hornenj/perl5/perlbrew
PERLBREW_VERSION = 0.69
PERL_EXTUTILS_AUTOINSTALL = --defaultdeps
PERL_MM_USE_DEFAULT = 1
SHELL = /bin/bash
TERM = xterm-256color
TMPDIR = /var/folders/pz/pd7y1qjs6s3cbk170cw50fjc000c61/T/
VERSIONER_PERL_PREFER_32_BIT = no
VERSIONER_PERL_VERSION = 5.16
ac_cv_path_INTLTOOL_PERL = /usr/bin/perl
Perl special variables (and OS-specific diagnostics, for MSWin32):
$^X = /Users/hornenj/perl5/perlbrew/perls/perl-5.14.4/bin/perl
$UID/$EUID = 12481 / 12481
$GID = 14 14 5344 527 241
$EGID = 14 14 5344 527 241
Perl module toolchain versions installed:
Module Have
------------------- --------
CPAN 2.05
CPAN::Meta 2.142060
Cwd 3.47
ExtUtils::CBuilder 0.280216
ExtUtils::Command 1.18
ExtUtils::Install 1.68
ExtUtils::MakeMaker 6.98
ExtUtils::Manifest 1.65
ExtUtils::ParseXS 3.24
File::Spec 3.47
JSON 2.61
JSON::PP 2.27203
Module::Build 0.4206
Module::Signature n/a
Parse::CPAN::Meta 1.4414
Test::Harness 3.33
Test::More 1.001003
YAML 1.01
YAML::Syck 1.27
version 0.9908
--
Summary of my perl5 (revision 5 version 14 subversion 4) configuration:
Platform:
osname=darwin, osvers=12.2.1, archname=darwin-2level
uname='darwin ncbimac2008.ncbi.nlm.nih.gov 12.2.1 darwin kernel version 12.2.1: thu oct 18 12:13:47 pdt 2012; root:xnu-2050.20.9~1release_x86_64 x86_64 '
config_args='-de -Dprefix=/Users/hornenj/perl5/perlbrew/perls/perl-5.14.4'
hint=recommended, useposix=true, d_sigaction=define
useithreads=undef, usemultiplicity=undef
useperlio=define, d_sfio=undef, uselargefiles=define, usesocks=undef
use64bitint=define, use64bitall=define, uselongdouble=undef
usemymalloc=n, bincompat5005=undef
Compiler:
cc='cc', ccflags ='-fno-common -DPERL_DARWIN -fno-strict-aliasing -pipe -fstack-protector',
optimize='-O3',
cppflags='-fno-common -DPERL_DARWIN -fno-strict-aliasing -pipe -fstack-protector'
ccversion='', gccversion='4.2.1 Compatible Apple LLVM 4.2 (clang-425.0.24)', gccosandvers=''
intsize=4, longsize=8, ptrsize=8, doublesize=8, byteorder=12345678
d_longlong=define, longlongsize=8, d_longdbl=define, longdblsize=16
ivtype='long', ivsize=8, nvtype='double', nvsize=8, Off_t='off_t', lseeksize=8
alignbytes=8, prototype=define
Linker and Libraries:
ld='env MACOSX_DEPLOYMENT_TARGET=10.3 cc', ldflags =' -fstack-protector'
libpth=/usr/lib
libs=-ldbm -ldl -lm -lutil -lc
perllibs=-ldl -lm -lutil -lc
libc=, so=dylib, useshrplib=false, libperl=libperl.a
gnulibc_version=''
Dynamic Linking:
dlsrc=dl_dlopen.xs, dlext=bundle, d_dlsymun=undef, ccdlflags=' '
cccdlflags=' ', lddlflags=' -bundle -undefined dynamic_lookup -fstack-protector'
Characteristics of this binary (from libperl):
Compile-time options: PERL_DONT_CREATE_GVSV PERL_MALLOC_WRAP
PERL_PRESERVE_IVUV USE_64_BIT_ALL USE_64_BIT_INT
USE_LARGE_FILES USE_PERLIO USE_PERL_ATOF
Built under darwin
Compiled at Mar 11 2013 08:11:05
%ENV:
PERL5LIB="/Users/hornenj/.cpan/build/Sub-Delete-1.00002-O3IIEy/blib/arch:/Users/hornenj/.cpan/build/Sub-Delete-1.00002-O3IIEy/blib/lib:/Users/hornenj/.cpan/build/Test-Aggregate-0.371-KY1VyK/blib/arch:/Users/hornenj/.cpan/build/Test-Aggregate-0.371-KY1VyK/blib/lib:/Users/hornenj/.cpan/build/Getopt-Long-Descriptive-0.097-x7hMaS/blib/arch:/Users/hornenj/.cpan/build/Getopt-Long-Descriptive-0.097-x7hMaS/blib/lib:/Users/hornenj/.cpan/build/MooseX-Object-Pluggable-0.0013-ZsIPxD/blib/arch:/Users/hornenj/.cpan/build/MooseX-Object-Pluggable-0.0013-ZsIPxD/blib/lib"
PERL5OPT=""
PERL5_CPANPLUS_IS_RUNNING="27028"
PERL5_CPAN_IS_RUNNING="27028"
PERL5_MINISMOKEBOX="0.58"
PERLBREW_BASHRC_VERSION="0.69"
PERLBREW_HOME="/Users/hornenj/.perlbrew"
PERLBREW_MANPATH="/Users/hornenj/perl5/perlbrew/perls/perl-5.14.4/man"
PERLBREW_PATH="/Users/hornenj/perl5/perlbrew/bin:/Users/hornenj/perl5/perlbrew/perls/perl-5.14.4/bin"
PERLBREW_PERL="perl-5.14.4"
PERLBREW_ROOT="/Users/hornenj/perl5/perlbrew"
PERLBREW_VERSION="0.69"
PERL_EXTUTILS_AUTOINSTALL="--defaultdeps"
PERL_MM_USE_DEFAULT="1"
@INC:
/Users/hornenj/.cpan/build/Sub-Delete-1.00002-O3IIEy/blib/arch
/Users/hornenj/.cpan/build/Sub-Delete-1.00002-O3IIEy/blib/lib
/Users/hornenj/.cpan/build/Test-Aggregate-0.371-KY1VyK/blib/arch
/Users/hornenj/.cpan/build/Test-Aggregate-0.371-KY1VyK/blib/lib
/Users/hornenj/.cpan/build/Getopt-Long-Descriptive-0.097-x7hMaS/blib/arch
/Users/hornenj/.cpan/build/Getopt-Long-Descriptive-0.097-x7hMaS/blib/lib
/Users/hornenj/.cpan/build/MooseX-Object-Pluggable-0.0013-ZsIPxD/blib/arch
/Users/hornenj/.cpan/build/MooseX-Object-Pluggable-0.0013-ZsIPxD/blib/lib
/Users/hornenj/perl5/perlbrew/perls/perl-5.14.4/lib/site_perl/5.14.4/darwin-2level
/Users/hornenj/perl5/perlbrew/perls/perl-5.14.4/lib/site_perl/5.14.4
/Users/hornenj/perl5/perlbrew/perls/perl-5.14.4/lib/5.14.4/darwin-2level
/Users/hornenj/perl5/perlbrew/perls/perl-5.14.4/lib/5.14.4
.