Capture-Tiny-Extended v0.114 Perl 5 v5.24.3 OpenBSD.amd64-openbsd
- Status
- Pass
- From
- Alceu Rodrigues de Freitas Junior
- Dist
-
Capture-Tiny-Extended v0.114
- Platform
- Perl 5 v5.24.3 OpenBSD.amd64-openbsd
- Date
- 2018-02-25 08:01:49
- ID
- 21f9983c-1a02-11e8-86a0-aae65148dc6f
This distribution has been tested as part of the CPAN Testers
project, supporting the Perl programming language. See
http://wiki.cpantesters.org/ for more information or email
questions to cpan-testers-discuss@perl.org
--
Dear Christian Walde,
This is a computer-generated report for Capture-Tiny-Extended-0.114
on perl 5.24.3, created by CPAN-Reporter-1.2018.
Thank you for uploading your work to CPAN. Congratulations!
All tests were successful.
Sections of this report:
* Tester comments
* Program output
* Prerequisites
* Environment and other context
------------------------------
TESTER COMMENTS
------------------------------
Additional comments from tester:
this report is from an automated smoke testing program
and was not reviewed by a human for accuracy
------------------------------
PROGRAM OUTPUT
------------------------------
Output from '/usr/bin/make test':
PERL_DL_NONLAZY=1 "/home/vegeta/perl5/perlbrew/perls/cperl-5.24.3/bin/cperl" "-MExtUtils::Command::MM" "-MTest::Harness" "-e" "undef *Test::Harness::Switches; test_harness(0, 'blib/lib', 'blib/arch')" t/*.t
t/00-compile.t ............. ok
t/01-Capture-Tiny.t ........ ok
t/02-capture.t ............. ok
t/03-tee.t ................. ok
t/06-stdout-closed.t ....... ok
t/07-stderr-closed.t ....... ok
t/08-stdin-closed.t ........ ok
t/09-preserve-exit-code.t .. ok
t/10-stdout-string.t ....... ok
t/11-stderr-string.t ....... ok
t/12-stdin-string.t ........ ok
t/13-stdout-tied.t ......... ok
t/14-stderr-tied.t ......... ok
t/15-stdin-tied.t .......... ok
t/16-catch-errors.t ........ ok
All tests successful.
Test Summary Report
-------------------
t/13-stdout-tied.t (Wstat: 0 Tests: 489 Failed: 0)
TODO passed: 6-7, 18-19, 23-25, 36-37, 42-43, 53-55
63, 73, 79, 90-91, 95, 97, 109, 114-115
125, 127, 136-138, 160-162, 170-175, 196-198
208-210, 230-235, 242, 258, 264-267, 282
290, 304-307, 322-323, 326-327, 359, 361-363
365-367, 378, 380, 382-384, 386-387, 422-423
426-427, 439, 441-443, 445-447, 478, 480
482-484, 486-487
t/14-stderr-tied.t (Wstat: 0 Tests: 489 Failed: 0)
TODO passed: 2-4, 14, 16, 20, 22, 32-34, 38, 40, 50
52, 56, 60, 62, 66, 68, 72, 74-76, 86-88
92-94, 104-106, 110-112, 122-124, 128-133
152-153, 156, 164-165, 168, 188-193, 200-201
204, 224-225, 228, 236-239, 252-253, 255
260-261, 263, 276-279, 284-285, 287, 300-301
303, 308-317, 348-357, 368-377, 408-417
428-437, 468-477
Files=15, Tests=4904, 56 wallclock secs ( 0.17 usr 0.45 sys + 9.07 cusr 40.05 csys = 49.74 CPU)
Result: PASS
------------------------------
PREREQUISITES
------------------------------
Prerequisite modules loaded:
requires:
Module Need Have
------------------- ---- --------
Carp 0 1.40c
Exporter 0 5.72
File::Spec 0 3.74
File::Temp 0 0.2304
IO::Handle 0 1.37
build_requires:
Module Need Have
------------------- ---- --------
File::Find 0 1.34
Test::More 0.62 1.302124
configure_requires:
Module Need Have
------------------- ---- --------
ExtUtils::MakeMaker 6.30 8.30_04
------------------------------
ENVIRONMENT AND OTHER CONTEXT
------------------------------
Environment variables:
AUTOMATED_TESTING = 1
DBD_MYSQL_TESTDB = test
DBD_MYSQL_TESTHOST = localhost
DBD_MYSQL_TESTPASSWORD =
DBD_MYSQL_TESTPORT = 3306
DBD_MYSQL_TESTUSER = vegeta
EXTENDED_TESTING = 1
PATH = /home/vegeta/perl5/perlbrew/bin:/home/vegeta/perl5/perlbrew/perls/cperl-5.24.3/bin:/home/vegeta/bin:/usr/bin:/bin:/usr/sbin:/sbin:/usr/X11R6/bin:/usr/local/bin:/usr/local/sbin
PERL5LIB =
PERL5OPT =
PERL5_CPANPLUS_IS_RUNNING = 62157
PERL5_CPAN_IS_RUNNING = 62157
PERL5_CPAN_IS_RUNNING_IN_RECURSION = 13777,62157
PERLBREW_HOME = /home/vegeta/.perlbrew
PERLBREW_MANPATH = /home/vegeta/perl5/perlbrew/perls/cperl-5.24.3/man
PERLBREW_PATH = /home/vegeta/perl5/perlbrew/bin:/home/vegeta/perl5/perlbrew/perls/cperl-5.24.3/bin
PERLBREW_PERL = cperl-5.24.3
PERLBREW_ROOT = /home/vegeta/perl5/perlbrew
PERLBREW_SHELLRC_VERSION = 0.82
PERLBREW_VERSION = 0.82
PERL_CR_SMOKER_CURRENT = BlankOnDev-0.1005
PERL_EXTUTILS_AUTOINSTALL = --defaultdeps
PERL_MM_USE_DEFAULT = 1
PERL_USE_UNSAFE_INC = 1
SHELL = /usr/local/bin/bash
TERM = xterm
Perl special variables (and OS-specific diagnostics, for MSWin32):
$^X = /home/vegeta/perl5/perlbrew/perls/cperl-5.24.3/bin/cperl
$UID/$EUID = 1002 / 1002
$GID = 1002 1002 1001
$EGID = 1002 1002 1001
Perl module toolchain versions installed:
Module Have
------------------- ----------
CPAN 2.18_01
CPAN::Meta 2.150010
Cwd 3.74
ExtUtils::CBuilder 0.280230
ExtUtils::Command 7.30
ExtUtils::Install 2.14
ExtUtils::MakeMaker 8.30_04
ExtUtils::Manifest 1.70
ExtUtils::ParseXS 3.35
File::Spec 3.74
JSON 2.97001
JSON::PP 2.97001
Module::Build 0.42_26
Module::Signature n/a
Parse::CPAN::Meta 2.150010
Test::Harness 3.39_01
Test::More 1.302124
YAML 1.24
YAML::Syck 1.30
version 0.9918_02c
--
Summary of my cperl (revision 5 version 24 subversion 3) configuration:
Platform:
osname=openbsd, osvers=6.2, archname=OpenBSD.amd64-openbsd
uname='openbsd cpan-smoker-openbsd 6.2 generic.mp#134 amd64 '
config_args='-de -Dprefix=/home/vegeta/perl5/perlbrew/perls/cperl-5.24.3 -Dusecperl -Aeval:scriptdir=/home/vegeta/perl5/perlbrew/perls/cperl-5.24.3/bin'
hint=recommended, useposix=true, d_sigaction=define
useithreads=undef, usemultiplicity=undef
use64bitint=define, use64bitall=define, uselongdouble=undef
usemymalloc=n, bincompat5005=undef
Compiler:
cc='cc', ccflags ='-fno-strict-aliasing -pipe -fstack-protector-strong -I/usr/local/include -D_FORTIFY_SOURCE=2',
optimize='-O2',
cppflags='-fno-strict-aliasing -pipe -fstack-protector-strong -I/usr/local/include'
ccversion='', gccversion='4.2.1 Compatible OpenBSD Clang 4.0.0 (tags/RELEASE_400/final)', gccosandvers=''
intsize=4, longsize=8, ptrsize=8, doublesize=8, byteorder=12345678, doublekind=3
d_longlong=define, longlongsize=8, d_longdbl=define, longdblsize=16, longdblkind=3
ivtype='long', ivsize=8, nvtype='double', nvsize=8, Off_t='off_t', lseeksize=8
alignbytes=8, prototype=define
Linker and Libraries:
ld='cc', ldflags ='-Wl,-E -fstack-protector-strong -L/usr/local/lib'
libpth=/usr/lib /usr/local/lib
libs=-lpthread -lm -lutil -lc
perllibs=-lpthread -lm -lutil -lc
libc=/usr/lib/libc.so.90.0, so=so, useshrplib=false, libperl=libperl.a
gnulibc_version=''
Dynamic Linking:
dlsrc=dl_dlopen.xs, dlext=so, d_dlsymun=undef, ccdlflags=' '
cccdlflags='-DPIC -fPIC ', lddlflags='-shared -fPIC -L/usr/local/lib -fstack-protector-strong'
Characteristics of this binary (from libperl):
Compile-time options: HAS_TIMES PERLIO_LAYERS PERL_COPY_ON_WRITE
PERL_DONT_CREATE_GVSV PERL_HASH_FUNC_FNV1A
PERL_MALLOC_WRAP PERL_PERTURB_KEYS_TOP
PERL_PRESERVE_IVUV USE_64_BIT_ALL USE_64_BIT_INT
USE_CPERL USE_LARGE_FILES USE_LOCALE
USE_LOCALE_COLLATE USE_LOCALE_CTYPE
USE_LOCALE_NUMERIC USE_LOCALE_TIME USE_PERLIO
USE_PERL_ATOF
Built under openbsd
Compiled at Feb 15 2018 20:07:58
%ENV:
PERL5LIB=""
PERL5OPT=""
PERL5_CPANPLUS_IS_RUNNING="62157"
PERL5_CPAN_IS_RUNNING="62157"
PERL5_CPAN_IS_RUNNING_IN_RECURSION="13777,62157"
PERLBREW_HOME="/home/vegeta/.perlbrew"
PERLBREW_MANPATH="/home/vegeta/perl5/perlbrew/perls/cperl-5.24.3/man"
PERLBREW_PATH="/home/vegeta/perl5/perlbrew/bin:/home/vegeta/perl5/perlbrew/perls/cperl-5.24.3/bin"
PERLBREW_PERL="cperl-5.24.3"
PERLBREW_ROOT="/home/vegeta/perl5/perlbrew"
PERLBREW_SHELLRC_VERSION="0.82"
PERLBREW_VERSION="0.82"
PERL_CR_SMOKER_CURRENT="BlankOnDev-0.1005"
PERL_EXTUTILS_AUTOINSTALL="--defaultdeps"
PERL_MM_USE_DEFAULT="1"
PERL_USE_UNSAFE_INC="1"
@INC:
/home/vegeta/perl5/perlbrew/perls/cperl-5.24.3/lib/site_cperl/5.24.3/OpenBSD.amd64-openbsd
/home/vegeta/perl5/perlbrew/perls/cperl-5.24.3/lib/site_cperl/5.24.3
/home/vegeta/perl5/perlbrew/perls/cperl-5.24.3/lib/5.24.3/OpenBSD.amd64-openbsd
/home/vegeta/perl5/perlbrew/perls/cperl-5.24.3/lib/5.24.3
.