Net-HTTP v6.21 Perl 5 v5.18.0 x86_64-linux-thread-multi-ld

Status
Pass
From
Nigel Horne
Dist
Net-HTTP v6.21
Platform
Perl 5 v5.18.0 x86_64-linux-thread-multi-ld
Date
2021-03-19 15:52:39
ID
221ea04c-88cb-11eb-bc63-2d7f173f8129
This distribution has been tested as part of the CPAN Testers
project, supporting the Perl programming language.  See
http://wiki.cpantesters.org/ for more information or email
questions to cpan-testers-discuss@perl.org


--
Dear Olaf Alders,

This is a computer-generated report for Net-HTTP-6.21
on perl 5.18.0, created by CPAN-Reporter-1.2018.

Thank you for uploading your work to CPAN.  Congratulations!
All tests were successful.

Sections of this report:

    * Tester comments
    * Program output
    * Prerequisites
    * Environment and other context

------------------------------
TESTER COMMENTS
------------------------------

Additional comments from tester:

none provided

------------------------------
PROGRAM OUTPUT
------------------------------

Output from '/usr/bin/make test':

PERL_DL_NONLAZY=1 "/home/njh/perl5/perlbrew/perls/perl-5.18.0-thread-multi-ld/bin/perl5.18.0" "-MExtUtils::Command::MM" "-MTest::Harness" "-e" "undef *Test::Harness::Switches; test_harness(0, 'blib/lib', 'blib/arch')" t/*.t
# 
# Versions for all modules listed in MYMETA.json (including optional ones):
# 
# === Configure Requires ===
# 
#     Module              Want Have
#     ------------------- ---- ----
#     ExtUtils::MakeMaker  any 7.38
# 
# === Configure Suggests ===
# 
#     Module      Want Have
#     -------- ------- ----
#     JSON::PP 2.27300 4.04
# 
# === Build Requires ===
# 
#     Module              Want Have
#     ------------------- ---- ----
#     ExtUtils::MakeMaker  any 7.38
# 
# === Test Requires ===
# 
#     Module              Want     Have
#     ------------------- ---- --------
#     Data::Dumper         any    2.145
#     ExtUtils::MakeMaker  any     7.38
#     File::Spec           any     3.40
#     IO::Select           any     1.21
#     Socket               any    2.009
#     Test::More           any 1.302168
# 
# === Test Recommends ===
# 
#     Module         Want     Have
#     ---------- -------- --------
#     CPAN::Meta 2.120900 2.143240
# 
# === Runtime Requires ===
# 
#     Module                 Want  Have
#     ---------------------- ---- -----
#     Carp                    any  1.29
#     Compress::Raw::Zlib     any 2.060
#     IO::Socket::INET        any  1.33
#     IO::Uncompress::Gunzip  any 2.060
#     URI                     any  1.76
#     base                    any  2.18
#     strict                  any  1.07
#     warnings                any  1.18
# 
# === Runtime Suggests ===
# 
#     Module             Want    Have
#     ----------------- ----- -------
#     IO::Socket          any    1.36
#     IO::Socket::INET6   any missing
#     IO::Socket::IP      any    0.39
#     IO::Socket::SSL   2.012   2.066
#     Symbol              any    1.07
# 
t/00-report-prereqs.t .. ok
t/http-nb.t ............ ok
t/http.t ............... ok
t/live-https.t ......... ok
t/live.t ............... ok
t/socket-class.t ....... ok
All tests successful.
Files=6, Tests=69,  1 wallclock secs ( 0.07 usr  0.03 sys +  1.31 cusr  0.10 csys =  1.51 CPU)
Result: PASS

------------------------------
PREREQUISITES
------------------------------

Prerequisite modules loaded:

requires:

    Module                 Need     Have    
    ---------------------- -------- --------
    base                   0        2.18    
    Carp                   0        1.29    
    Compress::Raw::Zlib    0        2.060   
    IO::Socket::INET       0        1.33    
    IO::Uncompress::Gunzip 0        2.060   
    perl                   5.006002 5.018000
    strict                 0        1.07    
    URI                    0        1.76    
    warnings               0        1.18    

build_requires:

    Module                 Need     Have    
    ---------------------- -------- --------
    Data::Dumper           0        2.145   
    ExtUtils::MakeMaker    0        7.38    
    File::Spec             0        3.40    
    IO::Select             0        1.21    
    Socket                 0        2.009   
    Test::More             0        1.302168

configure_requires:

    Module                 Need     Have    
    ---------------------- -------- --------
    ExtUtils::MakeMaker    0        7.38    


------------------------------
ENVIRONMENT AND OTHER CONTEXT
------------------------------

Environment variables:

    LANG = C.UTF-8
    LC_TERMINAL = iTerm2
    LC_TERMINAL_VERSION = 3.4.4
    PATH = /home/njh/perl5/perlbrew/bin:/home/njh/perl5/perlbrew/perls/perl-5.18.0-thread-multi-ld/bin:/usr/local/sbin:/usr/local/bin:/usr/sbin:/usr/bin:/sbin:/bin:/usr/games:/usr/local/games:/snap/bin
    PERL5LIB = 
    PERL5OPT = 
    PERL5_CPANPLUS_IS_RUNNING = 6975
    PERL5_CPAN_IS_RUNNING = 6975
    PERLBREW_LIB = 
    PERLBREW_MANPATH = /home/njh/perl5/perlbrew/perls/perl-5.18.0-thread-multi-ld/man
    PERLBREW_PATH = /home/njh/perl5/perlbrew/bin:/home/njh/perl5/perlbrew/perls/perl-5.18.0-thread-multi-ld/bin
    PERLBREW_PERL = perl-5.18.0-thread-multi-ld
    PERLBREW_ROOT = /home/njh/perl5/perlbrew
    PERLBREW_VERSION = 0.91
    PERL_LOCAL_LIB_ROOT = 
    SHELL = /bin/bash
    TEMP = /tmp/user/1002
    TMPDIR = /tmp/user/1002

Perl special variables (and OS-specific diagnostics, for MSWin32):

    $^X = /home/njh/perl5/perlbrew/perls/perl-5.18.0-thread-multi-ld/bin/perl5.18.0
    $UID/$EUID = 1002 / 1002
    $GID = 1002 120 1002
    $EGID = 1002 120 1002

Perl module toolchain versions installed:

    Module              Have    
    ------------------- --------
    CPAN                2.00    
    CPAN::Meta          2.143240
    Cwd                 3.40    
    ExtUtils::CBuilder  0.280210
    ExtUtils::Command   7.38    
    ExtUtils::Install   2.06    
    ExtUtils::MakeMaker 7.38    
    ExtUtils::Manifest  1.70    
    ExtUtils::ParseXS   3.18    
    File::Spec          3.40    
    JSON                4.02    
    JSON::PP            4.04    
    Module::Build       0.4003  
    Module::Signature   n/a     
    Parse::CPAN::Meta   1.4414  
    Test::Harness       3.42    
    Test::More          1.302168
    YAML                1.30    
    YAML::Syck          n/a     
    version             0.9902  


--

Summary of my perl5 (revision 5 version 18 subversion 0) configuration:
   
  Platform:
    osname=linux, osvers=4.15.0-1025-oracle, archname=x86_64-linux-thread-multi-ld
    uname='linux oracle1 4.15.0-1025-oracle #28-ubuntu smp mon sep 16 12:54:27 utc 2019 x86_64 x86_64 x86_64 gnulinux '
    config_args='-de -Dprefix=/home/njh/perl5/perlbrew/perls/perl-5.18.0-thread-multi-ld -Dusedevel -Duselongdouble -Dusethreads -Dusemultiplicity -Accflags= -Aeval:scriptdir=/home/njh/perl5/perlbrew/perls/perl-5.18.0-thread-multi-ld/bin'
    hint=recommended, useposix=true, d_sigaction=define
    useithreads=define, usemultiplicity=define
    useperlio=define, d_sfio=undef, uselargefiles=define, usesocks=undef
    use64bitint=define, use64bitall=define, uselongdouble=define
    usemymalloc=n, bincompat5005=undef
  Compiler:
    cc='cc', ccflags ='-D_REENTRANT -D_GNU_SOURCE -fwrapv -fno-strict-aliasing -pipe -fstack-protector -I/usr/local/include -D_LARGEFILE_SOURCE -D_FILE_OFFSET_BITS=64',
    optimize='-O2',
    cppflags='-D_REENTRANT -D_GNU_SOURCE -fwrapv -fno-strict-aliasing -pipe -fstack-protector -I/usr/local/include'
    ccversion='', gccversion='7.4.0', gccosandvers=''
    intsize=4, longsize=8, ptrsize=8, doublesize=8, byteorder=12345678
    d_longlong=define, longlongsize=8, d_longdbl=define, longdblsize=16
    ivtype='long', ivsize=8, nvtype='long double', nvsize=16, Off_t='off_t', lseeksize=8
    alignbytes=16, prototype=define
  Linker and Libraries:
    ld='cc', ldflags =' -fstack-protector -L/usr/local/lib'
    libpth=/usr/local/lib /lib/x86_64-linux-gnu /lib/../lib /usr/lib/x86_64-linux-gnu /usr/lib/../lib /lib /usr/lib
    libs=-lnsl -lgdbm -ldb -ldl -lm -lcrypt -lutil -lpthread -lc
    perllibs=-lnsl -ldl -lm -lcrypt -lutil -lpthread -lc
    libc=libc-2.27.so, so=so, useshrplib=false, libperl=libperl.a
    gnulibc_version='2.27'
  Dynamic Linking:
    dlsrc=dl_dlopen.xs, dlext=so, d_dlsymun=undef, ccdlflags='-Wl,-E'
    cccdlflags='-fPIC', lddlflags='-shared -O2 -L/usr/local/lib -fstack-protector'


Characteristics of this binary (from libperl): 
  Compile-time options: HAS_TIMES MULTIPLICITY PERLIO_LAYERS
                        PERL_DONT_CREATE_GVSV
                        PERL_HASH_FUNC_ONE_AT_A_TIME_HARD
                        PERL_IMPLICIT_CONTEXT PERL_MALLOC_WRAP
                        PERL_PRESERVE_IVUV PERL_SAWAMPERSAND PERL_USE_DEVEL
                        USE_64_BIT_ALL USE_64_BIT_INT USE_ITHREADS
                        USE_LARGE_FILES USE_LOCALE USE_LOCALE_COLLATE
                        USE_LOCALE_CTYPE USE_LOCALE_NUMERIC USE_LONG_DOUBLE
                        USE_PERLIO USE_PERL_ATOF USE_REENTRANT_API
  Locally applied patches:
	Devel::PatchPerl 1.64
  Built under linux
  Compiled at Sep 29 2019 19:25:30
  %ENV:
    PERL5LIB=""
    PERL5OPT=""
    PERL5_CPANPLUS_IS_RUNNING="6975"
    PERL5_CPAN_IS_RUNNING="6975"
    PERLBREW_LIB=""
    PERLBREW_MANPATH="/home/njh/perl5/perlbrew/perls/perl-5.18.0-thread-multi-ld/man"
    PERLBREW_PATH="/home/njh/perl5/perlbrew/bin:/home/njh/perl5/perlbrew/perls/perl-5.18.0-thread-multi-ld/bin"
    PERLBREW_PERL="perl-5.18.0-thread-multi-ld"
    PERLBREW_ROOT="/home/njh/perl5/perlbrew"
    PERLBREW_VERSION="0.91"
    PERL_LOCAL_LIB_ROOT=""
  @INC:
    /home/njh/perl5/perlbrew/perls/perl-5.18.0-thread-multi-ld/lib/site_perl/5.18.0/x86_64-linux-thread-multi-ld
    /home/njh/perl5/perlbrew/perls/perl-5.18.0-thread-multi-ld/lib/site_perl/5.18.0
    /home/njh/perl5/perlbrew/perls/perl-5.18.0-thread-multi-ld/lib/5.18.0/x86_64-linux-thread-multi-ld
    /home/njh/perl5/perlbrew/perls/perl-5.18.0-thread-multi-ld/lib/5.18.0
    .