Net-Statsd-Server v0.20 Perl 5 v5.27.5 x86_64-linux
- Status
- Pass
- From
- Slaven Rezić (SREZIC)
- Dist
-
Net-Statsd-Server v0.20
- Platform
- Perl 5 v5.27.5 x86_64-linux
- Date
- 2017-10-27 18:17:46
- ID
- 2237d91c-bb43-11e7-b487-fc09b23c65cc
This distribution has been tested as part of the CPAN Testers
project, supporting the Perl programming language. See
http://wiki.cpantesters.org/ for more information or email
questions to cpan-testers-discuss@perl.org
--
Dear Cosimo Streppone,
This is a computer-generated report for Net-Statsd-Server-0.20
on perl 5.27.5, created by CPAN-Reporter-1.2018.
Thank you for uploading your work to CPAN. Congratulations!
All tests were successful.
Sections of this report:
* Tester comments
* Program output
* Prerequisites
* Environment and other context
------------------------------
TESTER COMMENTS
------------------------------
Additional comments from tester:
none provided
------------------------------
PROGRAM OUTPUT
------------------------------
Output from '/usr/bin/make test':
PERL_DL_NONLAZY=1 "/opt/perl-5.27.5/bin/perl5.27.5" "-MExtUtils::Command::MM" "-MTest::Harness" "-e" "undef *Test::Harness::Switches; test_harness(0, 'blib/lib', 'blib/arch')" t/*.t t/integration-tests/*.t
t/000-sanity.t ............................. ok
t/config.t ................................. ok
t/graphite.t ............................... ok
2017-10-27 18:04:27.000000 +0000 note Net::Statsd::Server: Initializing Net::Statsd::Server::Backend::Console backend
2017-10-27 18:04:27.000000 +0000 note Net::Statsd::Server: Initializing Net::Statsd::Server::Backend::Graphite backend
2017-10-27 18:04:27.000000 +0000 info AnyEvent: Autoloaded model 'AnyEvent::Impl::EV', using it.
2017-10-27 18:04:27.201706 +0000 note Net::Statsd::Server: statsd server started on 0.0.0.0:40001 (v0.17)
2017-10-27 18:04:27.201730 +0000 note Net::Statsd::Server: manager interface started on 0.0.0.0:40002
2017-10-27 18:04:27.201757 +0000 note Net::Statsd::Server: metrics flush will happen every 1s
2017-10-27 18:04:27.651628 +0000 warn Net::Statsd::Server: Bad line: 1 in msg "a_bad_test_value|z"
2017-10-27 18:04:28.202044 +0000 note Net::Statsd::Server: flushing metrics
Flushing stats at Fri Oct 27 18:04:28 2017
{"counters":{"statsd.bad_lines_seen":1,"statsd.packets_received":1},"timer_data":{},"gauges":{},"counter_rates":{"statsd.packets_received":1,"statsd.bad_lines_seen":1},"pctThreshold":[90],"timers":{},"sets":null}
t/integration-tests/bad-message.t .......... ok
2017-10-27 18:04:28.000000 +0000 note Net::Statsd::Server: Initializing Net::Statsd::Server::Backend::Console backend
2017-10-27 18:04:28.000000 +0000 note Net::Statsd::Server: Initializing Net::Statsd::Server::Backend::Graphite backend
2017-10-27 18:04:28.000000 +0000 info AnyEvent: Autoloaded model 'AnyEvent::Impl::EV', using it.
2017-10-27 18:04:28.347825 +0000 note Net::Statsd::Server: statsd server started on 0.0.0.0:40001 (v0.17)
2017-10-27 18:04:28.347851 +0000 note Net::Statsd::Server: manager interface started on 0.0.0.0:40002
2017-10-27 18:04:28.347892 +0000 note Net::Statsd::Server: metrics flush will happen every 1s
2017-10-27 18:04:29.350168 +0000 note Net::Statsd::Server: flushing metrics
Flushing stats at Fri Oct 27 18:04:29 2017
{"counter_rates":{"a_test_value":100,"statsd.packets_received":1,"statsd.bad_lines_seen":0},"timer_data":{},"counters":{"statsd.packets_received":1,"statsd.bad_lines_seen":0,"a_test_value":100},"timers":{},"sets":null,"pctThreshold":[90],"gauges":{}}
# stats.counters.statsd.packets_received.rate 1.000000 1509127469
# stats.counters.statsd.packets_received.count 1 1509127469
# stats.counters.statsd.bad_lines_seen.rate 0.000000 1509127469
# stats.counters.statsd.bad_lines_seen.count 0 1509127469
# stats.counters.a_test_value.rate 100.000000 1509127469
# stats.counters.a_test_value.count 100 1509127469
# stats.statsd.numStats 3 1509127469
# stats.statsd.graphiteStats.calculationtime 0.098000 1509127469
# stats.statsd.processing_time 0.044 1509127469
# stats.statsd.graphiteStats.last_exception 94661519194208 1509127469
# stats.statsd.graphiteStats.last_flush 94661519194208 1509127469
t/integration-tests/counts-are-valid.t ..... ok
2017-10-27 18:04:29.000000 +0000 note Net::Statsd::Server: Initializing Net::Statsd::Server::Backend::Graphite backend
2017-10-27 18:04:29.000000 +0000 info AnyEvent: Autoloaded model 'AnyEvent::Impl::EV', using it.
2017-10-27 18:04:29.479939 +0000 note Net::Statsd::Server: statsd server started on 0.0.0.0:40001 (v0.17)
2017-10-27 18:04:29.479963 +0000 note Net::Statsd::Server: manager interface started on 0.0.0.0:40002
2017-10-27 18:04:29.479990 +0000 note Net::Statsd::Server: metrics flush will happen every 1s
2017-10-27 18:04:30.481678 +0000 note Net::Statsd::Server: flushing metrics
# First flush. Test gauge should be there.
2017-10-27 18:04:31.483725 +0000 note Net::Statsd::Server: flushing metrics
# Second flush. deleteGauges=false should keep the test gauge.
t/integration-tests/delete-gauges-false.t .. ok
2017-10-27 18:04:31.000000 +0000 note Net::Statsd::Server: Initializing Net::Statsd::Server::Backend::Graphite backend
2017-10-27 18:04:31.000000 +0000 info AnyEvent: Autoloaded model 'AnyEvent::Impl::EV', using it.
2017-10-27 18:04:31.629981 +0000 note Net::Statsd::Server: statsd server started on 0.0.0.0:40001 (v0.17)
2017-10-27 18:04:31.630017 +0000 note Net::Statsd::Server: manager interface started on 0.0.0.0:40002
2017-10-27 18:04:31.630036 +0000 note Net::Statsd::Server: metrics flush will happen every 1s
2017-10-27 18:04:32.631583 +0000 note Net::Statsd::Server: flushing metrics
# First flush. Test gauge should be there.
2017-10-27 18:04:33.634243 +0000 note Net::Statsd::Server: flushing metrics
# Second flush. deleteIdleStats should have cleared the test gauge.
t/integration-tests/delete-idle-stats.t .... ok
2017-10-27 18:04:33.000000 +0000 note Net::Statsd::Server: Initializing Net::Statsd::Server::Backend::Console backend
2017-10-27 18:04:33.000000 +0000 note Net::Statsd::Server: Initializing Net::Statsd::Server::Backend::Graphite backend
2017-10-27 18:04:33.000000 +0000 info AnyEvent: Autoloaded model 'AnyEvent::Impl::EV', using it.
2017-10-27 18:04:33.775566 +0000 note Net::Statsd::Server: statsd server started on 0.0.0.0:40001 (v0.17)
2017-10-27 18:04:33.775588 +0000 note Net::Statsd::Server: manager interface started on 0.0.0.0:40002
2017-10-27 18:04:33.775626 +0000 note Net::Statsd::Server: metrics flush will happen every 1s
2017-10-27 18:04:34.777056 +0000 note Net::Statsd::Server: flushing metrics
Flushing stats at Fri Oct 27 18:04:34 2017
{"timers":{},"counter_rates":{"a_test_value,category=web,severity=high":100,"statsd.packets_received":1,"statsd.bad_lines_seen":0},"gauges":{},"counters":{"a_test_value,category=web,severity=high":100,"statsd.bad_lines_seen":0,"statsd.packets_received":1},"sets":null,"pctThreshold":[90],"timer_data":{}}
# stats.counters.a_test_value,category=web,severity=high.rate 100.000000 1509127474
# stats.counters.a_test_value,category=web,severity=high.count 100 1509127474
# stats.counters.statsd.bad_lines_seen.rate 0.000000 1509127474
# stats.counters.statsd.bad_lines_seen.count 0 1509127474
# stats.counters.statsd.packets_received.rate 1.000000 1509127474
# stats.counters.statsd.packets_received.count 1 1509127474
# stats.statsd.numStats 3 1509127474
# stats.statsd.graphiteStats.calculationtime 0.081000 1509127474
# stats.statsd.processing_time 0.039 1509127474
# stats.statsd.graphiteStats.last_exception 94379947018128 1509127474
# stats.statsd.graphiteStats.last_flush 94379947018128 1509127474
t/integration-tests/keys-with-tags.t ....... ok
2017-10-27 18:04:34.000000 +0000 note Net::Statsd::Server: Initializing Net::Statsd::Server::Backend::Graphite backend
2017-10-27 18:04:34.000000 +0000 info AnyEvent: Autoloaded model 'AnyEvent::Impl::EV', using it.
2017-10-27 18:04:34.906270 +0000 note Net::Statsd::Server: statsd server started on 0.0.0.0:40001 (v0.17)
2017-10-27 18:04:34.906291 +0000 note Net::Statsd::Server: manager interface started on 0.0.0.0:40002
2017-10-27 18:04:34.906323 +0000 note Net::Statsd::Server: metrics flush will happen every 1s
# Expected mean value is 2087.54
2017-10-27 18:04:35.908457 +0000 note Net::Statsd::Server: flushing metrics
# stats.counters.statsd.packets_received.rate 100.000000 1509127475
# stats.counters.statsd.packets_received.count 100 1509127475
# stats.counters.statsd.bad_lines_seen.rate 0.000000 1509127475
# stats.counters.statsd.bad_lines_seen.count 0 1509127475
# stats.timers.read_latency.upper_95 2929.000000 1509127475
# stats.timers.read_latency.median 2040.500000 1509127475
# stats.timers.read_latency.mean_98 2069.295918 1509127475
# stats.timers.read_latency.count_ps 100.000000 1509127475
# stats.timers.read_latency.count_95 95.000000 1509127475
# stats.timers.read_latency.upper 2997.000000 1509127475
# stats.timers.read_latency.mean 2087.540000 1509127475
# stats.timers.read_latency.count 100.000000 1509127475
# stats.timers.read_latency.sum_95 193928.000000 1509127475
# stats.timers.read_latency.sum_98 202791.000000 1509127475
# stats.timers.read_latency.lower 1052.000000 1509127475
# stats.timers.read_latency.sum_squares_95 425962974.000000 1509127475
# stats.timers.read_latency.sum_squares_98 452147799.000000 1509127475
# stats.timers.read_latency.count_98 98.000000 1509127475
# stats.timers.read_latency.sum_squares_99 460944955.000000 1509127475
# stats.timers.read_latency.sum_squares 469926964.000000 1509127475
# stats.timers.read_latency.upper_98 2966.000000 1509127475
# stats.timers.read_latency.mean_99 2078.353535 1509127475
# stats.timers.read_latency.count_99 99.000000 1509127475
# stats.timers.read_latency.sum 208754.000000 1509127475
# stats.timers.read_latency.sum_99 205757.000000 1509127475
# stats.timers.read_latency.std 584.334141 1509127475
# stats.timers.read_latency.mean_95 2041.347368 1509127475
# stats.timers.read_latency.upper_99 2966.000000 1509127475
# stats.statsd.numStats 3 1509127475
# stats.statsd.graphiteStats.calculationtime 0.208000 1509127475
# stats.statsd.processing_time 0.492 1509127475
# stats.statsd.graphiteStats.last_exception 94467736483920 1509127475
# stats.statsd.graphiteStats.last_flush 94467736483920 1509127475
t/integration-tests/percent-threshold.t .... ok
2017-10-27 18:04:36.000000 +0000 note Net::Statsd::Server: Initializing Net::Statsd::Server::Backend::Console backend
2017-10-27 18:04:36.000000 +0000 note Net::Statsd::Server: Initializing Net::Statsd::Server::Backend::Graphite backend
2017-10-27 18:04:36.000000 +0000 info AnyEvent: Autoloaded model 'AnyEvent::Impl::EV', using it.
2017-10-27 18:04:36.042469 +0000 note Net::Statsd::Server: statsd server started on 0.0.0.0:40001 (v0.17)
2017-10-27 18:04:36.042491 +0000 note Net::Statsd::Server: manager interface started on 0.0.0.0:40002
2017-10-27 18:04:36.042512 +0000 note Net::Statsd::Server: metrics flush will happen every 1s
2017-10-27 18:04:37.043967 +0000 note Net::Statsd::Server: flushing metrics
Flushing stats at Fri Oct 27 18:04:37 2017
{"pctThreshold":["90"],"sets":null,"counter_rates":{"statsd.packets_received":1,"statsd.bad_lines_seen":0},"counters":{"statsd.bad_lines_seen":0,"statsd.packets_received":1},"gauges":{},"timers":{"a_test_value":["100"]},"timer_data":{"a_test_value":{"upper":"100","sum_90":"100","sum_squares_90":10000,"mean":100,"std":0,"count":1,"lower":"100","mean_90":"100","count_ps":1,"sum":"100","upper_90":"100","median":"100","count_90":1,"sum_squares":10000}}}
# stats.counters.statsd.bad_lines_seen.rate 0.000000 1509127477
# stats.counters.statsd.bad_lines_seen.count 0 1509127477
# stats.counters.statsd.packets_received.rate 1.000000 1509127477
# stats.counters.statsd.packets_received.count 1 1509127477
# stats.timers.a_test_value.upper 100.000000 1509127477
# stats.timers.a_test_value.sum_90 100.000000 1509127477
# stats.timers.a_test_value.sum_squares_90 10000.000000 1509127477
# stats.timers.a_test_value.mean 100.000000 1509127477
# stats.timers.a_test_value.std 0.000000 1509127477
# stats.timers.a_test_value.count 1.000000 1509127477
# stats.timers.a_test_value.lower 100.000000 1509127477
# stats.timers.a_test_value.mean_90 100.000000 1509127477
# stats.timers.a_test_value.count_ps 1.000000 1509127477
# stats.timers.a_test_value.sum 100.000000 1509127477
# stats.timers.a_test_value.upper_90 100.000000 1509127477
# stats.timers.a_test_value.median 100.000000 1509127477
# stats.timers.a_test_value.count_90 1.000000 1509127477
# stats.timers.a_test_value.sum_squares 10000.000000 1509127477
# stats.statsd.numStats 3 1509127477
# stats.statsd.graphiteStats.calculationtime 0.165000 1509127477
# stats.statsd.processing_time 0.108 1509127477
# stats.statsd.graphiteStats.last_exception 94617507678272 1509127477
# stats.statsd.graphiteStats.last_flush 94617507678272 1509127477
t/integration-tests/timers-are-valid.t ..... ok
t/process-metrics.t ........................ ok
t/trim.t ................................... ok
All tests successful.
Files=12, Tests=92, 11 wallclock secs ( 0.05 usr 0.06 sys + 0.67 cusr 0.20 csys = 0.98 CPU)
Result: PASS
------------------------------
PREREQUISITES
------------------------------
Prerequisite modules loaded:
requires:
Module Need Have
--------------------- ---- --------
AnyEvent::Handle::UDP 0 0.048
IO::Socket::INET 0 1.35
JSON::XS 0 3.04
build_requires:
Module Need Have
--------------------- ---- --------
ExtUtils::MakeMaker 0 7.30
Test::More 0 1.302106
configure_requires:
Module Need Have
--------------------- ---- --------
ExtUtils::MakeMaker 0 7.30
------------------------------
ENVIRONMENT AND OTHER CONTEXT
------------------------------
Environment variables:
LANG = C
LC_ALL = de_DE.UTF-8
PATH = /usr/local/bin:/usr/bin:/bin:/usr/local/sbin:/usr/sbin:/sbin:/home/cpansand/bin/linux-gnu:/home/cpansand/bin/sh:/home/cpansand/bin:/usr/games:/home/cpansand/devel:/home/eserte/src/srezic-misc/scripts
PERL5LIB =
PERL5OPT =
PERL5_CPANPLUS_IS_RUNNING = 10773
PERL5_CPAN_IS_RUNNING = 10773
PERL5_CPAN_IS_RUNNING_IN_RECURSION = 29283,10773
PERLDOC = -MPod::Perldoc::ToTextOverstrike
PERL_BATCH = yes
PERL_CANARY_STABILITY_NOPROMPT = 1
PERL_CPAN_REPORTER_CONFIG = /var/tmp/cpansmoker-1023/2017102712/cpanreporter_000_config.ini
PERL_EXTUTILS_AUTOINSTALL = --defaultdeps
PERL_PARALLEL_SMOKER = yes
PERL_USE_UNSAFE_INC = 1
SHELL = /usr/bin/zsh
TERM = screen
TMPDIR = /var/tmp/cpansmoker-1023/2017102712
Perl special variables (and OS-specific diagnostics, for MSWin32):
$^X = /opt/perl-5.27.5/bin/perl5.27.5
$UID/$EUID = 1023 / 1023
$GID = 1023 1023
$EGID = 1023 1023
Perl module toolchain versions installed:
Module Have
------------------- --------
CPAN 2.16
CPAN::Meta 2.150010
Cwd 3.62
ExtUtils::CBuilder 0.280226
ExtUtils::Command 7.30
ExtUtils::Install 2.14
ExtUtils::MakeMaker 7.30
ExtUtils::Manifest 1.70
ExtUtils::ParseXS 3.35
File::Spec 3.62
JSON 2.94
JSON::PP 2.94
Module::Build 0.4224
Module::Signature 0.81
Parse::CPAN::Meta 2.150010
Test::Harness 3.39
Test::More 1.302106
YAML 1.23
YAML::Syck 1.30
version 0.9918
--
Summary of my perl5 (revision 5 version 27 subversion 5) configuration:
Platform:
osname=linux
osvers=4.9.0-3-amd64
archname=x86_64-linux
uname='linux debian9 4.9.0-3-amd64 #1 smp debian 4.9.30-2+deb9u5 (2017-09-19) x86_64 gnulinux '
config_args='-ds -e -Dprefix=/opt/perl-5.27.5 -Dusedevel -Dusemallocwrap=no -Dcf_email=srezic@cpan.org'
hint=recommended
useposix=true
d_sigaction=define
useithreads=undef
usemultiplicity=undef
use64bitint=define
use64bitall=define
uselongdouble=undef
usemymalloc=n
default_inc_excludes_dot=define
bincompat5005=undef
Compiler:
cc='cc'
ccflags ='-fwrapv -fno-strict-aliasing -pipe -fstack-protector-strong -I/usr/local/include -D_LARGEFILE_SOURCE -D_FILE_OFFSET_BITS=64 -D_FORTIFY_SOURCE=2'
optimize='-O2'
cppflags='-fwrapv -fno-strict-aliasing -pipe -fstack-protector-strong -I/usr/local/include'
ccversion=''
gccversion='6.3.0 20170516'
gccosandvers=''
intsize=4
longsize=8
ptrsize=8
doublesize=8
byteorder=12345678
doublekind=3
d_longlong=define
longlongsize=8
d_longdbl=define
longdblsize=16
longdblkind=3
ivtype='long'
ivsize=8
nvtype='double'
nvsize=8
Off_t='off_t'
lseeksize=8
alignbytes=8
prototype=define
Linker and Libraries:
ld='cc'
ldflags =' -fstack-protector-strong -L/usr/local/lib'
libpth=/usr/local/lib /usr/lib/gcc/x86_64-linux-gnu/6/include-fixed /usr/include/x86_64-linux-gnu /usr/lib /lib/x86_64-linux-gnu /lib/../lib /usr/lib/x86_64-linux-gnu /usr/lib/../lib /lib
libs=-lpthread -lnsl -lgdbm -ldb -ldl -lm -lcrypt -lutil -lc -lgdbm_compat
perllibs=-lpthread -lnsl -ldl -lm -lcrypt -lutil -lc
libc=libc-2.24.so
so=so
useshrplib=false
libperl=libperl.a
gnulibc_version='2.24'
Dynamic Linking:
dlsrc=dl_dlopen.xs
dlext=so
d_dlsymun=undef
ccdlflags='-Wl,-E'
cccdlflags='-fPIC'
lddlflags='-shared -O2 -L/usr/local/lib -fstack-protector-strong'
Characteristics of this binary (from libperl):
Compile-time options:
HAS_TIMES
PERLIO_LAYERS
PERL_COPY_ON_WRITE
PERL_DONT_CREATE_GVSV
PERL_OP_PARENT
PERL_PRESERVE_IVUV
PERL_USE_DEVEL
USE_64_BIT_ALL
USE_64_BIT_INT
USE_LARGE_FILES
USE_LOCALE
USE_LOCALE_COLLATE
USE_LOCALE_CTYPE
USE_LOCALE_NUMERIC
USE_LOCALE_TIME
USE_PERLIO
USE_PERL_ATOF
Built under linux
Compiled at Oct 25 2017 16:03:52
%ENV:
PERL5LIB=""
PERL5OPT=""
PERL5_CPANPLUS_IS_RUNNING="10773"
PERL5_CPAN_IS_RUNNING="10773"
PERL5_CPAN_IS_RUNNING_IN_RECURSION="29283,10773"
PERLDOC="-MPod::Perldoc::ToTextOverstrike"
PERL_BATCH="yes"
PERL_CANARY_STABILITY_NOPROMPT="1"
PERL_CPAN_REPORTER_CONFIG="/var/tmp/cpansmoker-1023/2017102712/cpanreporter_000_config.ini"
PERL_EXTUTILS_AUTOINSTALL="--defaultdeps"
PERL_PARALLEL_SMOKER="yes"
PERL_USE_UNSAFE_INC="1"
@INC:
/opt/perl-5.27.5/lib/site_perl/5.27.5/x86_64-linux
/opt/perl-5.27.5/lib/site_perl/5.27.5
/opt/perl-5.27.5/lib/5.27.5/x86_64-linux
/opt/perl-5.27.5/lib/5.27.5
.