Net-SAML2 v0.72-TRIAL Perl 5 v5.18.4 x86_64-linux

Status
Pass
From
Slaven Rezić
Dist
Net-SAML2 v0.72-TRIAL
Platform
Perl 5 v5.18.4 x86_64-linux
Date
2023-07-08 01:45:36
ID
225e3458-1d31-11ee-b263-080f6e8775ea
This distribution has been tested as part of the CPAN Testers
project, supporting the Perl programming language.  See
http://wiki.cpantesters.org/ for more information or email
questions to cpan-testers-discuss@perl.org


--
Dear Timothy Legge,

This is a computer-generated report for Net-SAML2-0.72-TRIAL
on perl 5.18.4, created by CPAN-Reporter-1.2018.

Thank you for uploading your work to CPAN.  Congratulations!
All tests were successful.

Sections of this report:

    * Tester comments
    * Program output
    * Prerequisites
    * Environment and other context

------------------------------
TESTER COMMENTS
------------------------------

Additional comments from tester:

none provided

------------------------------
PROGRAM OUTPUT
------------------------------

Output from '/usr/bin/make test':

PERL_DL_NONLAZY=1 "/opt/perl-5.18.4/bin/perl" "-MExtUtils::Command::MM" "-MTest::Harness" "-e" "undef *Test::Harness::Switches; test_harness(0, 'blib/lib', 'blib/arch')" t/*.t t/author/*.t
t/00-basic.t ...................................... ok
t/01-create-idp.t ................................. ok
t/02-create-sp.t .................................. ok
t/03-assertions.t ................................. ok
t/04-response.t ................................... ok
not verified by x509
t/05-soap-binding.t ............................... ok
t/06-redirect-binding.t ........................... ok
t/07-logout-request.t ............................. ok
t/08-logout-response.t ............................ ok
t/09-authn-request.t .............................. ok
t/10-artifact-resolve.t ........................... ok
t/11-more-metadata.t .............................. ok
t/12-full-client.t ................................ ok
t/13-verify-issues.t .............................. ok
t/15-evil-nameid-and-email-assertion.t ............ ok
t/16-encrypted-assertion.t ........................ ok
t/17-lowercase-url-escaping.t ..................... ok
t/18-metadata-multiple-signing.t .................. ok
t/19-metadata-multiple-signing.t .................. ok
t/20-path-only-redirect.t ......................... ok
t/21-artifact-response.t .......................... ok
t/22-types.t ...................................... ok
t/23-post-binding.t ............................... ok
t/24-assertion-with-encrypted-attribute-values.t .. ok
t/25-verify-authn-post-sign_xml.t ................. ok
t/author-critic.t ................................. skipped: these tests are for testing by the author
t/author-eof.t .................................... skipped: these tests are for testing by the author
t/author-eol.t .................................... skipped: these tests are for testing by the author
t/author-no-tabs.t ................................ skipped: these tests are for testing by the author
t/author-pod-coverage.t ........................... skipped: these tests are for testing by the author
t/author-pod-syntax.t ............................. skipped: these tests are for testing by the author
t/author/01-confirm-schema.t ...................... skipped: Author test skipped
t/author/notabs.t ................................. ok
t/author/pod.t .................................... ok
t/author/podcoverage.t ............................ skipped: these tests are for testing by the author
All tests successful.
Files=35, Tests=473, 24 wallclock secs ( 0.13 usr  0.05 sys + 21.43 cusr  1.81 csys = 23.42 CPU)
Result: PASS

------------------------------
PREREQUISITES
------------------------------

Prerequisite modules loaded:

requires:

    Module                        Need  Have    
    ----------------------------- ----- --------
    base                          0     2.18    
    Carp                          0     1.50    
    Crypt::OpenSSL::Bignum        0     0.09    
    Crypt::OpenSSL::Random        0     0.15    
    Crypt::OpenSSL::RSA           0     0.33    
    Crypt::OpenSSL::Verify        0     0.36    
    Crypt::OpenSSL::X509          0     1.915   
    DateTime                      0     1.59    
    DateTime::Format::XSD         0     0.4     
    DateTime::HiRes               0     0.04    
    Digest::MD5                   0     2.58    
    Exporter                      0     5.77    
    File::Slurper                 0     0.014   
    HTTP::Request::Common         0     6.44    
    IO::Compress::RawDeflate      0     2.204   
    IO::Uncompress::RawInflate    0     2.204   
    List::Util                    0     1.63    
    LWP::Protocol::https          0     6.10    
    LWP::UserAgent                0     6.71    
    MIME::Base64                  0     3.16    
    Moose                         0     2.2203  
    Moose::Role                   0     2.2203  
    MooseX::Types                 0     0.50    
    MooseX::Types::Common::String 0     0.001014
    MooseX::Types::DateTime       0     0.13    
    MooseX::Types::Moose          0     0.50    
    MooseX::Types::URI            0     0.09    
    namespace::autoclean          0     0.29    
    perl                          5.012 5.018004
    strict                        0     1.07    
    Try::Tiny                     0     0.31    
    Types::Serialiser             0     1.01    
    URI                           0     5.19    
    URI::Encode                   0     1.1.1   
    URI::Escape                   0     5.19    
    URI::QueryParam               0     5.19    
    URN::OASIS::SAML2             0.003 0.003   
    vars                          0     1.03    
    warnings                      0     1.18    
    XML::Enc                      0.13  0.13    
    XML::Generator                1.13  1.13    
    XML::LibXML                   0     2.0208  
    XML::LibXML::XPathContext     0     2.0208  
    XML::Sig                      0.64  0.64    

build_requires:

    Module                        Need  Have    
    ----------------------------- ----- --------
    ExtUtils::MakeMaker           0     7.68    
    Import::Into                  0     1.002005
    Path::Tiny                    0     0.144   
    Sub::Override                 0     0.09    
    Test::Deep                    0     1.204   
    Test::Exception               0     0.43    
    Test::Fatal                   0     0.016   
    Test::Lib                     0     0.003   
    Test::Mock::One               0     0.011   
    Test::More                    0     1.302195
    Test::NoTabs                  0     2.02    
    Test::Pod                     1.14  1.52    
    Test::Pod::Coverage           1.04  1.10    
    URI::URL                      0     5.19    
    XML::LibXML::XPathContext     0     2.0208  

configure_requires:

    Module                        Need  Have    
    ----------------------------- ----- --------
    ExtUtils::MakeMaker           0     7.68    


------------------------------
ENVIRONMENT AND OTHER CONTEXT
------------------------------

Environment variables:

    LANG = en_US.UTF-8
    PATH = /usr/local/bin:/usr/bin:/bin:/usr/local/sbin:/usr/sbin:/sbin:/home/cpansand/bin/linux-gnu:/home/cpansand/bin/sh:/home/cpansand/bin:/usr/games:/home/cpansand/devel:/home/eserte/src/srezic-misc/scripts
    PERL5LIB = /home/cpansand/.cpan/build/2023070801/XML-Sig-0.64-2/blib/arch:/home/cpansand/.cpan/build/2023070801/XML-Sig-0.64-2/blib/lib:/home/cpansand/.cpan/build/2023070801/XML-Generator-1.13-2/blib/arch:/home/cpansand/.cpan/build/2023070801/XML-Generator-1.13-2/blib/lib:/home/cpansand/.cpan/build/2023070801/XML-Enc-0.13-2/blib/arch:/home/cpansand/.cpan/build/2023070801/XML-Enc-0.13-2/blib/lib
    PERL5OPT = 
    PERL5_CPANPLUS_IS_RUNNING = 18876
    PERL5_CPAN_IS_RUNNING = 18876
    PERL5_CPAN_IS_RUNNING_IN_RECURSION = 17071,18876
    PERLDOC = -MPod::Perldoc::ToTextOverstrike
    PERL_BATCH = yes
    PERL_CANARY_STABILITY_NOPROMPT = 1
    PERL_CPAN_REPORTER_CONFIG = /var/tmp/cpansmoker-1023/2023070801/cpanreporter_000_config.ini
    PERL_EXTUTILS_AUTOINSTALL = --defaultdeps
    PERL_USE_UNSAFE_INC = 1
    SHELL = /usr/bin/zsh
    TERM = screen
    TMPDIR = /var/tmp/cpansmoker-1023/2023070801

Perl special variables (and OS-specific diagnostics, for MSWin32):

    $^X = /opt/perl-5.18.4/bin/perl
    $UID/$EUID = 1023 / 1023
    $GID = 1023 1023
    $EGID = 1023 1023

Perl module toolchain versions installed:

    Module              Have    
    ------------------- --------
    CPAN                2.36    
    CPAN::Meta          2.150010
    Cwd                 3.75    
    ExtUtils::CBuilder  0.280236
    ExtUtils::Command   7.68    
    ExtUtils::Install   2.06    
    ExtUtils::MakeMaker 7.68    
    ExtUtils::Manifest  1.70    
    ExtUtils::ParseXS   3.44    
    File::Spec          3.75    
    JSON                4.10    
    JSON::PP            4.15    
    Module::Build       0.4232  
    Module::Signature   n/a     
    Parse::CPAN::Meta   2.150010
    Test::Harness       3.44    
    Test::More          1.302195
    YAML                1.30    
    YAML::Syck          1.34    
    version             0.9929  


--

Summary of my perl5 (revision 5 version 18 subversion 4) configuration:
   
  Platform:
    osname=linux, osvers=3.10.0-1160.81.1.el7.x86_64, archname=x86_64-linux
    uname='linux cloud3.bbbike.org 3.10.0-1160.81.1.el7.x86_64 #1 smp fri dec 16 17:29:43 utc 2022 x86_64 x86_64 x86_64 gnulinux '
    config_args='-ds -e -Dprefix=/opt/perl-5.18.4 -Dcf_email=srezic@cpan.org'
    hint=recommended, useposix=true, d_sigaction=define
    useithreads=undef, usemultiplicity=undef
    useperlio=define, d_sfio=undef, uselargefiles=define, usesocks=undef
    use64bitint=define, use64bitall=define, uselongdouble=undef
    usemymalloc=n, bincompat5005=undef
  Compiler:
    cc='cc', ccflags ='-fwrapv -fno-strict-aliasing -pipe -fstack-protector -I/usr/local/include -D_LARGEFILE_SOURCE -D_FILE_OFFSET_BITS=64',
    optimize='-O2',
    cppflags='-fwrapv -fno-strict-aliasing -pipe -fstack-protector -I/usr/local/include'
    ccversion='', gccversion='4.8.5 20150623 (Red Hat 4.8.5-44)', gccosandvers=''
    intsize=4, longsize=8, ptrsize=8, doublesize=8, byteorder=12345678
    d_longlong=define, longlongsize=8, d_longdbl=define, longdblsize=16
    ivtype='long', ivsize=8, nvtype='double', nvsize=8, Off_t='off_t', lseeksize=8
    alignbytes=8, prototype=define
  Linker and Libraries:
    ld='cc', ldflags =' -fstack-protector -L/usr/local/lib'
    libpth=/usr/local/lib /lib/../lib64 /usr/lib/../lib64 /lib /usr/lib /lib64 /usr/lib64 /usr/local/lib64
    libs=-lnsl -lgdbm -ldb -ldl -lm -lcrypt -lutil -lc -lgdbm_compat
    perllibs=-lnsl -ldl -lm -lcrypt -lutil -lc
    libc=libc-2.17.so, so=so, useshrplib=false, libperl=libperl.a
    gnulibc_version='2.17'
  Dynamic Linking:
    dlsrc=dl_dlopen.xs, dlext=so, d_dlsymun=undef, ccdlflags='-Wl,-E'
    cccdlflags='-fPIC', lddlflags='-shared -O2 -L/usr/local/lib -fstack-protector'


Characteristics of this binary (from libperl): 
  Compile-time options: HAS_TIMES PERLIO_LAYERS PERL_DONT_CREATE_GVSV
                        PERL_HASH_FUNC_ONE_AT_A_TIME_HARD PERL_MALLOC_WRAP
                        PERL_PRESERVE_IVUV PERL_SAWAMPERSAND USE_64_BIT_ALL
                        USE_64_BIT_INT USE_LARGE_FILES USE_LOCALE
                        USE_LOCALE_COLLATE USE_LOCALE_CTYPE
                        USE_LOCALE_NUMERIC USE_PERLIO USE_PERL_ATOF
  Locally applied patches:
	Devel::PatchPerl 2.08
  Built under linux
  Compiled at Dec 26 2022 19:19:09
  %ENV:
    PERL5LIB="/home/cpansand/.cpan/build/2023070801/XML-Sig-0.64-2/blib/arch:/home/cpansand/.cpan/build/2023070801/XML-Sig-0.64-2/blib/lib:/home/cpansand/.cpan/build/2023070801/XML-Generator-1.13-2/blib/arch:/home/cpansand/.cpan/build/2023070801/XML-Generator-1.13-2/blib/lib:/home/cpansand/.cpan/build/2023070801/XML-Enc-0.13-2/blib/arch:/home/cpansand/.cpan/build/2023070801/XML-Enc-0.13-2/blib/lib"
    PERL5OPT=""
    PERL5_CPANPLUS_IS_RUNNING="18876"
    PERL5_CPAN_IS_RUNNING="18876"
    PERL5_CPAN_IS_RUNNING_IN_RECURSION="17071,18876"
    PERLDOC="-MPod::Perldoc::ToTextOverstrike"
    PERL_BATCH="yes"
    PERL_CANARY_STABILITY_NOPROMPT="1"
    PERL_CPAN_REPORTER_CONFIG="/var/tmp/cpansmoker-1023/2023070801/cpanreporter_000_config.ini"
    PERL_EXTUTILS_AUTOINSTALL="--defaultdeps"
    PERL_USE_UNSAFE_INC="1"
  @INC:
    /home/cpansand/.cpan/build/2023070801/XML-Sig-0.64-2/blib/arch
    /home/cpansand/.cpan/build/2023070801/XML-Sig-0.64-2/blib/lib
    /home/cpansand/.cpan/build/2023070801/XML-Generator-1.13-2/blib/arch
    /home/cpansand/.cpan/build/2023070801/XML-Generator-1.13-2/blib/lib
    /home/cpansand/.cpan/build/2023070801/XML-Enc-0.13-2/blib/arch
    /home/cpansand/.cpan/build/2023070801/XML-Enc-0.13-2/blib/lib
    /opt/perl-5.18.4/lib/site_perl/5.18.4/x86_64-linux
    /opt/perl-5.18.4/lib/site_perl/5.18.4
    /opt/perl-5.18.4/lib/5.18.4/x86_64-linux
    /opt/perl-5.18.4/lib/5.18.4
    .