Report for Data-FormValidator-4.70

Back
From: metabase:user:e3434da8-b236-11df-85ca-0247c6d74bde
Subject: PASS Data-FormValidator-4.70 v5.15.4 GNU/Linux
Date: 2011-11-12T06:39:56Z

This distribution has been tested as part of the CPAN Testers
project, supporting the Perl programming language.  See
http://wiki.cpantesters.org/ for more information or email
questions to cpan-testers-discuss@perl.org


--
Dear Mark Stosberg,

This is a computer-generated report for Data-FormValidator-4.70
on perl 5.15.4, created by CPAN-Reporter-1.2002.

Thank you for uploading your work to CPAN.  Congratulations!
All tests were successful.

Sections of this report:

    * Tester comments
    * Program output
    * Prerequisites
    * Environment and other context

------------------------------
TESTER COMMENTS
------------------------------

Additional comments from tester:

this report is from an automated smoke testing program
and was not reviewed by a human for accuracy

------------------------------
PROGRAM OUTPUT
------------------------------

Output from './Build test':

t/00_base.t .............................. ok
t/02_code_ref.t .......................... ok
t/03_dependency.t ........................ ok
t/04_arrayify_undef.t .................... ok
t/05_valid_ip_address.t .................. ok
t/06_regexp_map.t ........................ ok
t/09_require_some.t ...................... ok
t/11_procedural_match.t .................. ok
t/13_validator_packages.t ................ ok
t/15_literal_param_constraints.t ......... ok
t/16_cgi_object.t ........................ ok
t/17_multi_valued_keys.t ................. ok
t/18_constraint_refs.t ................... ok
t/19_refs_as_values.t .................... ok
t/20_careful_exception_handling.t ........ ok
t/21_multiple_fields.t ................... ok
t/25_results.t ........................... ok
t/26_qr.t ................................ ok
t/27_qualify_ref_happy_death.t ........... ok
t/28_defaults_for_new.t .................. ok
t/30_filter_definedness.t ................ ok
t/FV_length.t ............................ ok
t/any_errors.t ........................... ok
t/check_profile_syntax.t ................. ok
t/constraint_method.t .................... ok
t/constraint_method_string.t ............. ok
t/constraint_method_zero.t ............... ok
t/constraint_regexp_map_profile_reuse.t .. ok
t/constraints_builtin.t .................. ok
t/constraints_builtin_closure.t .......... ok
t/constraints_factory.t .................. ok
t/constraints_invalid_once_only.t ........ ok
t/constraints_regexp_map_interaction.t ... ok
t/constraints_reuse.t .................... ok
t/credit_card.t .......................... ok
t/dates.t ................................ ok
t/dates_closure.t ........................ ok
t/dependency_coderef.t ................... ok
t/dependency_groups.t .................... ok
t/filter_constraints.t ................... ok
"my" variable $replacer masks earlier declaration in same scope at t/filters_builtin.t line 17.
t/filters_builtin.t ...................... ok
t/filters_shouldnt_modify.t .............. ok
t/get_filtered_data.t .................... ok
t/get_input_data.t ....................... ok
t/missing_optional.t ..................... ok
t/msgs.t ................................. ok
t/multiple_constraints.t ................. ok
t/params_not_mentioned.t ................. ok
t/pod.t .................................. ok
t/procedural_valid.t ..................... ok
t/profile_checking.t ..................... ok
t/regexp_common.t ........................ ok
t/regexp_common_closure.t ................ ok
t/rename_builtin_constraints.t ........... ok
t/results_success.t ...................... ok
t/simple.t ............................... ok
t/tt_and_overload.t ...................... skipped: Template Toolkit required
t/undefined_arrayref.t ................... ok
t/unknown.t .............................. ok
t/untaint.t .............................. ok
# Skipping CGI::Simple Tests
# testing with CGI.pm version: 3.55
# Running tests with CGI
t/upload.t ............................... ok
# testing with CGI.pm version: 3.55
t/upload_closure.t ....................... ok
t/upload_mime_types.t .................... ok
All tests successful.
Files=63, Tests=599, 13 wallclock secs ( 0.26 usr  0.11 sys +  3.58 cusr  0.93 csys =  4.88 CPU)
Result: PASS

------------------------------
PREREQUISITES
------------------------------

Prerequisite modules loaded:

requires:

    Module          Need  Have      
    --------------- ----- ----------
    Date::Calc      5     6.3       
    Email::Valid    0     0.185     
    File::MMagic    1.17  1.27      
    Image::Size     0     3.230     
    MIME::Types     1.005 1.32      
    overload        0     1.15      
    perl            5.008 5.015004  
    Perl6::Junction 1.1   1.40000   
    Regexp::Common  0     2011041701
    Scalar::Util    0     1.23      
    Test::More      0     0.98      

build_requires:

    Module          Need  Have      
    --------------- ----- ----------
    CGI             3.48  3.55      

configure_requires:

    Module          Need  Have      
    --------------- ----- ----------
    Module::Build   0.38  0.39_01   


------------------------------
ENVIRONMENT AND OTHER CONTEXT
------------------------------

Environment variables:

    AUTOMATED_TESTING = 1
    LANG = en_GB.utf8
    LC_COLLATE = C
    LC_MONETARY = nl_NL.utf8
    PATH = /home/tester/perl5/perlbrew/bin:/home/tester/perl5/perlbrew/perls/perl-5.15.2/bin:/usr/lib64/qt-3.3/bin:/usr/lib64/ccache:/usr/local/bin:/bin:/usr/bin:/usr/local/sbin:/usr/sbin:/sbin:/home/tester/bin:/home/tester/bin
    PATH_WITHOUT_PERLBREW = /usr/lib64/qt-3.3/bin:/usr/lib64/ccache:/usr/local/bin:/bin:/usr/bin:/usr/local/sbin:/usr/sbin:/sbin:/home/tester/bin
    PERL5LIB = /home/perl5154/.cpan/build/File-MMagic-1.27-mOcN95/blib/arch:/home/perl5154/.cpan/build/File-MMagic-1.27-mOcN95/blib/lib:/home/perl5154/.cpan/build/Regexp-Common-2011041701-cEkPLf/blib/arch:/home/perl5154/.cpan/build/Regexp-Common-2011041701-cEkPLf/blib/lib:/home/perl5154/.cpan/build/Date-Calc-6.3-jRomv0/blib/arch:/home/perl5154/.cpan/build/Date-Calc-6.3-jRomv0/blib/lib:/home/perl5154/.cpan/build/Carp-Clan-6.04-H8A3pz/blib/arch:/home/perl5154/.cpan/build/Carp-Clan-6.04-H8A3pz/blib/lib:/home/perl5154/.cpan/build/Perl6-Junction-1.40000-ywt4hr/blib/arch:/home/perl5154/.cpan/build/Perl6-Junction-1.40000-ywt4hr/blib/lib:/home/perl5154/.cpan/build/MIME-Types-1.32-PgSZmG/blib/arch:/home/perl5154/.cpan/build/MIME-Types-1.32-PgSZmG/blib/lib:/home/perl5154/.cpan/build/Image-Size-3.230-YLl5bV/blib/arch:/home/perl5154/.cpan/build/Image-Size-3.230-YLl5bV/blib/lib:/home/perl5154/.cpan/build/Email-Valid-0.185-xryQZ_/blib/arch:/home/perl5154/.cpan/build/Email-Valid-0.185-xryQZ_/blib/lib:/home/perl5154/.cpan/build/MailTools-2.08-kguhIn/blib/arch:/home/perl5154/.cpan/build/MailTools-2.08-kguhIn/blib/lib:/home/perl5154/.cpan/build/TimeDate-1.20-3bayW9/blib/arch:/home/perl5154/.cpan/build/TimeDate-1.20-3bayW9/blib/lib
    PERL5OPT = 
    PERL5_CPANPLUS_IS_RUNNING = 25105
    PERL5_CPAN_IS_RUNNING = 25105
    PERL5_CPAN_IS_RUNNING_IN_RECURSION = 12876,25105
    PERLBREW_PATH = /home/tester/perl5/perlbrew/bin:/home/tester/perl5/perlbrew/perls/perl-5.15.2/bin
    PERLBREW_PERL = perl-5.15.2
    PERLBREW_ROOT = /home/tester/perl5/perlbrew
    PERLBREW_VERSION = 0.15
    PERL_CR_SMOKER_CURRENT = Data-FormValidator-4.70
    PERL_EXTUTILS_AUTOINSTALL = --defaultdeps
    PERL_MM_USE_DEFAULT = 1
    SHELL = /bin/bash
    TERM = screen

Perl special variables (and OS-specific diagnostics, for MSWin32):

    $^X = /home/perl5154/testing/bin/perl5.15.4
    $UID/$EUID = 516 / 516
    $GID = 516 516
    $EGID = 516 516

Perl module toolchain versions installed:

    Module              Have    
    ------------------- --------
    CPAN                1.9800  
    CPAN::Meta          2.112621
    Cwd                 3.37    
    ExtUtils::CBuilder  0.280204
    ExtUtils::Command   1.17    
    ExtUtils::Install   1.57    
    ExtUtils::MakeMaker 6.61_01 
    ExtUtils::Manifest  1.60    
    ExtUtils::ParseXS   3.05    
    File::Spec          3.34    
    JSON                2.53    
    JSON::PP            2.27200 
    Module::Build       0.39_01 
    Module::Signature   n/a     
    Parse::CPAN::Meta   1.4401  
    Test::Harness       3.23    
    Test::More          0.98    
    YAML                n/a     
    YAML::Syck          n/a     
    version             0.94    


--

Summary of my perl5 (revision 5 version 15 subversion 4) configuration:
   
  Platform:
    osname=linux, osvers=2.6.38.8-35.fc15.x86_64, archname=x86_64-linux-thread-multi
    uname='linux firenze.fritz.box 2.6.38.8-35.fc15.x86_64 #1 smp wed jul 6 13:58:54 utc 2011 x86_64 x86_64 x86_64 gnulinux '
    config_args='-Dprefix=/home/perl5154/testing -Dusethreads -Dusedevel -des'
    hint=recommended, useposix=true, d_sigaction=define
    useithreads=define, usemultiplicity=define
    useperlio=define, d_sfio=undef, uselargefiles=define, usesocks=undef
    use64bitint=define, use64bitall=define, uselongdouble=undef
    usemymalloc=n, bincompat5005=undef
  Compiler:
    cc='cc', ccflags ='-D_REENTRANT -D_GNU_SOURCE -fno-strict-aliasing -pipe -fstack-protector -I/usr/local/include -D_LARGEFILE_SOURCE -D_FILE_OFFSET_BITS=64',
    optimize='-O2',
    cppflags='-D_REENTRANT -D_GNU_SOURCE -fno-strict-aliasing -pipe -fstack-protector -I/usr/local/include'
    ccversion='', gccversion='4.6.0 20110530 (Red Hat 4.6.0-9)', gccosandvers=''
    intsize=4, longsize=8, ptrsize=8, doublesize=8, byteorder=12345678
    d_longlong=define, longlongsize=8, d_longdbl=define, longdblsize=16
    ivtype='long', ivsize=8, nvtype='double', nvsize=8, Off_t='off_t', lseeksize=8
    alignbytes=8, prototype=define
  Linker and Libraries:
    ld='cc', ldflags =' -fstack-protector -L/usr/local/lib'
    libpth=/usr/local/lib /lib/../lib64 /usr/lib/../lib64 /lib /usr/lib /lib64 /usr/lib64 /usr/local/lib64
    libs=-lnsl -lgdbm -ldb -ldl -lm -lcrypt -lutil -lpthread -lc -lgdbm_compat
    perllibs=-lnsl -ldl -lm -lcrypt -lutil -lpthread -lc
    libc=, so=so, useshrplib=false, libperl=libperl.a
    gnulibc_version='2.14'
  Dynamic Linking:
    dlsrc=dl_dlopen.xs, dlext=so, d_dlsymun=undef, ccdlflags='-Wl,-E'
    cccdlflags='-fPIC', lddlflags='-shared -O2 -L/usr/local/lib -fstack-protector'


Characteristics of this binary (from libperl): 
  Compile-time options: HAS_TIMES MULTIPLICITY PERLIO_LAYERS
                        PERL_DONT_CREATE_GVSV PERL_IMPLICIT_CONTEXT
                        PERL_MALLOC_WRAP PERL_PRESERVE_IVUV PERL_USE_DEVEL
                        USE_64_BIT_ALL USE_64_BIT_INT USE_ITHREADS
                        USE_LARGE_FILES USE_LOCALE USE_LOCALE_COLLATE
                        USE_LOCALE_CTYPE USE_LOCALE_NUMERIC USE_PERLIO
                        USE_PERL_ATOF USE_REENTRANT_API
  Built under linux
  Compiled at Oct 22 2011 20:27:21
  %ENV:
    PERL5LIB="/home/perl5154/.cpan/build/File-MMagic-1.27-mOcN95/blib/arch:/home/perl5154/.cpan/build/File-MMagic-1.27-mOcN95/blib/lib:/home/perl5154/.cpan/build/Regexp-Common-2011041701-cEkPLf/blib/arch:/home/perl5154/.cpan/build/Regexp-Common-2011041701-cEkPLf/blib/lib:/home/perl5154/.cpan/build/Date-Calc-6.3-jRomv0/blib/arch:/home/perl5154/.cpan/build/Date-Calc-6.3-jRomv0/blib/lib:/home/perl5154/.cpan/build/Carp-Clan-6.04-H8A3pz/blib/arch:/home/perl5154/.cpan/build/Carp-Clan-6.04-H8A3pz/blib/lib:/home/perl5154/.cpan/build/Perl6-Junction-1.40000-ywt4hr/blib/arch:/home/perl5154/.cpan/build/Perl6-Junction-1.40000-ywt4hr/blib/lib:/home/perl5154/.cpan/build/MIME-Types-1.32-PgSZmG/blib/arch:/home/perl5154/.cpan/build/MIME-Types-1.32-PgSZmG/blib/lib:/home/perl5154/.cpan/build/Image-Size-3.230-YLl5bV/blib/arch:/home/perl5154/.cpan/build/Image-Size-3.230-YLl5bV/blib/lib:/home/perl5154/.cpan/build/Email-Valid-0.185-xryQZ_/blib/arch:/home/perl5154/.cpan/build/Email-Valid-0.185-xryQZ_/blib/lib:/home/perl5154/.cpan/build/MailTools-2.08-kguhIn/blib/arch:/home/perl5154/.cpan/build/MailTools-2.08-kguhIn/blib/lib:/home/perl5154/.cpan/build/TimeDate-1.20-3bayW9/blib/arch:/home/perl5154/.cpan/build/TimeDate-1.20-3bayW9/blib/lib"
    PERL5OPT=""
    PERL5_CPANPLUS_IS_RUNNING="25105"
    PERL5_CPAN_IS_RUNNING="25105"
    PERL5_CPAN_IS_RUNNING_IN_RECURSION="12876,25105"
    PERLBREW_PATH="/home/tester/perl5/perlbrew/bin:/home/tester/perl5/perlbrew/perls/perl-5.15.2/bin"
    PERLBREW_PERL="perl-5.15.2"
    PERLBREW_ROOT="/home/tester/perl5/perlbrew"
    PERLBREW_VERSION="0.15"
    PERL_CR_SMOKER_CURRENT="Data-FormValidator-4.70"
    PERL_EXTUTILS_AUTOINSTALL="--defaultdeps"
    PERL_MM_USE_DEFAULT="1"
  @INC:
    /home/perl5154/.cpan/build/File-MMagic-1.27-mOcN95/blib/arch
    /home/perl5154/.cpan/build/File-MMagic-1.27-mOcN95/blib/lib
    /home/perl5154/.cpan/build/Regexp-Common-2011041701-cEkPLf/blib/arch
    /home/perl5154/.cpan/build/Regexp-Common-2011041701-cEkPLf/blib/lib
    /home/perl5154/.cpan/build/Date-Calc-6.3-jRomv0/blib/arch
    /home/perl5154/.cpan/build/Date-Calc-6.3-jRomv0/blib/lib
    /home/perl5154/.cpan/build/Carp-Clan-6.04-H8A3pz/blib/arch
    /home/perl5154/.cpan/build/Carp-Clan-6.04-H8A3pz/blib/lib
    /home/perl5154/.cpan/build/Perl6-Junction-1.40000-ywt4hr/blib/arch
    /home/perl5154/.cpan/build/Perl6-Junction-1.40000-ywt4hr/blib/lib
    /home/perl5154/.cpan/build/MIME-Types-1.32-PgSZmG/blib/arch
    /home/perl5154/.cpan/build/MIME-Types-1.32-PgSZmG/blib/lib
    /home/perl5154/.cpan/build/Image-Size-3.230-YLl5bV/blib/arch
    /home/perl5154/.cpan/build/Image-Size-3.230-YLl5bV/blib/lib
    /home/perl5154/.cpan/build/Email-Valid-0.185-xryQZ_/blib/arch
    /home/perl5154/.cpan/build/Email-Valid-0.185-xryQZ_/blib/lib
    /home/perl5154/.cpan/build/MailTools-2.08-kguhIn/blib/arch
    /home/perl5154/.cpan/build/MailTools-2.08-kguhIn/blib/lib
    /home/perl5154/.cpan/build/TimeDate-1.20-3bayW9/blib/arch
    /home/perl5154/.cpan/build/TimeDate-1.20-3bayW9/blib/lib
    /home/perl5154/testing/lib/site_perl/5.15.4/x86_64-linux-thread-multi
    /home/perl5154/testing/lib/site_perl/5.15.4
    /home/perl5154/testing/lib/5.15.4/x86_64-linux-thread-multi
    /home/perl5154/testing/lib/5.15.4
    .