Report for DBIx-Class-InflateColumn-Serializer-JSYNC-0.002001

Back
From: metabase:user:30977d10-2aae-11df-837a-5e0a49663a4f
Subject: PASS DBIx-Class-InflateColumn-Serializer-JSYNC-0.002001 v5.25.9 SunOS/Solaris
Date: 2017-03-15T22:52:58Z

This distribution has been tested as part of the CPAN Testers
project, supporting the Perl programming language.  See
http://wiki.cpantesters.org/ for more information or email
questions to cpan-testers-discuss@perl.org


--
Dear Kent Fredric,

This is a computer-generated report for DBIx-Class-InflateColumn-Serializer-JSYNC-0.002001
on perl 5.25.9, created by CPAN-Reporter-1.2018.

Thank you for uploading your work to CPAN.  Congratulations!
All tests were successful.

Sections of this report:

    * Tester comments
    * Program output
    * Prerequisites
    * Environment and other context

------------------------------
TESTER COMMENTS
------------------------------

Additional comments from tester:

this report is from an automated smoke testing program
and was not reviewed by a human for accuracy

------------------------------
PROGRAM OUTPUT
------------------------------

Output from '/usr/bin/make test':

PERL_DL_NONLAZY=1 "/home/stro/perl/5.25.9/bin/perl" "-MExtUtils::Command::MM" "-MTest::Harness" "-e" "undef *Test::Harness::Switches; test_harness(0, 'blib/lib', 'blib/arch')" t/*.t t/00-compile/*.t
t/00-compile/lib_DBIx_Class_InflateColumn_Serializer_JSYNC_pm.t .. ok
# 
# Versions for all modules listed in MYMETA.json (including optional ones):
# 
# === Configure Requires ===
# 
#     Module              Want Have
#     ------------------- ---- ----
#     ExtUtils::MakeMaker  any 7.24
# 
# === Configure Recommends ===
# 
#     Module              Want Have
#     ------------------- ---- ----
#     ExtUtils::MakeMaker 7.00 7.24
# 
# === Build Requires ===
# 
#     Module              Want Have
#     ------------------- ---- ----
#     ExtUtils::MakeMaker  any 7.24
# 
# === Test Requires ===
# 
#     Module                                 Want     Have
#     -------------------------------------- ---- --------
#     DBD::SQLite                             any     1.54
#     DBI                                     any    1.636
#     DBIx::Class::Core                       any    undef
#     DBIx::Class::InflateColumn::Serializer  any     0.09
#     DBIx::Class::Schema                     any    undef
#     ExtUtils::MakeMaker                     any     7.24
#     File::Spec                              any     3.66
#     Path::Tiny                              any    0.104
#     Test::Fatal                             any    0.014
#     Test::More                              any 1.302075
#     parent                                  any    0.236
# 
# === Test Recommends ===
# 
#     Module                  Want     Have
#     ------------------- -------- --------
#     CPAN::Meta          2.120900 2.150010
#     ExtUtils::MakeMaker     7.00     7.24
#     Path::Tiny             0.058    0.104
#     Test::More              0.99 1.302075
# 
# === Runtime Requires ===
# 
#     Module                                 Want Have
#     -------------------------------------- ---- ----
#     Carp                                    any 1.42
#     DBIx::Class::InflateColumn::Serializer  any 0.09
#     JSYNC                                   any 0.25
#     strict                                  any 1.11
#     warnings                                any 1.37
# 
t/00-report-prereqs.t ............................................ ok
t/basic-oversize.t ............................................... ok
t/basic-size.t ................................................... ok
t/basic.t ........................................................ ok
All tests successful.
Files=5, Tests=9,  2 wallclock secs ( 0.04 usr  0.02 sys +  1.40 cusr  0.19 csys =  1.65 CPU)
Result: PASS

------------------------------
PREREQUISITES
------------------------------

Prerequisite modules loaded:

requires:

    Module                                 Need     Have    
    -------------------------------------- -------- --------
    Carp                                   0        1.42    
    DBIx::Class::InflateColumn::Serializer 0        0.09    
    JSYNC                                  0        0.25    
    perl                                   5.006    5.025009
    strict                                 0        1.11    
    warnings                               0        1.37    

build_requires:

    Module                                 Need     Have    
    -------------------------------------- -------- --------
    DBD::SQLite                            0        1.54    
    DBI                                    0        1.636   
    DBIx::Class::Core                      0        0       
    DBIx::Class::InflateColumn::Serializer 0        0.09    
    DBIx::Class::Schema                    0        0       
    ExtUtils::MakeMaker                    0        7.24    
    File::Spec                             0        3.66    
    parent                                 0        0.236   
    Path::Tiny                             0        0.104   
    Test::Fatal                            0        0.014   
    Test::More                             0        1.302075

configure_requires:

    Module                                 Need     Have    
    -------------------------------------- -------- --------
    ExtUtils::MakeMaker                    0        7.24    
    perl                                   5.006    5.025009

opt_build_requires:

    Module                                 Need     Have    
    -------------------------------------- -------- --------
    CPAN::Meta                             2.120900 2.150010
    ExtUtils::MakeMaker                    7.00     7.24    
    Path::Tiny                             0.058    0.104   
    Test::More                             0.99     1.302075


------------------------------
ENVIRONMENT AND OTHER CONTEXT
------------------------------

Environment variables:

    AUTOMATED_TESTING = 1
    LANG = en_US.UTF-8
    PATH = /usr/gnu/bin:/usr/bin:/usr/sbin:/sbin:/usr/sfw/bin:
    PERL5LIB = 
    PERL5OPT = 
    PERL5_CPANPLUS_IS_RUNNING = 4898
    PERL5_CPAN_IS_RUNNING = 4898
    PERL5_CPAN_IS_RUNNING_IN_RECURSION = 24593,4898
    PERL_CR_SMOKER_CURRENT = DBIx-Class-InflateColumn-Serializer-JSYNC-0.002001
    PERL_EXTUTILS_AUTOINSTALL = --defaultdeps
    PERL_MM_USE_DEFAULT = 1
    SHELL = /bin/bash
    TERM = xterm

Perl special variables (and OS-specific diagnostics, for MSWin32):

    $^X = /home/stro/perl/5.25.9/bin/perl
    $UID/$EUID = 101 / 101
    $GID = 10 10
    $EGID = 10 10

Perl module toolchain versions installed:

    Module              Have      
    ------------------- ----------
    CPAN                2.16      
    CPAN::Meta          2.150010  
    Cwd                 3.66      
    ExtUtils::CBuilder  0.280225  
    ExtUtils::Command   7.24      
    ExtUtils::Install   2.04      
    ExtUtils::MakeMaker 7.24      
    ExtUtils::Manifest  1.70      
    ExtUtils::ParseXS   3.33      
    File::Spec          3.66      
    JSON                2.90      
    JSON::PP            2.27400_02
    Module::Build       0.4220    
    Module::Signature   n/a       
    Parse::CPAN::Meta   2.150010  
    Test::Harness       3.36_01   
    Test::More          1.302075  
    YAML                1.22      
    YAML::Syck          1.29      
    version             0.9917    


--

Summary of my perl5 (revision 5 version 25 subversion 9) configuration:
   
  Platform:
    osname=solaris
    osvers=2.11
    archname=i86pc-solaris
    uname='sunos vm-openindiana-001 5.11 illumos-2816291 i86pc i386 i86pc '
    config_args='-Dcc=gcc'
    hint=recommended
    useposix=true
    d_sigaction=define
    useithreads=undef
    usemultiplicity=undef
    use64bitint=undef
    use64bitall=undef
    uselongdouble=undef
    usemymalloc=n
    bincompat5005=undef
  Compiler:
    cc='gcc'
    ccflags ='-fno-strict-aliasing -pipe -I/usr/gnu/include -D_LARGEFILE_SOURCE -D_FILE_OFFSET_BITS=64 -DPERL_USE_SAFE_PUTENV'
    optimize='-O'
    cppflags='-fno-strict-aliasing -pipe -I/usr/gnu/include'
    ccversion=''
    gccversion='3.4.3 (csl-sol210-3_4-20050802)'
    gccosandvers='solaris2.11'
    intsize=4
    longsize=4
    ptrsize=4
    doublesize=8
    byteorder=1234
    doublekind=3
    d_longlong=define
    longlongsize=8
    d_longdbl=define
    longdblsize=12
    longdblkind=3
    ivtype='long'
    ivsize=4
    nvtype='double'
    nvsize=8
    Off_t='off_t'
    lseeksize=8
    alignbytes=4
    prototype=define
  Linker and Libraries:
    ld='gcc'
    ldflags =' -L/usr/gnu/lib '
    libpth=/usr/gcc/3.4/lib /usr/lib /usr/gnu/lib /usr/ccs/lib
    libs=-lpthread -lsocket -lnsl -lgdbm -ldb -ldl -lm -lc
    perllibs=-lpthread -lsocket -lnsl -ldl -lm -lc
    libc=/lib/libc.so
    so=so
    useshrplib=true
    libperl=libperl.so
    gnulibc_version=''
  Dynamic Linking:
    dlsrc=dl_dlopen.xs
    dlext=so
    d_dlsymun=undef
    ccdlflags='  -R /home/stro/perl/5.25.9/lib/5.25.9/i86pc-solaris/CORE'
    cccdlflags='-fPIC'
    lddlflags='-shared -L/usr/gnu/lib'


Characteristics of this binary (from libperl): 
  Compile-time options:
    HAS_TIMES
    PERLIO_LAYERS
    PERL_COPY_ON_WRITE
    PERL_DONT_CREATE_GVSV
    PERL_HASH_FUNC_ONE_AT_A_TIME_HARD
    PERL_MALLOC_WRAP
    PERL_OP_PARENT
    PERL_PRESERVE_IVUV
    PERL_USE_SAFE_PUTENV
    USE_LARGE_FILES
    USE_LOCALE
    USE_LOCALE_COLLATE
    USE_LOCALE_CTYPE
    USE_LOCALE_NUMERIC
    USE_LOCALE_TIME
    USE_PERLIO
    USE_PERL_ATOF
  Built under solaris
  Compiled at Feb  6 2017 00:17:57
  %ENV:
    PERL5LIB=""
    PERL5OPT=""
    PERL5_CPANPLUS_IS_RUNNING="4898"
    PERL5_CPAN_IS_RUNNING="4898"
    PERL5_CPAN_IS_RUNNING_IN_RECURSION="24593,4898"
    PERL_CR_SMOKER_CURRENT="DBIx-Class-InflateColumn-Serializer-JSYNC-0.002001"
    PERL_EXTUTILS_AUTOINSTALL="--defaultdeps"
    PERL_MM_USE_DEFAULT="1"
  @INC:
    /home/stro/perl/5.25.9/lib/site_perl/5.25.9/i86pc-solaris
    /home/stro/perl/5.25.9/lib/site_perl/5.25.9
    /home/stro/perl/5.25.9/lib/5.25.9/i86pc-solaris
    /home/stro/perl/5.25.9/lib/5.25.9
    .