Report for Net-SAML2-0.17

Back
From: metabase:user:320bfe00-2aae-11df-837a-5e0a49663a4f
Subject: PASS Net-SAML2-0.17 v5.23.1 GNU/Linux
Date: 2015-06-26T15:50:57Z

This distribution has been tested as part of the CPAN Testers
project, supporting the Perl programming language.  See
http://wiki.cpantesters.org/ for more information or email
questions to cpan-testers-discuss@perl.org


--
Dear Chris Andrews,

This is a computer-generated report for Net-SAML2-0.17
on perl 5.23.1, created by CPAN-Reporter-1.2014.

Thank you for uploading your work to CPAN.  Congratulations!
All tests were successful.

Sections of this report:

    * Tester comments
    * Program output
    * Prerequisites
    * Environment and other context

------------------------------
TESTER COMMENTS
------------------------------

Additional comments from tester:

this report is from an automated smoke testing program
and was not reviewed by a human for accuracy

------------------------------
PROGRAM OUTPUT
------------------------------

Output from '/usr/bin/make test':

make[1]: Entering directory '/tmp/loop_over_bdir-14244-3BdeJL/Net-SAML2-0.17-fIpVaz/testapp'
Manifying 1 pod document
make[1]: Leaving directory '/tmp/loop_over_bdir-14244-3BdeJL/Net-SAML2-0.17-fIpVaz/testapp'
PERL_DL_NONLAZY=1 "/tmp/basesmoker-reloperl-K8MN/bin/perl" "-MExtUtils::Command::MM" "-MTest::Harness" "-e" "undef *Test::Harness::Switches; test_harness(0, 'inc', 'blib/lib', 'blib/arch')" t/*.t
t/00-basic.t ............. ok
t/01-create-idp.t ........ ok
t/02-create-sp.t ......... ok
t/03-assertions.t ........ ok
t/04-response.t .......... ok
t/05-soap-binding.t ...... ok
t/06-redirect-binding.t .. ok
t/07-logout-request.t .... ok
t/08-logout-response.t ... ok
t/09-authn-request.t ..... ok
t/10-artifact-resolve.t .. ok
t/11-more-metadata.t ..... ok
All tests successful.
Files=12, Tests=80, 10 wallclock secs ( 0.05 usr  0.07 sys +  9.37 cusr  1.03 csys = 10.52 CPU)
Result: PASS
make[1]: Entering directory '/tmp/loop_over_bdir-14244-3BdeJL/Net-SAML2-0.17-fIpVaz/testapp'
PERL_DL_NONLAZY=1 "/tmp/basesmoker-reloperl-K8MN/bin/perl" "-MExtUtils::Command::MM" "-MTest::Harness" "-e" "undef *Test::Harness::Switches; test_harness(0, '../blib/lib', '../blib/arch')" t/*.t
t/001_base.t ......... ok
t/002_index_route.t .. ok
All tests successful.
Files=2, Tests=4,  2 wallclock secs ( 0.03 usr  0.01 sys +  1.71 cusr  0.19 csys =  1.94 CPU)
Result: PASS
make[1]: Leaving directory '/tmp/loop_over_bdir-14244-3BdeJL/Net-SAML2-0.17-fIpVaz/testapp'

------------------------------
PREREQUISITES
------------------------------

Prerequisite modules loaded:

requires:

    Module                     Need     Have    
    -------------------------- -------- --------
    Class::Accessor            0        0.34    
    Crypt::OpenSSL::Bignum     0        0.06    
    Crypt::OpenSSL::DSA        0        0.15    
    Crypt::OpenSSL::Random     0        0.10    
    Crypt::OpenSSL::RSA        0        0.28    
    Crypt::OpenSSL::VerifyX509 0        0.10    
    Crypt::OpenSSL::X509       0        1.806   
    DateTime::Format::XSD      0        0.2     
    Digest::SHA1               0        2.13    
    File::Slurp                0        9999.19 
    IO::Compress::RawDeflate   0        2.068   
    IO::Uncompress::RawInflate 0        2.068   
    LWP::UserAgent             0        6.13    
    MIME::Base64               0        3.15    
    Moose                      0        2.1405  
    MooseX::Types              0        0.45    
    MooseX::Types::Common      0        0.001013
    MooseX::Types::DateTime    0        0.10    
    MooseX::Types::URI         0        0.07    
    perl                       5.008001 5.023001
    URI                        0        1.67    
    XML::CanonicalizeXML       0        0.05    
    XML::Generator             0        1.04    
    XML::XPath                 0        1.13    

build_requires:

    Module                     Need     Have    
    -------------------------- -------- --------
    Dancer                     1.2000   1.3138  
    ExtUtils::MakeMaker        7.0401   7.04_01 
    Test::More                 0.88     1.001014
    WWW::Mechanize             1.66     1.75    
    YAML                       0        1.15    

configure_requires:

    Module                     Need     Have    
    -------------------------- -------- --------
    ExtUtils::MakeMaker        6.56     7.04_01 


------------------------------
ENVIRONMENT AND OTHER CONTEXT
------------------------------

Environment variables:

    AUTOMATED_TESTING = 1
    LANG = en_US.UTF-8
    LANGUAGE = en_US:en
    PATH = /home/sand/bin:/usr/local/bin:/usr/bin:/bin:/usr/games:/usr/local/perl/bin:/usr/X11/bin:/sbin:/usr/sbin
    PERL5LIB = /tmp/loop_over_bdir-14244-3BdeJL/Alien-ActiveMQ-0.00005-APFDnv/blib/arch:/tmp/loop_over_bdir-14244-3BdeJL/Alien-ActiveMQ-0.00005-APFDnv/blib/lib
    PERL5OPT = 
    PERL5_CPANPLUS_IS_RUNNING = 16394
    PERL5_CPAN_IS_RUNNING = 16394
    PERL_MM_USE_DEFAULT = 1
    SHELL = /usr/bin/zsh
    TERM = screen

Perl special variables (and OS-specific diagnostics, for MSWin32):

    $^X = /tmp/basesmoker-reloperl-K8MN/bin/perl
    $UID/$EUID = 1005 / 1005
    $GID = 1005 1005
    $EGID = 1005 1005

Perl module toolchain versions installed:

    Module              Have    
    ------------------- --------
    CPAN                2.10    
    CPAN::Meta          2.150005
    Cwd                 3.56    
    ExtUtils::CBuilder  0.280223
    ExtUtils::Command   1.20    
    ExtUtils::Install   2.04    
    ExtUtils::MakeMaker 7.04_01 
    ExtUtils::Manifest  1.70    
    ExtUtils::ParseXS   3.28    
    File::Spec          3.56    
    JSON                2.90    
    JSON::PP            2.27300 
    Module::Build       0.4214  
    Module::Signature   0.79    
    Parse::CPAN::Meta   1.4417  
    Test::Harness       3.35    
    Test::More          1.001014
    YAML                1.15    
    YAML::Syck          1.29    
    version             0.9909  


--

Summary of my perl5 (revision 5 version 23 subversion 1) configuration:
  Commit id: b226f3e6c10b4cb8cb6ae37d8bba22970264868b
  Platform:
    osname=linux, osvers=4.0.0-2-amd64, archname=x86_64-linux
    uname='linux k83 4.0.0-2-amd64 #1 smp debian 4.0.5-1 (2015-06-16) x86_64 gnulinux '
    config_args='-Dprefix=/home/sand/src/perl/repoperls/installed-perls/perl/v5.23.0-16-gb226f3e/165a -Dmyhostname=k83 -Dinstallusrbinperl=n -Uversiononly -Dusedevel -des -Ui_db -Uuseithreads -Uuselongdouble -DDEBUGGING=-g'
    hint=recommended, useposix=true, d_sigaction=define
    useithreads=undef, usemultiplicity=undef
    use64bitint=define, use64bitall=define, uselongdouble=undef
    usemymalloc=n, bincompat5005=undef
  Compiler:
    cc='cc', ccflags ='-fwrapv -fno-strict-aliasing -pipe -fstack-protector-strong -I/usr/local/include -D_LARGEFILE_SOURCE -D_FILE_OFFSET_BITS=64 -D_FORTIFY_SOURCE=2',
    optimize='-O2 -g',
    cppflags='-fwrapv -fno-strict-aliasing -pipe -fstack-protector-strong -I/usr/local/include'
    ccversion='', gccversion='4.9.2', gccosandvers=''
    intsize=4, longsize=8, ptrsize=8, doublesize=8, byteorder=12345678, doublekind=3
    d_longlong=define, longlongsize=8, d_longdbl=define, longdblsize=16, longdblkind=3
    ivtype='long', ivsize=8, nvtype='double', nvsize=8, Off_t='off_t', lseeksize=8
    alignbytes=8, prototype=define
  Linker and Libraries:
    ld='cc', ldflags =' -fstack-protector-strong -L/usr/local/lib'
    libpth=/usr/local/lib /usr/lib/gcc/x86_64-linux-gnu/4.9/include-fixed /usr/include/x86_64-linux-gnu /usr/lib /lib/x86_64-linux-gnu /lib/../lib /usr/lib/x86_64-linux-gnu /usr/lib/../lib /lib
    libs=-lpthread -lnsl -lgdbm -ldb -ldl -lm -lcrypt -lutil -lc -lgdbm_compat
    perllibs=-lpthread -lnsl -ldl -lm -lcrypt -lutil -lc
    libc=libc-2.19.so, so=so, useshrplib=false, libperl=libperl.a
    gnulibc_version='2.19'
  Dynamic Linking:
    dlsrc=dl_dlopen.xs, dlext=so, d_dlsymun=undef, ccdlflags='-Wl,-E'
    cccdlflags='-fPIC', lddlflags='-shared -O2 -g -L/usr/local/lib -fstack-protector-strong'


Characteristics of this binary (from libperl): 
  Compile-time options: HAS_TIMES PERLIO_LAYERS PERL_DONT_CREATE_GVSV
                        PERL_HASH_FUNC_ONE_AT_A_TIME_HARD PERL_MALLOC_WRAP
                        PERL_NEW_COPY_ON_WRITE PERL_PRESERVE_IVUV
                        PERL_USE_DEVEL USE_64_BIT_ALL USE_64_BIT_INT
                        USE_LARGE_FILES USE_LOCALE USE_LOCALE_COLLATE
                        USE_LOCALE_CTYPE USE_LOCALE_NUMERIC USE_LOCALE_TIME
                        USE_PERLIO USE_PERL_ATOF
  Built under linux
  Compiled at Jun 26 2015 03:40:10
  %ENV:
    PERL5LIB="/tmp/loop_over_bdir-14244-3BdeJL/Alien-ActiveMQ-0.00005-APFDnv/blib/arch:/tmp/loop_over_bdir-14244-3BdeJL/Alien-ActiveMQ-0.00005-APFDnv/blib/lib"
    PERL5OPT=""
    PERL5_CPANPLUS_IS_RUNNING="16394"
    PERL5_CPAN_IS_RUNNING="16394"
    PERL_MM_USE_DEFAULT="1"
  @INC:
    /tmp/loop_over_bdir-14244-3BdeJL/Alien-ActiveMQ-0.00005-APFDnv/blib/arch
    /tmp/loop_over_bdir-14244-3BdeJL/Alien-ActiveMQ-0.00005-APFDnv/blib/lib
    /home/sand/src/perl/repoperls/installed-perls/perl/v5.23.0-16-gb226f3e/165a/lib/site_perl/5.23.1/x86_64-linux
    /home/sand/src/perl/repoperls/installed-perls/perl/v5.23.0-16-gb226f3e/165a/lib/site_perl/5.23.1
    /home/sand/src/perl/repoperls/installed-perls/perl/v5.23.0-16-gb226f3e/165a/lib/5.23.1/x86_64-linux
    /home/sand/src/perl/repoperls/installed-perls/perl/v5.23.0-16-gb226f3e/165a/lib/5.23.1
    .