Data-Visitor v0.31 Perl 5 v5.8.5 darwin-2level

Status
Pass
From
Karen Etheridge
Dist
Data-Visitor v0.31
Platform
Perl 5 v5.8.5 darwin-2level
Date
2021-04-29 04:05:29
ID
22dffc0c-a8a0-11eb-bd84-72b9c29a6efb
This distribution has been tested as part of the CPAN Testers
project, supporting the Perl programming language.  See
http://wiki.cpantesters.org/ for more information or email
questions to cpan-testers-discuss@perl.org


--
Dear ETHER,

This is a computer-generated report for Data-Visitor-0.31
on perl 5.8.5, created by App::cpanminus::reporter 0.17 (1.9018).

Thank you for uploading your work to CPAN.  Congratulations!
All tests were successful.

Sections of this report:

    * Tester comments
    * Program output
    * Prerequisites
    * Environment and other context

------------------------------
TESTER COMMENTS
------------------------------

Additional comments from tester:

none provided

------------------------------
PROGRAM OUTPUT
------------------------------

Output from '':

Building and testing Data-Visitor-0.31
PERL_DL_NONLAZY=1 "/Volumes/amaretto/Users/ether/perl5/perlbrew/perls/8.5/bin/perl" "-MExtUtils::Command::MM" "-MTest::Harness" "-e" "undef *Test::Harness::Switches; test_harness(0, 'blib/lib', 'blib/arch')" t/*.t
# 
# Versions for all modules listed in static metadata (including optional ones):
# 
# === Configure Requires ===
# 
#     Module              Want Have
#     ------------------- ---- ----
#     ExtUtils::MakeMaker  any 7.44
# 
# === Configure Suggests ===
# 
#     Module      Want    Have
#     -------- ------- -------
#     JSON::PP 2.27300 2.27203
# 
# === Test Requires ===
# 
#     Module              Want      Have
#     ------------------- ---- ---------
#     ExtUtils::MakeMaker  any      7.44
#     File::Spec           any      3.47
#     Test::More          0.88  1.302183
#     Test::Needs          any 0.002_008
#     Tie::RefHash         any      1.31
# 
# === Test Recommends ===
# 
#     Module         Want     Have
#     ---------- -------- --------
#     CPAN::Meta 2.120900 2.150005
# 
# === Runtime Requires ===
# 
#     Module           Want   Have
#     ---------------- ---- ------
#     Carp              any   1.36
#     Moose            0.89 2.2100
#     Scalar::Util      any   1.56
#     Sub::Name         any   0.26
#     Symbol            any   1.05
#     Tie::ToObject    0.01   0.03
#     constant          any   1.04
#     namespace::clean 0.19   0.27
#     overload          any   1.01
#     strict            any   1.03
#     warnings          any   1.03
# 
# === Other Modules ===
# 
#     Module             Have
#     --------------- -------
#     Encode             3.06
#     File::Temp       0.2311
#     JSON::PP        2.27203
#     Module::Runtime   0.014
#     Pod::Coverage      0.23
#     Sub::Name          0.26
#     YAML            missing
#     autodie            2.29
# 
# 
# *** WARNING WARNING WARNING WARNING WARNING WARNING WARNING WARNING ***
# 
# CPAN::Meta->load_file('MYMETA.json') failed with: , or } expected while parsing object/hash, at character offset 210 (before ""generated_by" : "Di...") at /Volumes/amaretto/Users/ether/.perlbrew/libs/8.5@std/lib/perl5/Parse/CPAN/Meta.pm line 53.
#  at /Volumes/amaretto/Users/ether/.perlbrew/libs/8.5@std/lib/perl5/CPAN/Meta.pm line 301.
#  at t/00-report-prereqs.t line 90.
# 
t/00-report-prereqs.t .... ok
t/callback.t ............. ok
t/base.t ................. ok
t/bugs.t ................. ok
t/callback_hash_entry.t .. ok
t/callback_aliasing.t .... ok
t/weak.t ................. skipped: Need Data::Alias
t/callback_moose_tc.t .... ok
t/globs.t ................ ok
t/circular_refs.t ........ ok
t/magic.t ................ ok
All tests successful.
Files=11, Tests=106,  1 wallclock secs ( 0.05 usr  0.03 sys +  4.16 cusr  0.58 csys =  4.82 CPU)
Result: PASS

------------------------------
PREREQUISITES
------------------------------

Prerequisite modules loaded:

    No requirements found

------------------------------
ENVIRONMENT AND OTHER CONTEXT
------------------------------

Environment variables:

    HARNESS_OPTIONS = j6:c
    LANG = en_CA.UTF-8
    NO_NETWORK_TESTING = 1
    PATH = /Volumes/amaretto/Users/ether/.perlbrew/libs/8.5@std/bin:/Volumes/amaretto/Users/ether/perl5/perlbrew/bin:/Volumes/amaretto/Users/ether/perl5/perlbrew/perls/8.5/bin:/Volumes/amaretto/Users/ether/bin:/Volumes/amaretto/Users/ether/git/misc/install/jaeger/bin:/Volumes/amaretto/Users/ether/git/misc/install/generic/bin:/opt/local/bin:/opt/local/sbin:/Volumes/amaretto/Users/ether/git/git-hub/lib:/usr/local/bin:/usr/bin:/bin:/usr/sbin:/sbin:/Library/Apple/usr/bin:/opt/local/share/git-core/contrib/workdir:/opt/local/share/git-core/contrib/workdir
    PERL5LIB = /Volumes/amaretto/Users/ether/.perlbrew/libs/8.5@std/lib/perl5
    PERLBREW_HOME = /Volumes/amaretto/Users/ether/.perlbrew
    PERLBREW_LIB = std
    PERLBREW_MANPATH = /Volumes/amaretto/Users/ether/.perlbrew/libs/8.5@std/man:/Volumes/amaretto/Users/ether/perl5/perlbrew/perls/8.5/man
    PERLBREW_PATH = /Volumes/amaretto/Users/ether/.perlbrew/libs/8.5@std/bin:/Volumes/amaretto/Users/ether/perl5/perlbrew/bin:/Volumes/amaretto/Users/ether/perl5/perlbrew/perls/8.5/bin
    PERLBREW_PERL = 8.5
    PERLBREW_ROOT = /Volumes/amaretto/Users/ether/perl5/perlbrew
    PERLBREW_SHELLRC_VERSION = 0.89
    PERLBREW_VERSION = 0.92
    PERLDOC = -oman
    PERLDOC_PAGER = less -sicMr
    PERL_AUTOINSTALL_PREFER_CPAN = 1
    PERL_INSTALL_QUIET = 1
    PERL_LOCAL_LIB_ROOT = /Volumes/amaretto/Users/ether/.perlbrew/libs/8.5@std
    PERL_MB_OPT = --install_base /Volumes/amaretto/Users/ether/.perlbrew/libs/8.5@std
    PERL_MM_OPT = INSTALL_BASE=/Volumes/amaretto/Users/ether/.perlbrew/libs/8.5@std
    PERL_TEST_HARNESS_ASAP = 1
    PERL_USE_UNSAFE_INC = 0
    SHELL = /bin/bash
    TERM = xterm-color

Perl special variables (and OS-specific diagnostics, for MSWin32):

    EGID = 20 400 399 398 395 250 204 100 33 701 98 81 80 79 61 12 20
    EUID = 502
    EXECUTABLE_NAME = /Volumes/amaretto/Users/ether/perl5/perlbrew/perls/8.5/bin/perl
    GID = 20 400 399 398 395 250 204 100 33 701 98 81 80 79 61 12 20
    UID = 502

Perl module toolchain versions installed:

    Module              Have    
    ------------------- --------
    CPAN                2.14    
    CPAN::Meta          2.150005
    Cwd                 3.47    
    ExtUtils::CBuilder  0.280223
    ExtUtils::Command   7.44    
    ExtUtils::Install   2.16    
    ExtUtils::MakeMaker 7.44    
    ExtUtils::Manifest  1.70    
    ExtUtils::ParseXS   3.30    
    File::Spec          3.47    
    JSON                4.02    
    JSON::PP            2.27203 
    Module::Build       0.4214  
    Module::Signature   0.83    
    Parse::CPAN::Meta   1.4417  
    Test::Harness       3.35    
    Test::More          1.302183
    YAML                n/a     
    YAML::Syck          n/a     
    version             0.9929  


--

Summary of my perl5 (revision 5 version 8 subversion 5) configuration:
  Platform:
    osname=darwin, osvers=14.3.0, archname=darwin-2level
    uname='darwin jaeger 14.3.0 darwin kernel version 14.3.0: mon mar 23 11:59:05 pdt 2015; root:xnu-2782.20.48~5release_x86_64 x86_64 '
    config_args='-de -Dprefix=/Volumes/amaretto/Users/ether/perl5/perlbrew/perls/8.5 -Dman1dir=none -Dman3dir=none -Aeval:scriptdir=/Volumes/amaretto/Users/ether/perl5/perlbrew/perls/8.5/bin'
    hint=recommended, useposix=true, d_sigaction=define
    usethreads=undef use5005threads=undef useithreads=undef usemultiplicity=undef
    useperlio=define d_sfio=undef uselargefiles=define usesocks=undef
    use64bitint=define use64bitall=define uselongdouble=undef
    usemymalloc=n, bincompat5005=undef
  Compiler:
    cc='cc', ccflags ='-fno-common -DPERL_DARWIN -fno-strict-aliasing -pipe -I/opt/local/include',
    optimize='-O3',
    cppflags='-fno-common -DPERL_DARWIN -fno-strict-aliasing -pipe -I/opt/local/include'
    ccversion='', gccversion='4.2.1 Compatible Apple LLVM 6.1.0 (clang-602.0.49)', gccosandvers=''
    intsize=4, longsize=8, ptrsize=8, doublesize=8, byteorder=12345678
    d_longlong=define, longlongsize=8, d_longdbl=define, longdblsize=16
    ivtype='long', ivsize=8, nvtype='double', nvsize=8, Off_t='off_t', lseeksize=8
    alignbytes=8, prototype=define
  Linker and Libraries:
    ld='env MACOSX_DEPLOYMENT_TARGET=10.3 cc', ldflags =' -L/opt/local/lib'
    libpth=/opt/local/lib /usr/lib
    libs=-lgdbm -ldbm -ldl -lm -lutil -lc
    perllibs=-ldl -lm -lutil -lc
    libc=, so=dylib, useshrplib=false, libperl=libperl.a
    gnulibc_version=''
  Dynamic Linking:
    dlsrc=dl_dlopen.xs, dlext=bundle, d_dlsymun=undef, ccdlflags=' '
    cccdlflags=' ', lddlflags=' -bundle -undefined dynamic_lookup -L/opt/local/lib'


Characteristics of this binary (from libperl): 
  Compile-time options: USE_64_BIT_INT USE_64_BIT_ALL USE_LARGE_FILES
  Locally applied patches:
	Devel::PatchPerl 1.34
  Built under darwin
  Compiled at Jun 17 2015 13:05:09
  %ENV:
    PERL5LIB="/Volumes/amaretto/Users/ether/.perlbrew/libs/8.5@std/lib/perl5"
    PERLBREW_HOME="/Volumes/amaretto/Users/ether/.perlbrew"
    PERLBREW_LIB="std"
    PERLBREW_MANPATH="/Volumes/amaretto/Users/ether/.perlbrew/libs/8.5@std/man:/Volumes/amaretto/Users/ether/perl5/perlbrew/perls/8.5/man"
    PERLBREW_PATH="/Volumes/amaretto/Users/ether/.perlbrew/libs/8.5@std/bin:/Volumes/amaretto/Users/ether/perl5/perlbrew/bin:/Volumes/amaretto/Users/ether/perl5/perlbrew/perls/8.5/bin"
    PERLBREW_PERL="8.5"
    PERLBREW_ROOT="/Volumes/amaretto/Users/ether/perl5/perlbrew"
    PERLBREW_SHELLRC_VERSION="0.89"
    PERLBREW_VERSION="0.92"
    PERLDOC="-oman"
    PERLDOC_PAGER="less -sicMr"
    PERL_AUTOINSTALL_PREFER_CPAN="1"
    PERL_INSTALL_QUIET="1"
    PERL_LOCAL_LIB_ROOT="/Volumes/amaretto/Users/ether/.perlbrew/libs/8.5@std"
    PERL_MB_OPT="--install_base /Volumes/amaretto/Users/ether/.perlbrew/libs/8.5@std"
    PERL_MM_OPT="INSTALL_BASE=/Volumes/amaretto/Users/ether/.perlbrew/libs/8.5@std"
    PERL_TEST_HARNESS_ASAP="1"
    PERL_USE_UNSAFE_INC="0"
  @INC:
    /Volumes/amaretto/Users/ether/.perlbrew/libs/8.5@std/lib/perl5/darwin-2level
    /Volumes/amaretto/Users/ether/.perlbrew/libs/8.5@std/lib/perl5
    /Volumes/amaretto/Users/ether/perl5/perlbrew/perls/8.5/lib/5.8.5/darwin-2level
    /Volumes/amaretto/Users/ether/perl5/perlbrew/perls/8.5/lib/5.8.5
    /Volumes/amaretto/Users/ether/perl5/perlbrew/perls/8.5/lib/site_perl/5.8.5/darwin-2level
    /Volumes/amaretto/Users/ether/perl5/perlbrew/perls/8.5/lib/site_perl/5.8.5
    /Volumes/amaretto/Users/ether/perl5/perlbrew/perls/8.5/lib/site_perl
    .