XML-GrammarBase v0.2.6 Perl 5 v5.28.0 i86pc-solaris
- Status
- Pass
- From
- Serguei Trouchelle (STRO)
- Dist
-
XML-GrammarBase v0.2.6
- Platform
- Perl 5 v5.28.0 i86pc-solaris
- Date
- 2018-10-19 19:56:58
- ID
- 22ffe3da-d3d9-11e8-8297-566eec3b2b51
This distribution has been tested as part of the CPAN Testers
project, supporting the Perl programming language. See
http://wiki.cpantesters.org/ for more information or email
questions to cpan-testers-discuss@perl.org
--
Dear Shlomi Fish,
This is a computer-generated report for XML-GrammarBase-0.2.6
on perl 5.28.0, created by CPAN-Reporter-1.2018.
Thank you for uploading your work to CPAN. Congratulations!
All tests were successful.
Sections of this report:
* Tester comments
* Program output
* Prerequisites
* Environment and other context
------------------------------
TESTER COMMENTS
------------------------------
Additional comments from tester:
this report is from an automated smoke testing program
and was not reviewed by a human for accuracy
------------------------------
PROGRAM OUTPUT
------------------------------
Output from './Build test':
t/00-compile.t ...... ok
# Testing XML::GrammarBase 0.2.6, Perl 5.028000, /home/stro/perl/5.28.0/bin/perl
t/00-load.t ......... ok
#
#
# Compiled against libxml2 version: 20904
# Running libxml2 version: 20904
#
t/01libxml-basic.t .. ok
t/data_dir.t ........ ok
t/multi-xslt.t ...... ok
t/rng.t ............. ok
t/xslt.t ............ ok
All tests successful.
Files=7, Tests=31, 3 wallclock secs ( 0.09 usr 0.04 sys + 2.35 cusr 0.41 csys = 2.89 CPU)
Result: PASS
------------------------------
PREREQUISITES
------------------------------
Prerequisite modules loaded:
requires:
Module Need Have
------------------ ----- --------
autodie 0 2.29
File::ShareDir 0 1.116
MooX::late 0 0.015
MooX::Role 0 0.101
Package::Variant 0 1.003002
perl 5.008 5.028000
strict 0 1.11
warnings 0 1.42
XML::LibXML 0 2.0132
XML::LibXSLT 0 1.96
build_requires:
Module Need Have
------------------ ----- --------
File::Spec 0 3.74
File::Temp 0 0.2304
IO::Handle 0 1.39
IPC::Open3 0 1.20
Module::Build 0.28 0.4224
MooX 0 0.101
Test::More 0.88 1.302140
Test::XML::Ordered 0 0.0.9
configure_requires:
Module Need Have
------------------ ----- --------
Module::Build 0.28 0.4224
------------------------------
ENVIRONMENT AND OTHER CONTEXT
------------------------------
Environment variables:
AUTOMATED_TESTING = 1
LANG = en_US.UTF-8
PATH = /usr/gnu/bin:/usr/bin:/usr/sbin:/sbin:/usr/sfw/bin:
PERL5LIB =
PERL5OPT =
PERL5_CPANPLUS_IS_RUNNING = 18258
PERL5_CPAN_IS_RUNNING = 18258
PERL5_CPAN_IS_RUNNING_IN_RECURSION = 7441,18258
PERL_CR_SMOKER_CURRENT = XML-Grammar-Fiction-v0.16.0
PERL_EXTUTILS_AUTOINSTALL = --defaultdeps
PERL_MM_USE_DEFAULT = 1
PERL_USE_UNSAFE_INC = 1
SHELL = /bin/bash
TERM = xterm
Perl special variables (and OS-specific diagnostics, for MSWin32):
$^X = /home/stro/perl/5.28.0/bin/perl
$UID/$EUID = 101 / 101
$GID = 10 10
$EGID = 10 10
Perl module toolchain versions installed:
Module Have
------------------- --------
CPAN 2.20
CPAN::Meta 2.150010
Cwd 3.74
ExtUtils::CBuilder 0.280230
ExtUtils::Command 7.34
ExtUtils::Install 2.14
ExtUtils::MakeMaker 7.34
ExtUtils::Manifest 1.70
ExtUtils::ParseXS 3.39
File::Spec 3.74
JSON 2.97001
JSON::PP 2.97001
Module::Build 0.4224
Module::Signature n/a
Parse::CPAN::Meta 2.150010
Test::Harness 3.42
Test::More 1.302140
YAML 1.26
YAML::Syck 1.30
version 0.9923
--
Summary of my perl5 (revision 5 version 28 subversion 0) configuration:
Platform:
osname=solaris
osvers=2.11
archname=i86pc-solaris
uname='sunos vm-openindiana-001 5.11 illumos-ed992b0aac i86pc i386 i86pc solaris '
config_args=''
hint=recommended
useposix=true
d_sigaction=define
useithreads=undef
usemultiplicity=undef
use64bitint=undef
use64bitall=undef
uselongdouble=undef
usemymalloc=n
default_inc_excludes_dot=define
bincompat5005=undef
Compiler:
cc='/opt/SUNWspro/bin/cc'
ccflags ='-I/usr/gnu/include -D_LARGEFILE_SOURCE -D_FILE_OFFSET_BITS=64 -DPERL_USE_SAFE_PUTENV'
optimize='-O'
cppflags='-I/usr/gnu/include'
ccversion='Sun C 5.10 SunOS_i386 2009/06/03'
gccversion=''
gccosandvers=''
intsize=4
longsize=4
ptrsize=4
doublesize=8
byteorder=1234
doublekind=3
d_longlong=define
longlongsize=8
d_longdbl=define
longdblsize=12
longdblkind=3
ivtype='long'
ivsize=4
nvtype='double'
nvsize=8
Off_t='off_t'
lseeksize=8
alignbytes=4
prototype=define
Linker and Libraries:
ld='/opt/SUNWspro/bin/cc'
ldflags =' -L/usr/lib -L/usr/ccs/lib -L/opt/sunstudio12.1/prod/lib -L/lib -L/usr/gnu/lib '
libpth=/usr/lib /usr/ccs/lib /opt/sunstudio12.1/prod/lib /lib /usr/gnu/lib
libs=-lpthread -lsocket -lnsl -lgdbm -ldb -ldl -lm -lc
perllibs=-lpthread -lsocket -lnsl -ldl -lm -lc
libc=/lib/libc.so
so=so
useshrplib=true
libperl=libperl.so
gnulibc_version=''
Dynamic Linking:
dlsrc=dl_dlopen.xs
dlext=so
d_dlsymun=undef
ccdlflags=' -R /home/stro/perl/5.28.0/lib/5.28.0/i86pc-solaris/CORE'
cccdlflags='-KPIC'
lddlflags='-G -L/usr/lib -L/usr/ccs/lib -L/opt/sunstudio12.1/prod/lib -L/lib -L/usr/gnu/lib'
Characteristics of this binary (from libperl):
Compile-time options:
HAS_TIMES
PERLIO_LAYERS
PERL_COPY_ON_WRITE
PERL_DONT_CREATE_GVSV
PERL_MALLOC_WRAP
PERL_OP_PARENT
PERL_PRESERVE_IVUV
PERL_USE_SAFE_PUTENV
USE_LARGE_FILES
USE_LOCALE
USE_LOCALE_COLLATE
USE_LOCALE_CTYPE
USE_LOCALE_NUMERIC
USE_LOCALE_TIME
USE_PERLIO
USE_PERL_ATOF
Built under solaris
Compiled at Oct 15 2018 02:43:38
%ENV:
PERL5LIB=""
PERL5OPT=""
PERL5_CPANPLUS_IS_RUNNING="18258"
PERL5_CPAN_IS_RUNNING="18258"
PERL5_CPAN_IS_RUNNING_IN_RECURSION="7441,18258"
PERL_CR_SMOKER_CURRENT="XML-Grammar-Fiction-v0.16.0"
PERL_EXTUTILS_AUTOINSTALL="--defaultdeps"
PERL_MM_USE_DEFAULT="1"
PERL_USE_UNSAFE_INC="1"
@INC:
/home/stro/perl/5.28.0/lib/site_perl/5.28.0/i86pc-solaris
/home/stro/perl/5.28.0/lib/site_perl/5.28.0
/home/stro/perl/5.28.0/lib/5.28.0/i86pc-solaris
/home/stro/perl/5.28.0/lib/5.28.0
.