Crypt-OpenSSL-RSA v0.30 Perl 5 v5.16.3 x86_64-dragonfly-thread-multi
- Status
- Pass
- From
- Nigel Horne
- Dist
-
Crypt-OpenSSL-RSA v0.30
- Platform
- Perl 5 v5.16.3 x86_64-dragonfly-thread-multi
- Date
- 2018-05-10 21:43:11
- ID
- 23128020-549b-11e8-9da6-f703c768dc7a
This distribution has been tested as part of the CPAN Testers
project, supporting the Perl programming language. See
http://wiki.cpantesters.org/ for more information or email
questions to cpan-testers-discuss@perl.org
--
Dear Todd Rinaldo,
This is a computer-generated report for Crypt-OpenSSL-RSA-0.30
on perl 5.16.3, created by CPAN-Reporter-1.2018.
Thank you for uploading your work to CPAN. Congratulations!
All tests were successful.
Sections of this report:
* Tester comments
* Program output
* Prerequisites
* Environment and other context
------------------------------
TESTER COMMENTS
------------------------------
Additional comments from tester:
this report is from an automated smoke testing program
and was not reviewed by a human for accuracy
------------------------------
PROGRAM OUTPUT
------------------------------
Output from '/usr/bin/make test':
"/home/njh/perl5/perlbrew/perls/perl-5.16.3-thread/bin/perl5.16.3" -MExtUtils::Command::MM -e 'cp_nonempty' -- RSA.bs blib/arch/auto/Crypt/OpenSSL/RSA/RSA.bs 644
PERL_DL_NONLAZY=1 "/home/njh/perl5/perlbrew/perls/perl-5.16.3-thread/bin/perl5.16.3" "-MExtUtils::Command::MM" "-MTest::Harness" "-e" "undef *Test::Harness::Switches; test_harness(0, 'blib/lib', 'blib/arch')" t/*.t
t/bignum.t .................. skipped: Crypt::OpenSSL::Bignum required for bignum tests
t/format.t .................. ok
t/rsa.t ..................... ok
t/z_kwalitee.t .............. skipped: This test is only run for the module author
t/z_meta.t .................. skipped: This test is only run for the module author
t/z_perl_minimum_version.t .. skipped: Author tests not required for installation
t/z_pod-coverage.t .......... skipped: This test is only run for the module author
t/z_pod.t ................... skipped: This test is only run for the module author
All tests successful.
Files=8, Tests=73, 2 wallclock secs ( 0.08 usr 0.05 sys + 0.91 cusr 0.30 csys = 1.34 CPU)
Result: PASS
------------------------------
PREREQUISITES
------------------------------
Prerequisite modules loaded:
requires:
Module Need Have
---------------------- ----- --------
Crypt::OpenSSL::Random 0 0.15
perl 5.006 5.016003
Test::More 0 1.302120
build_requires:
Module Need Have
---------------------- ----- --------
ExtUtils::MakeMaker 0 7.30
configure_requires:
Module Need Have
---------------------- ----- --------
Crypt::OpenSSL::Guess 0.11 0.11
ExtUtils::MakeMaker 0 7.30
------------------------------
ENVIRONMENT AND OTHER CONTEXT
------------------------------
Environment variables:
AUTOMATED_TESTING = 1
PATH = /home/njh/perl5/perlbrew/bin:/home/njh/perl5/perlbrew/perls/perl-5.16.3-thread/bin:src/njh/smoker/bin:/bin:/sbin:/usr/bin:/usr/sbin:/usr/local/bin:/usr/local/sbin:/usr/pkg/bin:/usr/pkg/sbin
PERL5LIB = /home/njh/.cpan/build/Crypt-OpenSSL-Random-0.15-0/blib/arch:/home/njh/.cpan/build/Crypt-OpenSSL-Random-0.15-0/blib/lib:/home/njh/.cpan/build/Crypt-OpenSSL-Guess-0.11-0/blib/arch:/home/njh/.cpan/build/Crypt-OpenSSL-Guess-0.11-0/blib/lib:/home/njh/.cpan/build/Module-Build-Tiny-0.039-0/blib/arch:/home/njh/.cpan/build/Module-Build-Tiny-0.039-0/blib/lib:/home/njh/.cpan/build/ExtUtils-InstallPaths-0.012-0/blib/arch:/home/njh/.cpan/build/ExtUtils-InstallPaths-0.012-0/blib/lib:/home/njh/.cpan/build/ExtUtils-Helpers-0.026-0/blib/arch:/home/njh/.cpan/build/ExtUtils-Helpers-0.026-0/blib/lib:/home/njh/.cpan/build/ExtUtils-Config-0.008-0/blib/arch:/home/njh/.cpan/build/ExtUtils-Config-0.008-0/blib/lib
PERL5OPT =
PERL5_CPANPLUS_IS_RUNNING = 653393
PERL5_CPAN_IS_RUNNING = 653393
PERLBREW_HOME = /home/njh/.perlbrew
PERLBREW_MANPATH = /home/njh/perl5/perlbrew/perls/perl-5.16.3-thread/man
PERLBREW_PATH = /home/njh/perl5/perlbrew/bin:/home/njh/perl5/perlbrew/perls/perl-5.16.3-thread/bin
PERLBREW_PERL = perl-5.16.3-thread
PERLBREW_ROOT = /home/njh/perl5/perlbrew
PERLBREW_SHELLRC_VERSION = 0.82
PERLBREW_VERSION = 0.82
SHELL = /bin/sh
TMPDIR = /tmp/testwrapper.653383
Perl special variables (and OS-specific diagnostics, for MSWin32):
$^X = /home/njh/perl5/perlbrew/perls/perl-5.16.3-thread/bin/perl5.16.3
$UID/$EUID = 1001 / 1001
$GID = 1001 1001 0
$EGID = 1001 1001 0
Perl module toolchain versions installed:
Module Have
------------------- --------
CPAN 2.16
CPAN::Meta 2.143240
Cwd 3.39_02
ExtUtils::CBuilder 0.280206
ExtUtils::Command 7.30
ExtUtils::Install 2.06
ExtUtils::MakeMaker 7.30
ExtUtils::Manifest 1.70
ExtUtils::ParseXS 3.16
File::Spec 3.39_02
JSON n/a
JSON::PP 2.27203
Module::Build 0.39_01
Module::Signature n/a
Parse::CPAN::Meta 1.4414
Test::Harness 3.39
Test::More 1.302120
YAML 1.24
YAML::Syck 1.30
version 0.99
--
Summary of my perl5 (revision 5 version 16 subversion 3) configuration:
Platform:
osname=dragonfly, osvers=5.0-release, archname=x86_64-dragonfly-thread-multi
uname='dragonfly david.bandsman.co.uk 5.0-release dragonfly v5.0.2-release #4: sun dec 3 17:42:25 est 2017 root@www.shiningsilence.com:usrobjhomejustinrelease5_0sysx86_64_generic x86_64 '
config_args='-de -Dprefix=/home/njh/perl5/perlbrew/perls/perl-5.16.3-thread -Dusedevel -Dusethreads -Accflags= -Aeval:scriptdir=/home/njh/perl5/perlbrew/perls/perl-5.16.3-thread/bin'
hint=recommended, useposix=true, d_sigaction=define
useithreads=define, usemultiplicity=define
useperlio=define, d_sfio=undef, uselargefiles=define, usesocks=undef
use64bitint=define, use64bitall=define, uselongdouble=undef
usemymalloc=n, bincompat5005=undef
Compiler:
cc='cc', ccflags ='-DHAS_FPSETMASK -DHAS_FLOATINGPOINT_H -fno-strict-aliasing -pipe -fstack-protector -I/usr/local/include',
optimize='-O',
cppflags='-DHAS_FPSETMASK -DHAS_FLOATINGPOINT_H -fno-strict-aliasing -pipe -fstack-protector -I/usr/local/include'
ccversion='', gccversion='5.4.1 [DragonFly] Release/2016-08-27', gccosandvers=''
intsize=4, longsize=8, ptrsize=8, doublesize=8, byteorder=12345678
d_longlong=define, longlongsize=8, d_longdbl=define, longdblsize=16
ivtype='long', ivsize=8, nvtype='double', nvsize=8, Off_t='off_t', lseeksize=8
alignbytes=8, prototype=define
Linker and Libraries:
ld='cc', ldflags ='-pthread -Wl,-E -fstack-protector -L/usr/local/lib'
libpth=/usr/lib /usr/local/lib
libs=-ldl -lm -lcrypt -lutil -lc
perllibs=-ldl -lm -lcrypt -lutil -lc
libc=, so=so, useshrplib=false, libperl=libperl.a
gnulibc_version=''
Dynamic Linking:
dlsrc=dl_dlopen.xs, dlext=so, d_dlsymun=undef, ccdlflags=' '
cccdlflags='-DPIC -fPIC', lddlflags='-shared -L/usr/local/lib -fstack-protector'
Characteristics of this binary (from libperl):
Compile-time options: HAS_TIMES MULTIPLICITY PERLIO_LAYERS
PERL_DONT_CREATE_GVSV PERL_IMPLICIT_CONTEXT
PERL_MALLOC_WRAP PERL_PRESERVE_IVUV PERL_USE_DEVEL
USE_64_BIT_ALL USE_64_BIT_INT USE_ITHREADS
USE_LARGE_FILES USE_LOCALE USE_LOCALE_COLLATE
USE_LOCALE_CTYPE USE_LOCALE_NUMERIC USE_PERLIO
USE_PERL_ATOF USE_REENTRANT_API
Locally applied patches:
Devel::PatchPerl 1.48
Built under dragonfly
Compiled at Jan 28 2018 03:53:18
%ENV:
PERL5LIB="/home/njh/.cpan/build/Crypt-OpenSSL-Random-0.15-0/blib/arch:/home/njh/.cpan/build/Crypt-OpenSSL-Random-0.15-0/blib/lib:/home/njh/.cpan/build/Crypt-OpenSSL-Guess-0.11-0/blib/arch:/home/njh/.cpan/build/Crypt-OpenSSL-Guess-0.11-0/blib/lib:/home/njh/.cpan/build/Module-Build-Tiny-0.039-0/blib/arch:/home/njh/.cpan/build/Module-Build-Tiny-0.039-0/blib/lib:/home/njh/.cpan/build/ExtUtils-InstallPaths-0.012-0/blib/arch:/home/njh/.cpan/build/ExtUtils-InstallPaths-0.012-0/blib/lib:/home/njh/.cpan/build/ExtUtils-Helpers-0.026-0/blib/arch:/home/njh/.cpan/build/ExtUtils-Helpers-0.026-0/blib/lib:/home/njh/.cpan/build/ExtUtils-Config-0.008-0/blib/arch:/home/njh/.cpan/build/ExtUtils-Config-0.008-0/blib/lib"
PERL5OPT=""
PERL5_CPANPLUS_IS_RUNNING="653393"
PERL5_CPAN_IS_RUNNING="653393"
PERLBREW_HOME="/home/njh/.perlbrew"
PERLBREW_MANPATH="/home/njh/perl5/perlbrew/perls/perl-5.16.3-thread/man"
PERLBREW_PATH="/home/njh/perl5/perlbrew/bin:/home/njh/perl5/perlbrew/perls/perl-5.16.3-thread/bin"
PERLBREW_PERL="perl-5.16.3-thread"
PERLBREW_ROOT="/home/njh/perl5/perlbrew"
PERLBREW_SHELLRC_VERSION="0.82"
PERLBREW_VERSION="0.82"
@INC:
/home/njh/.cpan/build/Crypt-OpenSSL-Random-0.15-0/blib/arch
/home/njh/.cpan/build/Crypt-OpenSSL-Random-0.15-0/blib/lib
/home/njh/.cpan/build/Crypt-OpenSSL-Guess-0.11-0/blib/arch
/home/njh/.cpan/build/Crypt-OpenSSL-Guess-0.11-0/blib/lib
/home/njh/.cpan/build/Module-Build-Tiny-0.039-0/blib/arch
/home/njh/.cpan/build/Module-Build-Tiny-0.039-0/blib/lib
/home/njh/.cpan/build/ExtUtils-InstallPaths-0.012-0/blib/arch
/home/njh/.cpan/build/ExtUtils-InstallPaths-0.012-0/blib/lib
/home/njh/.cpan/build/ExtUtils-Helpers-0.026-0/blib/arch
/home/njh/.cpan/build/ExtUtils-Helpers-0.026-0/blib/lib
/home/njh/.cpan/build/ExtUtils-Config-0.008-0/blib/arch
/home/njh/.cpan/build/ExtUtils-Config-0.008-0/blib/lib
/home/njh/perl5/perlbrew/perls/perl-5.16.3-thread/lib/site_perl/5.16.3/x86_64-dragonfly-thread-multi
/home/njh/perl5/perlbrew/perls/perl-5.16.3-thread/lib/site_perl/5.16.3
/home/njh/perl5/perlbrew/perls/perl-5.16.3-thread/lib/5.16.3/x86_64-dragonfly-thread-multi
/home/njh/perl5/perlbrew/perls/perl-5.16.3-thread/lib/5.16.3
.