IO-Stringy v2.113 Perl 5 v5.10.0 amd64-freebsd

Status
Pass
From
Bartosz Jarzyna
Dist
IO-Stringy v2.113
Platform
Perl 5 v5.10.0 amd64-freebsd
Date
2022-11-17 01:49:56
ID
232e0bde-661a-11ed-86a1-1e1647702ea9
This distribution has been tested as part of the CPAN Testers
project, supporting the Perl programming language.  See
http://wiki.cpantesters.org/ for more information or email
questions to cpan-testers-discuss@perl.org


--
Dear Chase Whitener,

This is a computer-generated report for IO-Stringy-2.113
on perl 5.10.0, created by CPAN-Reporter-1.2018.

Thank you for uploading your work to CPAN.  Congratulations!
All tests were successful.

Sections of this report:

    * Tester comments
    * Program output
    * Prerequisites
    * Environment and other context

------------------------------
TESTER COMMENTS
------------------------------

Additional comments from tester:

this report is from an automated smoke testing program
and was not reviewed by a human for accuracy

------------------------------
PROGRAM OUTPUT
------------------------------

Output from '/usr/bin/make test':

PERL_DL_NONLAZY=1 "/home/smoker/perl5/perlbrew/perls/perl-5.10.0/bin/perl" "-MExtUtils::Command::MM" "-MTest::Harness" "-e" "undef *Test::Harness::Switches; test_harness(0, 'blib/lib', 'blib/arch')" t/*.t
# 
# Versions for all modules listed in MYMETA.json (including optional ones):
# 
# === Configure Requires ===
# 
#     Module              Want Have
#     ------------------- ---- ----
#     ExtUtils::MakeMaker  any 7.64
# 
# === Build Requires ===
# 
#     Module              Want Have
#     ------------------- ---- ----
#     ExtUtils::MakeMaker  any 7.64
# 
# === Test Requires ===
# 
#     Module              Want     Have
#     ------------------- ---- --------
#     ExtUtils::MakeMaker  any     7.64
#     File::Basename       any     2.76
#     File::Spec           any     3.75
#     File::Temp           any     0.22
#     FileHandle           any     2.01
#     IO::File             any     1.14
#     IO::Handle           any     1.27
#     Symbol               any     1.06
#     Test::More          0.88 1.302191
#     Test::Tester         any 1.302191
#     strict               any     1.04
#     warnings             any     1.06
# 
# === Test Recommends ===
# 
#     Module         Want     Have
#     ---------- -------- --------
#     CPAN::Meta 2.120900 2.143240
# 
# === Runtime Requires ===
# 
#     Module     Want  Have
#     ---------- ---- -----
#     Carp        any  1.08
#     Exporter   5.57  5.62
#     File::Spec  any  3.75
#     FileHandle  any  2.01
#     IO::File    any  1.14
#     IO::Handle  any  1.27
#     Symbol      any  1.06
#     overload    any  1.06
#     parent      any 0.238
#     strict      any  1.04
#     warnings    any  1.06
# 
t/00-report-prereqs.t .. ok
t/IO_InnerFile.t ....... ok
t/IO_Lines.t ........... ok
t/IO_Scalar.t .......... ok
t/IO_ScalarArray.t ..... ok
t/IO_WrapTie.t ......... ok
t/simple.t ............. ok
t/two.t ................ ok
All tests successful.
Files=8, Tests=127,  1 wallclock secs ( 0.02 usr  0.04 sys +  0.50 cusr  0.12 csys =  0.68 CPU)
Result: PASS

------------------------------
PREREQUISITES
------------------------------

Prerequisite modules loaded:

requires:

    Module              Need     Have    
    ------------------- -------- --------
    Carp                0        1.08    
    Exporter            5.57     5.62    
    File::Spec          0        3.75    
    FileHandle          0        2.01    
    IO::File            0        1.14    
    IO::Handle          0        1.27    
    overload            0        1.06    
    parent              0        0.238   
    strict              0        1.04    
    Symbol              0        1.06    
    warnings            0        1.06    

build_requires:

    Module              Need     Have    
    ------------------- -------- --------
    ExtUtils::MakeMaker 0        7.64    
    File::Basename      0        2.76    
    File::Spec          0        3.75    
    File::Temp          0        0.22    
    FileHandle          0        2.01    
    IO::File            0        1.14    
    IO::Handle          0        1.27    
    strict              0        1.04    
    Symbol              0        1.06    
    Test::More          0.88     1.302191
    Test::Tester        0        1.302191
    warnings            0        1.06    

configure_requires:

    Module              Need     Have    
    ------------------- -------- --------
    ExtUtils::MakeMaker 0        7.64    

opt_build_requires:

    Module              Need     Have    
    ------------------- -------- --------
    CPAN::Meta          2.120900 2.143240


------------------------------
ENVIRONMENT AND OTHER CONTEXT
------------------------------

Environment variables:

    AUTOMATED_TESTING = 1
    LANG = C.UTF-8
    PATH = /sbin:/bin:/usr/sbin:/usr/bin:/usr/local/sbin:/usr/local/bin:/home/smoker/bin
    PERL5LIB = 
    PERL5OPT = 
    PERL5_CPANPLUS_IS_RUNNING = 39487
    PERL5_CPAN_IS_RUNNING = 39487
    PERL5_CPAN_IS_RUNNING_IN_RECURSION = 56256,39487
    PERL_CR_SMOKER_CURRENT = URL-Signature-Google-Maps-API-0.02
    PERL_EXTUTILS_AUTOINSTALL = --defaultdeps
    PERL_MM_USE_DEFAULT = 1
    SHELL = /bin/sh

Perl special variables (and OS-specific diagnostics, for MSWin32):

    $^X = /home/smoker/perl5/perlbrew/perls/perl-5.10.0/bin/perl
    $UID/$EUID = 1001 / 1001
    $GID = 1001 1001
    $EGID = 1001 1001

Perl module toolchain versions installed:

    Module              Have    
    ------------------- --------
    CPAN                2.16    
    CPAN::Meta          2.143240
    Cwd                 3.75    
    ExtUtils::CBuilder  0.280236
    ExtUtils::Command   7.64    
    ExtUtils::Install   2.06    
    ExtUtils::MakeMaker 7.64    
    ExtUtils::Manifest  1.70    
    ExtUtils::ParseXS   3.44    
    File::Spec          3.75    
    JSON                n/a     
    JSON::PP            4.12    
    Module::Build       0.4231  
    Module::Signature   n/a     
    Parse::CPAN::Meta   1.4414  
    Test::Harness       3.44    
    Test::More          1.302191
    YAML                n/a     
    YAML::Syck          n/a     
    version             0.9929  


--

Summary of my perl5 (revision 5 version 10 subversion 0) configuration:
  Platform:
    osname=freebsd, osvers=13.1-release-p3, archname=amd64-freebsd
    uname='freebsd smoker-10.smoker 13.1-release-p3 freebsd 13.1-release-p3 generic amd64 '
    config_args='-de -Dprefix=/home/smoker/perl5/perlbrew/perls/perl-5.10.0 -Aeval:scriptdir=/home/smoker/perl5/perlbrew/perls/perl-5.10.0/bin'
    hint=recommended, useposix=true, d_sigaction=define
    useithreads=undef, usemultiplicity=undef
    useperlio=define, d_sfio=undef, uselargefiles=define, usesocks=undef
    use64bitint=define, use64bitall=define, uselongdouble=undef
    usemymalloc=n, bincompat5005=undef
  Compiler:
    cc='cc', ccflags ='-DHAS_FPSETMASK -DHAS_FLOATINGPOINT_H -fno-strict-aliasing -pipe -I/usr/local/include',
    optimize='-O2',
    cppflags='-DHAS_FPSETMASK -DHAS_FLOATINGPOINT_H -fno-strict-aliasing -pipe -I/usr/local/include'
    ccversion='', gccversion='FreeBSD Clang 13.0.0 (git@github.com:llvm/llvm-project.git llvmorg-13.0.0-0-gd7b669b3a303)', gccosandvers=''
    intsize=4, longsize=8, ptrsize=8, doublesize=8, byteorder=12345678
    d_longlong=define, longlongsize=8, d_longdbl=define, longdblsize=16
    ivtype='long', ivsize=8, nvtype='double', nvsize=8, Off_t='off_t', lseeksize=8
    alignbytes=8, prototype=define
  Linker and Libraries:
    ld='cc', ldflags ='-Wl,-E  -L/usr/local/lib'
    libpth=/usr/lib /usr/local/lib
    libs=-ldl -lm -lcrypt -lutil -lc
    perllibs=-ldl -lm -lcrypt -lutil -lc
    libc=, so=so, useshrplib=false, libperl=libperl.a
    gnulibc_version=''
  Dynamic Linking:
    dlsrc=dl_dlopen.xs, dlext=so, d_dlsymun=undef, ccdlflags=' '
    cccdlflags='-DPIC -fPIC', lddlflags='-shared  -L/usr/local/lib'


Characteristics of this binary (from libperl): 
  Compile-time options: PERL_DONT_CREATE_GVSV PERL_MALLOC_WRAP USE_64_BIT_ALL
                        USE_64_BIT_INT USE_LARGE_FILES USE_PERLIO
  Locally applied patches:
	Devel::PatchPerl 2.08
  Built under freebsd
  Compiled at Nov 16 2022 19:38:41
  %ENV:
    PERL5LIB=""
    PERL5OPT=""
    PERL5_CPANPLUS_IS_RUNNING="39487"
    PERL5_CPAN_IS_RUNNING="39487"
    PERL5_CPAN_IS_RUNNING_IN_RECURSION="56256,39487"
    PERL_CR_SMOKER_CURRENT="URL-Signature-Google-Maps-API-0.02"
    PERL_EXTUTILS_AUTOINSTALL="--defaultdeps"
    PERL_MM_USE_DEFAULT="1"
  @INC:
    /home/smoker/perl5/perlbrew/perls/perl-5.10.0/lib/5.10.0/amd64-freebsd
    /home/smoker/perl5/perlbrew/perls/perl-5.10.0/lib/5.10.0
    /home/smoker/perl5/perlbrew/perls/perl-5.10.0/lib/site_perl/5.10.0/amd64-freebsd
    /home/smoker/perl5/perlbrew/perls/perl-5.10.0/lib/site_perl/5.10.0
    .