Report for Task-Dancer-0.39

Back
From: metabase:user:320bfe00-2aae-11df-837a-5e0a49663a4f
Subject: PASS Task-Dancer-0.39 v5.25.10 GNU/Linux
Date: 2017-02-09T02:04:49Z

This distribution has been tested as part of the CPAN Testers
project, supporting the Perl programming language.  See
http://wiki.cpantesters.org/ for more information or email
questions to cpan-testers-discuss@perl.org


--
Dear Alberto Manuel Brandao Simoes,

This is a computer-generated report for Task-Dancer-0.39
on perl 5.25.10, created by CPAN-Reporter-1.2018.

Thank you for uploading your work to CPAN.  Congratulations!
All tests were successful.

Sections of this report:

    * Tester comments
    * Program output
    * Prerequisites
    * Environment and other context

------------------------------
TESTER COMMENTS
------------------------------

Additional comments from tester:

this report is from an automated smoke testing program
and was not reviewed by a human for accuracy

------------------------------
PROGRAM OUTPUT
------------------------------

Output from '/usr/bin/make test':

PERL_DL_NONLAZY=1 "/tmp/basesmoker-reloperl-CULU/bin/perl" "-MExtUtils::Command::MM" "-MTest::Harness" "-e" "undef *Test::Harness::Switches; test_harness(0, 'inc', 'blib/lib', 'blib/arch')" t/00-load.t t/manifest.t t/release-pod-coverage.t t/release-pod-syntax.t
# Testing Task::Dancer 0.39, Perl 5.025010, /tmp/basesmoker-reloperl-CULU/bin/perl
t/00-load.t ............... ok
t/manifest.t .............. skipped: Author tests not required for installation
t/release-pod-coverage.t .. skipped: these tests are for release candidate testing
t/release-pod-syntax.t .... skipped: these tests are for release candidate testing
All tests successful.
Files=4, Tests=1,  0 wallclock secs ( 0.02 usr  0.02 sys +  0.12 cusr  0.03 csys =  0.19 CPU)
Result: PASS

------------------------------
PREREQUISITES
------------------------------

Prerequisite modules loaded:

requires:

    Module                                Need     Have    
    ------------------------------------- -------- --------
    Dancer                                0        1.3202  
    Dancer::Debug                         0        0.03    
    Dancer::Logger::ColorConsole          0        0.0005  
    Dancer::Logger::Log4perl              0        0.9.0   
    Dancer::Logger::Pipe                  0        0.01    
    Dancer::Logger::PSGI                  0        v1.0.1  
    Dancer::Logger::Spinner               0        0.02    
    Dancer::Logger::Syslog                0        0.6     
    Dancer::Middleware::Rebase            0        0.8.0   
  ! Dancer::Plugin::Async                 0        n/a     
  ! Dancer::Plugin::Auth::Basic           0.011    n/a     
    Dancer::Plugin::Auth::Extensible      0        1.00    
    Dancer::Plugin::Auth::Htpasswd        0.011    0.020   
    Dancer::Plugin::Auth::Tiny            0        0.002   
    Dancer::Plugin::Auth::Twitter         0        0.07    
  ! Dancer::Plugin::Bcrypt                0        n/a     
    Dancer::Plugin::Browser               0        1.130570
  ! Dancer::Plugin::Cache::CHI            0        n/a     
    Dancer::Plugin::Database              0        2.13    
    Dancer::Plugin::DBIC                  0        0.2104  
    Dancer::Plugin::DebugDump             0        0.03    
  ! Dancer::Plugin::DebugToolbar          0        n/a     
    Dancer::Plugin::DirectoryView         0        0.02    
    Dancer::Plugin::Email                 0        1.0400  
    Dancer::Plugin::EncodeID              0        0.02    
    Dancer::Plugin::EscapeHTML            0        0.22    
  ! Dancer::Plugin::Feed                  0        n/a     
    Dancer::Plugin::FlashMessage          0        0.314   
    Dancer::Plugin::FlashNote             0        1.0.4   
    Dancer::Plugin::FormattedOutput       0        0.01    
    Dancer::Plugin::FormValidator         0        1.131620
    Dancer::Plugin::Hosts                 0        0.01    
    Dancer::Plugin::LibraryThing          0        0.0003  
    Dancer::Plugin::Memcached             0        0.02    
  ! Dancer::Plugin::MemcachedFast         0        broken  
    Dancer::Plugin::MobileDevice          0.03     0.05    
    Dancer::Plugin::Mongo                 0        0.03    
    Dancer::Plugin::Nitesi                0        0.0099  
  ! Dancer::Plugin::NYTProf               0.04     broken  
    Dancer::Plugin::Params::Normalization 0        0.52    
  ! Dancer::Plugin::Passphrase            0        n/a     
    Dancer::Plugin::Preprocess::Sass      0        0.031   
  ! Dancer::Plugin::Progress              0        n/a     
    Dancer::Plugin::ProxyPath             0        0.03    
    Dancer::Plugin::Redis                 0        0.8     
    Dancer::Plugin::REST                  0.05     0.11    
    Dancer::Plugin::SimpleCRUD            0.02     1.11    
    Dancer::Plugin::SiteMap               0        0.14    
    Dancer::Plugin::SMS                   0        0.02    
    Dancer::Plugin::Stomp                 0        1.0302  
    Dancer::Plugin::TimeRequests          0        0.06    
    Dancer::Plugin::ValidateTiny          0        0.06    
    Dancer::Plugin::XML::RSS              0        0.01    
    Dancer::Serializer::UUEncode          0        0.02    
  ! Dancer::Session::CHI                  0.001001 n/a     
    Dancer::Session::Cookie               0        0.27    
  ! Dancer::Session::KiokuDB              0.04     n/a     
    Dancer::Session::Memcached            0        0.202   
    Dancer::Session::MongoDB              0        1.000000
    Dancer::Session::PSGI                 0        0.01    
    Dancer::Session::Storable             0        0.06    
    Dancer::Template::Alloy               0        1.02    
    Dancer::Template::Haml                0        0.01    
    Dancer::Template::HtmlTemplate        0.02     0.07    
    Dancer::Template::Mason               0        0.004001
    Dancer::Template::Mason2              0.02     0.05    
    Dancer::Template::MicroTemplate       0        1.0.0   
    Dancer::Template::MojoTemplate        0        0       
    Dancer::Template::TemplateFlute       0        0.0142  
    Dancer::Template::TemplateSandbox     0        1.00    
    Dancer::Template::Tenjin              0        0.5     
    Dancer::Template::Tiny                0.02     0.03    
    Dancer::Template::Xslate              0        0.03    

build_requires:

    Module                                Need     Have    
    ------------------------------------- -------- --------
    ExtUtils::MakeMaker                   6.36     7.24    


------------------------------
ENVIRONMENT AND OTHER CONTEXT
------------------------------

Environment variables:

    AUTOMATED_TESTING = 1
    LANG = en_US.UTF-8
    PATH = /home/sand/bin:/usr/local/bin:/usr/bin:/bin:/usr/games:/usr/local/perl/bin:/usr/X11/bin:/sbin:/usr/sbin
    PERL5LIB = 
    PERL5OPT = 
    PERL5_CPANPLUS_IS_RUNNING = 27343
    PERL5_CPAN_IS_RUNNING = 27343
    PERL_CANARY_STABILITY_NOPROMPT = 1
    PERL_MM_USE_DEFAULT = 1
    PERL_USE_UNSAFE_INC = 1
    SHELL = /usr/bin/zsh
    TERM = screen

Perl special variables (and OS-specific diagnostics, for MSWin32):

    $^X = /tmp/basesmoker-reloperl-CULU/bin/perl
    $UID/$EUID = 1005 / 1005
    $GID = 1005 1005
    $EGID = 1005 1005

Perl module toolchain versions installed:

    Module              Have      
    ------------------- ----------
    CPAN                2.16      
    CPAN::Meta          2.150010  
    Cwd                 3.66      
    ExtUtils::CBuilder  0.280225  
    ExtUtils::Command   7.24      
    ExtUtils::Install   2.04      
    ExtUtils::MakeMaker 7.24      
    ExtUtils::Manifest  1.70      
    ExtUtils::ParseXS   3.33      
    File::Spec          3.66      
    JSON                2.90      
    JSON::PP            2.27400_02
    Module::Build       0.4220    
    Module::Signature   0.81      
    Parse::CPAN::Meta   2.150010  
    Test::Harness       3.36_01   
    Test::More          1.302075  
    YAML                1.21      
    YAML::Syck          1.29      
    version             0.9917    


--

Summary of my perl5 (revision 5 version 25 subversion 10) configuration:
  Commit id: 61f45fbeb954464ff9f1342dbca22ddef0bce5b0
  Platform:
    osname=linux
    osvers=4.8.0-2-amd64
    archname=x86_64-linux
    uname='linux k93msid 4.8.0-2-amd64 #1 smp debian 4.8.11-1 (2016-12-02) x86_64 gnulinux '
    config_args='-Dprefix=/home/sand/src/perl/repoperls/installed-perls/host/k93msid/v5.25.9-99-g61f45fbeb9/89ad -Dmyhostname=k93msid -Dinstallusrbinperl=n -Uversiononly -Dusedevel -des -Ui_db -Dlibswanted=cl pthread socket inet nsl gdbm dbm malloc dl ld sun m crypt sec util c cposix posix ucb BSD gdbm_compat -Uuseithreads -Uuselongdouble -DDEBUGGING=-g'
    hint=recommended
    useposix=true
    d_sigaction=define
    useithreads=undef
    usemultiplicity=undef
    use64bitint=define
    use64bitall=define
    uselongdouble=undef
    usemymalloc=n
    bincompat5005=undef
  Compiler:
    cc='cc'
    ccflags ='-fwrapv -fno-strict-aliasing -pipe -fstack-protector-strong -I/usr/local/include -D_LARGEFILE_SOURCE -D_FILE_OFFSET_BITS=64'
    optimize='-O2 -g'
    cppflags='-fwrapv -fno-strict-aliasing -pipe -fstack-protector-strong -I/usr/local/include'
    ccversion=''
    gccversion='6.2.1 20161124'
    gccosandvers=''
    intsize=4
    longsize=8
    ptrsize=8
    doublesize=8
    byteorder=12345678
    doublekind=3
    d_longlong=define
    longlongsize=8
    d_longdbl=define
    longdblsize=16
    longdblkind=3
    ivtype='long'
    ivsize=8
    nvtype='double'
    nvsize=8
    Off_t='off_t'
    lseeksize=8
    alignbytes=8
    prototype=define
  Linker and Libraries:
    ld='cc'
    ldflags =' -fstack-protector-strong -L/usr/local/lib'
    libpth=/usr/local/lib /usr/lib/gcc/x86_64-linux-gnu/6/include-fixed /usr/include/x86_64-linux-gnu /usr/lib /lib/x86_64-linux-gnu /lib/../lib /usr/lib/x86_64-linux-gnu /usr/lib/../lib /lib
    libs=-lpthread -lnsl -ldl -lm -lcrypt -lutil -lc
    perllibs=-lpthread -lnsl -ldl -lm -lcrypt -lutil -lc
    libc=libc-2.24.so
    so=so
    useshrplib=false
    libperl=libperl.a
    gnulibc_version='2.24'
  Dynamic Linking:
    dlsrc=dl_dlopen.xs
    dlext=so
    d_dlsymun=undef
    ccdlflags='-Wl,-E'
    cccdlflags='-fPIC'
    lddlflags='-shared -O2 -g -L/usr/local/lib -fstack-protector-strong'


Characteristics of this binary (from libperl): 
  Compile-time options:
    HAS_TIMES
    PERLIO_LAYERS
    PERL_COPY_ON_WRITE
    PERL_DONT_CREATE_GVSV
    PERL_MALLOC_WRAP
    PERL_OP_PARENT
    PERL_PRESERVE_IVUV
    PERL_USE_DEVEL
    USE_64_BIT_ALL
    USE_64_BIT_INT
    USE_LARGE_FILES
    USE_LOCALE
    USE_LOCALE_COLLATE
    USE_LOCALE_CTYPE
    USE_LOCALE_NUMERIC
    USE_LOCALE_TIME
    USE_PERLIO
    USE_PERL_ATOF
  Built under linux
  Compiled at Feb  8 2017 16:50:13
  %ENV:
    PERL5LIB=""
    PERL5OPT=""
    PERL5_CPANPLUS_IS_RUNNING="27343"
    PERL5_CPAN_IS_RUNNING="27343"
    PERL_CANARY_STABILITY_NOPROMPT="1"
    PERL_MM_USE_DEFAULT="1"
    PERL_USE_UNSAFE_INC="1"
  @INC:
    /home/sand/src/perl/repoperls/installed-perls/host/k93msid/v5.25.9-99-g61f45fbeb9/89ad/lib/site_perl/5.25.10/x86_64-linux
    /home/sand/src/perl/repoperls/installed-perls/host/k93msid/v5.25.9-99-g61f45fbeb9/89ad/lib/site_perl/5.25.10
    /home/sand/src/perl/repoperls/installed-perls/host/k93msid/v5.25.9-99-g61f45fbeb9/89ad/lib/5.25.10/x86_64-linux
    /home/sand/src/perl/repoperls/installed-perls/host/k93msid/v5.25.9-99-g61f45fbeb9/89ad/lib/5.25.10
    .