HTML-Rebase v0.05 Perl 5 v5.20.3 i686-linux-thread-multi

Status
Pass
From
Nigel Horne
Dist
HTML-Rebase v0.05
Platform
Perl 5 v5.20.3 i686-linux-thread-multi
Date
2018-11-30 19:28:38
ID
2373b1d4-f4d6-11e8-afbf-aec3b07506ca
This distribution has been tested as part of the CPAN Testers
project, supporting the Perl programming language.  See
http://wiki.cpantesters.org/ for more information or email
questions to cpan-testers-discuss@perl.org


--
Dear Max Maischein,

This is a computer-generated report for HTML-Rebase-0.05
on perl 5.20.3, created by CPAN-Reporter-1.2018.

Thank you for uploading your work to CPAN.  Congratulations!
All tests were successful.

Sections of this report:

    * Tester comments
    * Program output
    * Prerequisites
    * Environment and other context

------------------------------
TESTER COMMENTS
------------------------------

Additional comments from tester:

this report is from an automated smoke testing program
and was not reviewed by a human for accuracy

------------------------------
PROGRAM OUTPUT
------------------------------

Output from '/usr/bin/make test':

PERL_DL_NONLAZY=1 "/home/njh/perl5/perlbrew/perls/perl-5.20.3/bin/perl5.20.3" "-MExtUtils::Command::MM" "-MTest::Harness" "-e" "undef *Test::Harness::Switches; test_harness(0, 'blib/lib', 'blib/arch')" t/00-load.t t/01-synopsis.t t/02-quotes.t t/03-base.t t/04-case.t t/05-rebase-css.t t/06-relative-url.t
t/01-synopsis.t ...... ok
# Testing HTML::Rebase 0.05, Perl 5.020003
# Carp 1.3301
# Config 5.020003
# Cwd 3.74
# DirHandle 1.04
# Encode 2.60
# Encode::Alias 2.18
# Encode::Config 2.05
# Encode::Encoding 2.07
# Exporter 5.71
# Exporter::Heavy 5.71
# ExtUtils::Liblist 7.10
# ExtUtils::Liblist::Kid 7.10
# ExtUtils::MM 7.10
# ExtUtils::MM_Any 7.10
# ExtUtils::MM_Unix 7.1
# ExtUtils::MY 7.10
# ExtUtils::MakeMaker 7.1
# ExtUtils::MakeMaker::Config 7.10
# ExtUtils::MakeMaker::Locale 7.10
# ExtUtils::MakeMaker::version 7.10
# Fcntl 1.11
# File::Basename 2.85
# File::Glob 1.23
# File::Path 2.09
# File::Spec 3.74
# File::Spec::Unix 3.74
# HTML::Rebase 0.05
# I18N::Langinfo 0.11
# List::Util 1.38
# POSIX 1.38_03
# PerlIO 1.09
# Scalar::Util 1.38
# Symbol 1.07
# Test::Builder 1.302136
# Test::Builder::Formatter 1.302136
# Test::Builder::Module 1.302136
# Test::Builder::TodoDiag 1.302136
# Test::More 1.302136
# Test2::API 1.302136
# Test2::API::Context 1.302136
# Test2::API::Instance 1.302136
# Test2::API::Stack 1.302136
# Test2::Event 1.302136
# Test2::Event::Bail 1.302136
# Test2::Event::Diag 1.302136
# Test2::Event::Exception 1.302136
# Test2::Event::Fail 1.302136
# Test2::Event::Note 1.302136
# Test2::Event::Ok 1.302136
# Test2::Event::Pass 1.302136
# Test2::Event::Plan 1.302136
# Test2::Event::Skip 1.302136
# Test2::Event::Subtest 1.302136
# Test2::Event::V2 1.302136
# Test2::Event::Waiting 1.302136
# Test2::EventFacet 1.302136
# Test2::EventFacet::About 1.302136
# Test2::EventFacet::Amnesty 1.302136
# Test2::EventFacet::Assert 1.302136
# Test2::EventFacet::Control 1.302136
# Test2::EventFacet::Error 1.302136
# Test2::EventFacet::Hub 1.302136
# Test2::EventFacet::Info 1.302136
# Test2::EventFacet::Meta 1.302136
# Test2::EventFacet::Parent 1.302136
# Test2::EventFacet::Plan 1.302136
# Test2::EventFacet::Trace 1.302136
# Test2::Formatter 1.302136
# Test2::Formatter::TAP 1.302136
# Test2::Hub 1.302136
# Test2::Hub::Interceptor 1.302136
# Test2::Hub::Interceptor::Terminator 1.302136
# Test2::Hub::Subtest 1.302136
# Test2::Util 1.302136
# Test2::Util::ExternalMeta 1.302136
# Test2::Util::Facets2Legacy 1.302136
# Test2::Util::HashBase 1.302136
# Test2::Util::Trace 1.302136
# Tie::Hash 1.05
# URI 1.69
# URI::Escape 3.31
# URI::URL 5.04
# URI::WithBase 2.20
# XSLoader 0.17
# base 2.22
# bytes 1.04
# constant 1.31
# mro 1.16
# overload 1.22
# overloading 0.02
# parent 0.228
# re 0.26
# strict 1.08
# vars 1.03
# version 0.9909
# version::regex 0.9909
# warnings 1.23
# warnings::register 1.03
t/00-load.t .......... ok
t/02-quotes.t ........ ok
t/03-base.t .......... ok
t/04-case.t .......... ok
t/05-rebase-css.t .... ok
t/06-relative-url.t .. ok
All tests successful.
Files=7, Tests=12,  1 wallclock secs ( 0.07 usr  0.01 sys +  0.73 cusr  0.06 csys =  0.87 CPU)
Result: PASS

------------------------------
PREREQUISITES
------------------------------

Prerequisite modules loaded:

requires:

    Module              Need  Have    
    ------------------- ----- --------
    Carp                0     1.3301  
    Exporter            5     5.71    
    perl                5.006 5.020003
    URI::URL            0     5.04    
    URI::WithBase       0     2.20    

build_requires:

    Module              Need  Have    
    ------------------- ----- --------
    ExtUtils::MakeMaker 0     7.10    
    Test::More          0     1.302136

configure_requires:

    Module              Need  Have    
    ------------------- ----- --------
    ExtUtils::MakeMaker 0     7.10    


------------------------------
ENVIRONMENT AND OTHER CONTEXT
------------------------------

Environment variables:

    AUTOMATED_TESTING = 1
    HARNESS_OPTIONS = j2
    LANG = en_US.UTF-8
    PATH = /home/njh/perl5/perlbrew/bin:/home/njh/perl5/perlbrew/perls/perl-5.20.3/bin:/home/njh/src/njh/smoker/bin:/usr/bin:/bin
    PERL5LIB = 
    PERL5OPT = 
    PERL5_CPANPLUS_IS_RUNNING = 8024
    PERL5_CPAN_IS_RUNNING = 8024
    PERLBREW_HOME = /home/njh/.perlbrew
    PERLBREW_MANPATH = /home/njh/perl5/perlbrew/perls/perl-5.20.3/man
    PERLBREW_PATH = /home/njh/perl5/perlbrew/bin:/home/njh/perl5/perlbrew/perls/perl-5.20.3/bin
    PERLBREW_PERL = perl-5.20.3
    PERLBREW_ROOT = /home/njh/perl5/perlbrew
    PERLBREW_SHELLRC_VERSION = 0.84
    PERLBREW_VERSION = 0.84
    SHELL = /bin/sh
    TEMP = /tmp/user/1000
    TMPDIR = /tmp/user/1000/testwrapper.8010

Perl special variables (and OS-specific diagnostics, for MSWin32):

    $^X = /home/njh/perl5/perlbrew/perls/perl-5.20.3/bin/perl5.20.3
    $UID/$EUID = 1000 / 1000
    $GID = 1000 4 24 25 29 30 44 46 108 1000
    $EGID = 1000 4 24 25 29 30 44 46 108 1000

Perl module toolchain versions installed:

    Module              Have    
    ------------------- --------
    CPAN                2.16    
    CPAN::Meta          2.150005
    Cwd                 3.74    
    ExtUtils::CBuilder  0.280217
    ExtUtils::Command   7.10    
    ExtUtils::Install   1.67    
    ExtUtils::MakeMaker 7.10    
    ExtUtils::Manifest  1.65    
    ExtUtils::ParseXS   3.24    
    File::Spec          3.74    
    JSON                2.97001 
    JSON::PP            2.97001 
    Module::Build       0.4214  
    Module::Signature   n/a     
    Parse::CPAN::Meta   1.4414  
    Test::Harness       3.35    
    Test::More          1.302136
    YAML                1.26    
    YAML::Syck          1.30    
    version             0.9909  


--

Summary of my perl5 (revision 5 version 20 subversion 3) configuration:
   
  Platform:
    osname=linux, osvers=4.2.0-1-686-pae, archname=i686-linux-thread-multi
    uname='linux zack 4.2.0-1-686-pae #1 smp debian 4.2.6-1 (2015-11-10) i686 gnulinux '
    config_args='-de -Dprefix=/home/njh/perl5/perlbrew/perls/perl-5.20.3 -Duseithreads -Dusemultiplicity -Dusedevel -Accflags= -Aeval:scriptdir=/home/njh/perl5/perlbrew/perls/perl-5.20.3/bin'
    hint=recommended, useposix=true, d_sigaction=define
    useithreads=define, usemultiplicity=define
    use64bitint=undef, use64bitall=undef, uselongdouble=undef
    usemymalloc=n, bincompat5005=undef
  Compiler:
    cc='cc', ccflags ='-D_REENTRANT -D_GNU_SOURCE -fwrapv -fno-strict-aliasing -pipe -fstack-protector -I/usr/local/include -D_LARGEFILE_SOURCE -D_FILE_OFFSET_BITS=64',
    optimize='-O2',
    cppflags='-D_REENTRANT -D_GNU_SOURCE -fwrapv -fno-strict-aliasing -pipe -fstack-protector -I/usr/local/include'
    ccversion='', gccversion='5.2.1 20151121', gccosandvers=''
    intsize=4, longsize=4, ptrsize=4, doublesize=8, byteorder=1234
    d_longlong=define, longlongsize=8, d_longdbl=define, longdblsize=12
    ivtype='long', ivsize=4, nvtype='double', nvsize=8, Off_t='off_t', lseeksize=8
    alignbytes=4, prototype=define
  Linker and Libraries:
    ld='cc', ldflags =' -fstack-protector -L/usr/local/lib'
    libpth=/usr/local/lib /usr/lib/gcc/i586-linux-gnu/5/include-fixed /usr/include/i386-linux-gnu /usr/lib /lib/i386-linux-gnu /lib/../lib /usr/lib/i386-linux-gnu /usr/lib/../lib /lib
    libs=-lpthread -lnsl -lgdbm -ldb -ldl -lm -lcrypt -lutil -lc -lgdbm_compat
    perllibs=-lpthread -lnsl -ldl -lm -lcrypt -lutil -lc
    libc=libc-2.19.so, so=so, useshrplib=false, libperl=libperl.a
    gnulibc_version='2.19'
  Dynamic Linking:
    dlsrc=dl_dlopen.xs, dlext=so, d_dlsymun=undef, ccdlflags='-Wl,-E'
    cccdlflags='-fPIC', lddlflags='-shared -O2 -L/usr/local/lib -fstack-protector'


Characteristics of this binary (from libperl): 
  Compile-time options: HAS_TIMES MULTIPLICITY PERLIO_LAYERS
                        PERL_DONT_CREATE_GVSV
                        PERL_HASH_FUNC_ONE_AT_A_TIME_HARD
                        PERL_IMPLICIT_CONTEXT PERL_MALLOC_WRAP
                        PERL_NEW_COPY_ON_WRITE PERL_PRESERVE_IVUV
                        PERL_USE_DEVEL USE_ITHREADS USE_LARGE_FILES
                        USE_LOCALE USE_LOCALE_COLLATE USE_LOCALE_CTYPE
                        USE_LOCALE_NUMERIC USE_PERLIO USE_PERL_ATOF
                        USE_REENTRANT_API
  Locally applied patches:
	Devel::PatchPerl 1.38
  Built under linux
  Compiled at Nov 24 2015 01:14:29
  %ENV:
    PERL5LIB=""
    PERL5OPT=""
    PERL5_CPANPLUS_IS_RUNNING="8024"
    PERL5_CPAN_IS_RUNNING="8024"
    PERLBREW_HOME="/home/njh/.perlbrew"
    PERLBREW_MANPATH="/home/njh/perl5/perlbrew/perls/perl-5.20.3/man"
    PERLBREW_PATH="/home/njh/perl5/perlbrew/bin:/home/njh/perl5/perlbrew/perls/perl-5.20.3/bin"
    PERLBREW_PERL="perl-5.20.3"
    PERLBREW_ROOT="/home/njh/perl5/perlbrew"
    PERLBREW_SHELLRC_VERSION="0.84"
    PERLBREW_VERSION="0.84"
  @INC:
    /home/njh/perl5/perlbrew/perls/perl-5.20.3/lib/site_perl/5.20.3/i686-linux-thread-multi
    /home/njh/perl5/perlbrew/perls/perl-5.20.3/lib/site_perl/5.20.3
    /home/njh/perl5/perlbrew/perls/perl-5.20.3/lib/5.20.3/i686-linux-thread-multi
    /home/njh/perl5/perlbrew/perls/perl-5.20.3/lib/5.20.3
    .