Back
From: metabase:user:9820532a-708b-1014-9a05-b18a96298da1
Subject: PASS Dist-Zilla-Plugin-CheckIssues-0.009 v5.23.8 GNU/Linux
Date: 2016-03-03T11:07:37Z
This distribution has been tested as part of the CPAN Testers
project, supporting the Perl programming language. See
http://wiki.cpantesters.org/ for more information or email
questions to cpan-testers-discuss@perl.org
--
Dear Karen Etheridge,
This is a computer-generated report for Dist-Zilla-Plugin-CheckIssues-0.009
on perl 5.23.8, created by CPAN-Reporter-1.2016.
Thank you for uploading your work to CPAN. Congratulations!
All tests were successful.
Sections of this report:
* Tester comments
* Program output
* Prerequisites
* Environment and other context
------------------------------
TESTER COMMENTS
------------------------------
Additional comments from tester:
this report is from an automated smoke testing program
and was not reviewed by a human for accuracy
------------------------------
PROGRAM OUTPUT
------------------------------
Output from '/usr/bin/make test':
PERL_DL_NONLAZY=1 "/opt/perlbrew/perls/perl-5.23.8-thread-multi-ld/bin/perl5.23.8" "-MExtUtils::Command::MM" "-MTest::Harness" "-e" "undef *Test::Harness::Switches; test_harness(0, 'blib/lib', 'blib/arch')" t/*.t
#
# Versions for all modules listed in MYMETA.json (including optional ones):
#
# === Configure Requires ===
#
# Module Want Have
# ------------------------ -------- --------
# CPAN::Meta::Requirements 2.120620 2.140
# ExtUtils::MakeMaker any 7.10_01
# Module::Metadata any 1.000031
#
# === Build Requires ===
#
# Module Want Have
# ------------------- ---- -------
# ExtUtils::MakeMaker any 7.10_01
#
# === Test Requires ===
#
# Module Want Have
# ------------------------------- ---- --------
# Dist::Zilla::App::Tester any 5.043
# Dist::Zilla::Role::MetaProvider any 5.043
# ExtUtils::MakeMaker any 7.10_01
# File::Spec any 3.63
# File::pushd any 1.009
# Moose::Util any 2.1605
# Path::Tiny any 0.082
# Test::DZil any 5.043
# Test::Deep any 1.120
# Test::Fatal any 0.014
# Test::More 0.88 1.001014
# if any 0.0606
# lib any 0.63
#
# === Test Recommends ===
#
# Module Want Have
# ---------- -------- --------
# CPAN::Meta 2.120900 2.150005
#
# === Runtime Requires ===
#
# Module Want Have
# -------------------------------- -------- --------
# Dist::Zilla::App any 5.043
# Dist::Zilla::Role::BeforeRelease any 5.043
# Encode any 2.82
# HTTP::Headers any 6.11
# HTTP::Tiny any 0.056
# JSON::MaybeXS 1.001000 1.003005
# List::Util 1.33 1.42_01
# Moose any 2.1605
# Term::ANSIColor 3.00 4.04
# namespace::autoclean any 0.28
# strict any 1.10
# warnings any 1.35
#
# === Other Modules ===
#
# Module Have
# ------------- -----
# App::Cmd 0.330
# Log::Dispatch 2.54
# Pod::Coverage 0.23
#
t/00-report-prereqs.t .. ok
t/01-basic.t ........... ok
t/02-no-rt.t ........... ok
t/03-no-repo.t ......... ok
t/04-command.t ......... ok
t/zzz-check-breaks.t ... ok
All tests successful.
Files=6, Tests=19, 7 wallclock secs ( 0.03 usr 0.01 sys + 5.96 cusr 0.31 csys = 6.31 CPU)
Result: PASS
------------------------------
PREREQUISITES
------------------------------
Prerequisite modules loaded:
requires:
Module Need Have
-------------------------------- -------- --------
Dist::Zilla::App 0 5.043
Dist::Zilla::Role::BeforeRelease 0 5.043
Encode 0 2.82
HTTP::Headers 0 6.11
HTTP::Tiny 0 0.056
JSON::MaybeXS 1.001000 1.003005
List::Util 1.33 1.42_01
Moose 0 2.1605
namespace::autoclean 0 0.28
perl 5.006 5.023008
strict 0 1.10
Term::ANSIColor 3.00 4.04
warnings 0 1.35
build_requires:
Module Need Have
-------------------------------- -------- --------
Dist::Zilla::App::Tester 0 5.043
Dist::Zilla::Role::MetaProvider 0 5.043
ExtUtils::MakeMaker 0 7.10_01
File::pushd 0 1.009
File::Spec 0 3.63
if 0 0.0606
lib 0 0.63
Moose::Util 0 2.1605
Path::Tiny 0 0.082
Test::Deep 0 1.120
Test::DZil 0 5.043
Test::Fatal 0 0.014
Test::More 0.88 1.001014
configure_requires:
Module Need Have
-------------------------------- -------- --------
CPAN::Meta::Requirements 2.120620 2.140
ExtUtils::MakeMaker 0 7.10_01
Module::Metadata 0 1.000031
perl 5.006 5.023008
------------------------------
ENVIRONMENT AND OTHER CONTEXT
------------------------------
Environment variables:
AUTOMATED_TESTING = 1
LANG = en_GB.UTF-8
LANGUAGE = en_GB:en
PATH = /opt/perlbrew/bin:/opt/perlbrew/perls/perl-5.23.8-thread-multi-ld/bin:~/bin:/usr/local/sbin:/usr/local/bin:/usr/sbin:/usr/bin:/sbin:/bin:/usr/games:/usr/local/games:/home/perlbrew/.rvm/bin
PERL5LIB =
PERL5OPT =
PERL5_CPANPLUS_IS_RUNNING = 6069
PERL5_CPAN_IS_RUNNING = 6069
PERL5_CPAN_IS_RUNNING_IN_RECURSION = 28320,6069
PERLBREW_BASHRC_VERSION = 0.74
PERLBREW_HOME = /home/perlbrew/.perlbrew
PERLBREW_MANPATH = /opt/perlbrew/perls/perl-5.23.8-thread-multi-ld/man
PERLBREW_PATH = /opt/perlbrew/bin:/opt/perlbrew/perls/perl-5.23.8-thread-multi-ld/bin
PERLBREW_PERL = perl-5.23.8-thread-multi-ld
PERLBREW_ROOT = /opt/perlbrew
PERLBREW_VERSION = 0.74
PERL_CPANM_OPT = --mirror http://cpan.cpantesters.org
PERL_CR_SMOKER_CURRENT = Dist-Zilla-PluginBundle-Author-ETHER-0.111
PERL_EXTUTILS_AUTOINSTALL = --defaultdeps
PERL_MM_USE_DEFAULT = 1
SHELL = /bin/bash
TERM = xterm
Perl special variables (and OS-specific diagnostics, for MSWin32):
$^X = /opt/perlbrew/perls/perl-5.23.8-thread-multi-ld/bin/perl5.23.8
$UID/$EUID = 1001 / 1001
$GID = 1001 27 1001
$EGID = 1001 27 1001
Perl module toolchain versions installed:
Module Have
------------------- --------
CPAN 2.11
CPAN::Meta 2.150005
Cwd 3.63
ExtUtils::CBuilder 0.280225
ExtUtils::Command 7.10
ExtUtils::Install 2.04
ExtUtils::MakeMaker 7.10_01
ExtUtils::Manifest 1.70
ExtUtils::ParseXS 3.31
File::Spec 3.63
JSON 2.90
JSON::PP 2.27300
Module::Build 0.4216
Module::Signature 0.79
Parse::CPAN::Meta 1.4417
Test::Harness 3.36
Test::More 1.001014
YAML 1.15
YAML::Syck 1.29
version 0.9914
--
Summary of my perl5 (revision 5 version 23 subversion 8) configuration:
Platform:
osname=linux, osvers=4.2.0-30-generic, archname=x86_64-linux-thread-multi-ld
uname='linux ubuntu 4.2.0-30-generic #36~14.04.1-ubuntu smp fri feb 26 18:49:23 utc 2016 x86_64 x86_64 x86_64 gnulinux '
config_args='-de -Dprefix=/opt/perlbrew/perls/perl-5.23.8-thread-multi-ld -Duselongdouble -Dusemultiplicity -Dusethreads -Dusedevel -Aeval:scriptdir=/opt/perlbrew/perls/perl-5.23.8-thread-multi-ld/bin'
hint=recommended, useposix=true, d_sigaction=define
useithreads=define, usemultiplicity=define
use64bitint=define, use64bitall=define, uselongdouble=define
usemymalloc=n, bincompat5005=undef
Compiler:
cc='cc', ccflags ='-D_REENTRANT -D_GNU_SOURCE -fwrapv -fno-strict-aliasing -pipe -fstack-protector -I/usr/local/include -D_LARGEFILE_SOURCE -D_FILE_OFFSET_BITS=64',
optimize='-O2',
cppflags='-D_REENTRANT -D_GNU_SOURCE -fwrapv -fno-strict-aliasing -pipe -fstack-protector -I/usr/local/include'
ccversion='', gccversion='4.8.4', gccosandvers=''
intsize=4, longsize=8, ptrsize=8, doublesize=8, byteorder=12345678, doublekind=3
d_longlong=define, longlongsize=8, d_longdbl=define, longdblsize=16, longdblkind=3
ivtype='long', ivsize=8, nvtype='long double', nvsize=16, Off_t='off_t', lseeksize=8
alignbytes=16, prototype=define
Linker and Libraries:
ld='cc', ldflags =' -fstack-protector -L/usr/local/lib'
libpth=/usr/local/lib /usr/lib/gcc/x86_64-linux-gnu/4.8/include-fixed /usr/include/x86_64-linux-gnu /usr/lib /lib/x86_64-linux-gnu /lib/../lib /usr/lib/x86_64-linux-gnu /usr/lib/../lib /lib
libs=-lpthread -lnsl -lgdbm -ldl -lm -lcrypt -lutil -lc -lgdbm_compat
perllibs=-lpthread -lnsl -ldl -lm -lcrypt -lutil -lc
libc=libc-2.19.so, so=so, useshrplib=false, libperl=libperl.a
gnulibc_version='2.19'
Dynamic Linking:
dlsrc=dl_dlopen.xs, dlext=so, d_dlsymun=undef, ccdlflags='-Wl,-E'
cccdlflags='-fPIC', lddlflags='-shared -O2 -L/usr/local/lib -fstack-protector'
Characteristics of this binary (from libperl):
Compile-time options: HAS_TIMES MULTIPLICITY PERLIO_LAYERS
PERL_COPY_ON_WRITE PERL_DONT_CREATE_GVSV
PERL_HASH_FUNC_ONE_AT_A_TIME_HARD
PERL_IMPLICIT_CONTEXT PERL_MALLOC_WRAP
PERL_PRESERVE_IVUV PERL_USE_DEVEL USE_64_BIT_ALL
USE_64_BIT_INT USE_ITHREADS USE_LARGE_FILES
USE_LOCALE USE_LOCALE_COLLATE USE_LOCALE_CTYPE
USE_LOCALE_NUMERIC USE_LOCALE_TIME USE_LONG_DOUBLE
USE_PERLIO USE_PERL_ATOF USE_REENTRANT_API
Locally applied patches:
Devel::PatchPerl 1.38
Built under linux
Compiled at Feb 29 2016 11:35:07
%ENV:
PERL5LIB=""
PERL5OPT=""
PERL5_CPANPLUS_IS_RUNNING="6069"
PERL5_CPAN_IS_RUNNING="6069"
PERL5_CPAN_IS_RUNNING_IN_RECURSION="28320,6069"
PERLBREW_BASHRC_VERSION="0.74"
PERLBREW_HOME="/home/perlbrew/.perlbrew"
PERLBREW_MANPATH="/opt/perlbrew/perls/perl-5.23.8-thread-multi-ld/man"
PERLBREW_PATH="/opt/perlbrew/bin:/opt/perlbrew/perls/perl-5.23.8-thread-multi-ld/bin"
PERLBREW_PERL="perl-5.23.8-thread-multi-ld"
PERLBREW_ROOT="/opt/perlbrew"
PERLBREW_VERSION="0.74"
PERL_CPANM_OPT="--mirror http://cpan.cpantesters.org"
PERL_CR_SMOKER_CURRENT="Dist-Zilla-PluginBundle-Author-ETHER-0.111"
PERL_EXTUTILS_AUTOINSTALL="--defaultdeps"
PERL_MM_USE_DEFAULT="1"
@INC:
/opt/perlbrew/perls/perl-5.23.8-thread-multi-ld/lib/site_perl/5.23.8/x86_64-linux-thread-multi-ld
/opt/perlbrew/perls/perl-5.23.8-thread-multi-ld/lib/site_perl/5.23.8
/opt/perlbrew/perls/perl-5.23.8-thread-multi-ld/lib/5.23.8/x86_64-linux-thread-multi-ld
/opt/perlbrew/perls/perl-5.23.8-thread-multi-ld/lib/5.23.8
.