Report for Alien-Chipmunk-0.001002

Back
From: metabase:user:3b2beb7d-f9c9-4900-9897-f8ddc08d8e16
Subject: PASS Alien-Chipmunk-0.001002 v5.24.1 GNU/Linux
Date: 2017-02-21T03:37:58Z

This distribution has been tested as part of the CPAN Testers
project, supporting the Perl programming language.  See
http://wiki.cpantesters.org/ for more information or email
questions to cpan-testers-discuss@perl.org


--
Dear Jeffrey T. Palmer,

This is a computer-generated report for Alien-Chipmunk-0.001002
on perl 5.24.1, created by CPAN-Reporter-1.2018.

Thank you for uploading your work to CPAN.  Congratulations!
All tests were successful.

Sections of this report:

    * Tester comments
    * Program output
    * Prerequisites
    * Environment and other context

------------------------------
TESTER COMMENTS
------------------------------

Additional comments from tester:

this report is from an automated smoke testing program
and was not reviewed by a human for accuracy

------------------------------
PROGRAM OUTPUT
------------------------------

Output from './Build test':

Isolating dynamic libraries ... Done
# Testing Alien::Chipmunk 0.001002, Perl 5.024001, /usr/local/bin/perl
t/00-load.t ............... ok
# NAME=chipmunk
# VERSION=6.2.2
# CFLAGS=-I/home/alkarish/.cpan/build/Alien-Chipmunk-0.001002-0/blib/lib/auto/share/dist/Alien-Chipmunk/include/chipmunk -I/home/alkarish/.cpan/build/Alien-Chipmunk-0.001002-0/blib/lib/auto/share/dist/Alien-Chipmunk/include/chipmunk/constraints
# LIBS=-L/home/alkarish/.cpan/build/Alien-Chipmunk-0.001002-0/blib/lib/auto/share/dist/Alien-Chipmunk/lib -lchipmunk -lm
t/01-config.t ............. ok
t/02-compile.t ............ ok
t/release-pod-coverage.t .. skipped: these tests are for release candidate testing
t/release-pod-syntax.t .... skipped: these tests are for release candidate testing
All tests successful.
Files=5, Tests=6,  1 wallclock secs ( 0.04 usr  0.01 sys +  0.67 cusr  0.09 csys =  0.81 CPU)
Result: PASS
Testing library (if applicable) ... 
+ cd /home/alkarish/.cpan/build/Alien-Chipmunk-0.001002-0/_alien/Chipmunk-6.2.2
Done

------------------------------
PREREQUISITES
------------------------------

Prerequisite modules loaded:

requires:

    Module                   Need   Have    
    ------------------------ ------ --------
    Alien::Base              0.020  0.034   
    File::ShareDir           1.00   1.102   
    perl                     v5.8.1 5.024001

build_requires:

    Module                   Need   Have    
    ------------------------ ------ --------
    Alien::CMake             0.07   0.08    
    Test::More               0      1.302075

configure_requires:

    Module                   Need   Have    
    ------------------------ ------ --------
    Alien::Base::ModuleBuild 0      0.034   
    Module::Build            0      0.4220  


------------------------------
ENVIRONMENT AND OTHER CONTEXT
------------------------------

Environment variables:

    AUTOMATED_TESTING = 1
    LANG = fr_CA.UTF-8
    LANGUAGE = fr_CA:fr
    PATH = /usr/local/sbin:/usr/local/bin:/usr/sbin:/usr/bin:/sbin:/bin:/usr/games:/usr/local/games:/snap/bin
    PERL5LIB = /home/alkarish/.cpan/build/Alien-CMake-0.08-0/blib/arch:/home/alkarish/.cpan/build/Alien-CMake-0.08-0/blib/lib:/home/alkarish/.cpan/build/Alien-Base-0.034-0/blib/arch:/home/alkarish/.cpan/build/Alien-Base-0.034-0/blib/lib:/home/alkarish/.cpan/build/Sort-Versions-1.62-0/blib/arch:/home/alkarish/.cpan/build/Sort-Versions-1.62-0/blib/lib:/home/alkarish/.cpan/build/Shell-Config-Generate-0.26-0/blib/arch:/home/alkarish/.cpan/build/Shell-Config-Generate-0.26-0/blib/lib:/home/alkarish/.cpan/build/Shell-Guess-0.06-0/blib/arch:/home/alkarish/.cpan/build/Shell-Guess-0.06-0/blib/lib:/home/alkarish/.cpan/build/File-chdir-0.1010-0/blib/arch:/home/alkarish/.cpan/build/File-chdir-0.1010-0/blib/lib:/home/alkarish/.cpan/build/FFI-CheckLib-0.15-0/blib/arch:/home/alkarish/.cpan/build/FFI-CheckLib-0.15-0/blib/lib:/home/alkarish/.cpan/build/Archive-Extract-0.80-0/blib/arch:/home/alkarish/.cpan/build/Archive-Extract-0.80-0/blib/lib
    PERL5OPT = 
    PERL5_CPANPLUS_IS_RUNNING = 2333
    PERL5_CPAN_IS_RUNNING = 2333
    PERL5_CPAN_IS_RUNNING_IN_RECURSION = 2313,2333
    PERL_CR_SMOKER_CURRENT = Games-Chipmunk-0.3
    PERL_EXTUTILS_AUTOINSTALL = --defaultdeps
    PERL_MM_USE_DEFAULT = 1
    SHELL = /bin/bash
    TERM = xterm-256color

Perl special variables (and OS-specific diagnostics, for MSWin32):

    $^X = /usr/local/bin/perl
    $UID/$EUID = 1000 / 1000
    $GID = 1000 4 24 27 30 46 113 128 1000
    $EGID = 1000 4 24 27 30 46 113 128 1000

Perl module toolchain versions installed:

    Module              Have    
    ------------------- --------
    CPAN                2.16    
    CPAN::Meta          2.150010
    Cwd                 3.63_01 
    ExtUtils::CBuilder  0.280225
    ExtUtils::Command   7.24    
    ExtUtils::Install   2.04    
    ExtUtils::MakeMaker 7.24    
    ExtUtils::Manifest  1.70    
    ExtUtils::ParseXS   3.31    
    File::Spec          3.63_01 
    JSON                2.90    
    JSON::PP            2.27400 
    Module::Build       0.4220  
    Module::Signature   n/a     
    Parse::CPAN::Meta   2.150010
    Test::Harness       3.36_01 
    Test::More          1.302075
    YAML                1.23    
    YAML::Syck          n/a     
    version             0.9917  


--

Summary of my perl5 (revision 5 version 24 subversion 1) configuration:
   
  Platform:
    osname=linux, osvers=4.4.0-62-generic, archname=x86_64-linux
    uname='linux valhalla 4.4.0-62-generic #83-ubuntu smp wed jan 18 14:10:15 utc 2017 x86_64 x86_64 x86_64 gnulinux '
    config_args=''
    hint=recommended, useposix=true, d_sigaction=define
    useithreads=undef, usemultiplicity=undef
    use64bitint=define, use64bitall=define, uselongdouble=undef
    usemymalloc=n, bincompat5005=undef
  Compiler:
    cc='cc', ccflags ='-fwrapv -fno-strict-aliasing -pipe -fstack-protector-strong -I/usr/local/include -D_LARGEFILE_SOURCE -D_FILE_OFFSET_BITS=64',
    optimize='-O2',
    cppflags='-fwrapv -fno-strict-aliasing -pipe -fstack-protector-strong -I/usr/local/include'
    ccversion='', gccversion='5.4.0 20160609', gccosandvers=''
    intsize=4, longsize=8, ptrsize=8, doublesize=8, byteorder=12345678, doublekind=3
    d_longlong=define, longlongsize=8, d_longdbl=define, longdblsize=16, longdblkind=3
    ivtype='long', ivsize=8, nvtype='double', nvsize=8, Off_t='off_t', lseeksize=8
    alignbytes=8, prototype=define
  Linker and Libraries:
    ld='cc', ldflags =' -fstack-protector-strong -L/usr/local/lib'
    libpth=/usr/local/lib /usr/lib/gcc/x86_64-linux-gnu/5/include-fixed /usr/include/x86_64-linux-gnu /usr/lib /lib/x86_64-linux-gnu /lib/../lib /usr/lib/x86_64-linux-gnu /usr/lib/../lib /lib
    libs=-lpthread -lnsl -ldl -lm -lcrypt -lutil -lc
    perllibs=-lpthread -lnsl -ldl -lm -lcrypt -lutil -lc
    libc=libc-2.23.so, so=so, useshrplib=false, libperl=libperl.a
    gnulibc_version='2.23'
  Dynamic Linking:
    dlsrc=dl_dlopen.xs, dlext=so, d_dlsymun=undef, ccdlflags='-Wl,-E'
    cccdlflags='-fPIC', lddlflags='-shared -O2 -L/usr/local/lib -fstack-protector-strong'


Characteristics of this binary (from libperl): 
  Compile-time options: HAS_TIMES PERLIO_LAYERS PERL_COPY_ON_WRITE
                        PERL_DONT_CREATE_GVSV
                        PERL_HASH_FUNC_ONE_AT_A_TIME_HARD PERL_MALLOC_WRAP
                        PERL_PRESERVE_IVUV USE_64_BIT_ALL USE_64_BIT_INT
                        USE_LARGE_FILES USE_LOCALE USE_LOCALE_COLLATE
                        USE_LOCALE_CTYPE USE_LOCALE_NUMERIC USE_LOCALE_TIME
                        USE_PERLIO USE_PERL_ATOF
  Built under linux
  Compiled at Feb  9 2017 01:16:32
  %ENV:
    PERL5LIB="/home/alkarish/.cpan/build/Alien-CMake-0.08-0/blib/arch:/home/alkarish/.cpan/build/Alien-CMake-0.08-0/blib/lib:/home/alkarish/.cpan/build/Alien-Base-0.034-0/blib/arch:/home/alkarish/.cpan/build/Alien-Base-0.034-0/blib/lib:/home/alkarish/.cpan/build/Sort-Versions-1.62-0/blib/arch:/home/alkarish/.cpan/build/Sort-Versions-1.62-0/blib/lib:/home/alkarish/.cpan/build/Shell-Config-Generate-0.26-0/blib/arch:/home/alkarish/.cpan/build/Shell-Config-Generate-0.26-0/blib/lib:/home/alkarish/.cpan/build/Shell-Guess-0.06-0/blib/arch:/home/alkarish/.cpan/build/Shell-Guess-0.06-0/blib/lib:/home/alkarish/.cpan/build/File-chdir-0.1010-0/blib/arch:/home/alkarish/.cpan/build/File-chdir-0.1010-0/blib/lib:/home/alkarish/.cpan/build/FFI-CheckLib-0.15-0/blib/arch:/home/alkarish/.cpan/build/FFI-CheckLib-0.15-0/blib/lib:/home/alkarish/.cpan/build/Archive-Extract-0.80-0/blib/arch:/home/alkarish/.cpan/build/Archive-Extract-0.80-0/blib/lib"
    PERL5OPT=""
    PERL5_CPANPLUS_IS_RUNNING="2333"
    PERL5_CPAN_IS_RUNNING="2333"
    PERL5_CPAN_IS_RUNNING_IN_RECURSION="2313,2333"
    PERL_CR_SMOKER_CURRENT="Games-Chipmunk-0.3"
    PERL_EXTUTILS_AUTOINSTALL="--defaultdeps"
    PERL_MM_USE_DEFAULT="1"
  @INC:
    /home/alkarish/.cpan/build/Alien-CMake-0.08-0/blib/arch
    /home/alkarish/.cpan/build/Alien-CMake-0.08-0/blib/lib
    /home/alkarish/.cpan/build/Alien-Base-0.034-0/blib/arch
    /home/alkarish/.cpan/build/Alien-Base-0.034-0/blib/lib
    /home/alkarish/.cpan/build/Sort-Versions-1.62-0/blib/arch
    /home/alkarish/.cpan/build/Sort-Versions-1.62-0/blib/lib
    /home/alkarish/.cpan/build/Shell-Config-Generate-0.26-0/blib/arch
    /home/alkarish/.cpan/build/Shell-Config-Generate-0.26-0/blib/lib
    /home/alkarish/.cpan/build/Shell-Guess-0.06-0/blib/arch
    /home/alkarish/.cpan/build/Shell-Guess-0.06-0/blib/lib
    /home/alkarish/.cpan/build/File-chdir-0.1010-0/blib/arch
    /home/alkarish/.cpan/build/File-chdir-0.1010-0/blib/lib
    /home/alkarish/.cpan/build/FFI-CheckLib-0.15-0/blib/arch
    /home/alkarish/.cpan/build/FFI-CheckLib-0.15-0/blib/lib
    /home/alkarish/.cpan/build/Archive-Extract-0.80-0/blib/arch
    /home/alkarish/.cpan/build/Archive-Extract-0.80-0/blib/lib
    /usr/local/lib/perl5/site_perl/5.24.1/x86_64-linux
    /usr/local/lib/perl5/site_perl/5.24.1
    /usr/local/lib/perl5/5.24.1/x86_64-linux
    /usr/local/lib/perl5/5.24.1
    .