CGI-Application-Plugin-Authentication v0.23 Perl 5 v5.36.1 RC3 x86_64-linux
- Status
- Pass
- From
- Andreas J. König (ANDK)
- Dist
-
CGI-Application-Plugin-Authentication v0.23
- Platform
- Perl 5 v5.36.1 RC3 x86_64-linux
- Date
- 2023-04-20 07:37:01
- ID
- 23b9e94e-df4e-11ed-a574-a8fc4439fc0d
This distribution has been tested as part of the CPAN Testers
project, supporting the Perl programming language. See
http://wiki.cpantesters.org/ for more information or email
questions to cpan-testers-discuss@perl.org
--
Dear Wes Malone,
This is a computer-generated report for CGI-Application-Plugin-Authentication-0.23
on perl 5.36.1, created by CPAN-Reporter-1.2018.
Thank you for uploading your work to CPAN. Congratulations!
All tests were successful.
Sections of this report:
* Tester comments
* Program output
* Prerequisites
* Environment and other context
------------------------------
TESTER COMMENTS
------------------------------
Additional comments from tester:
this report is from an automated smoke testing program
and was not reviewed by a human for accuracy
------------------------------
PROGRAM OUTPUT
------------------------------
Output from '/usr/bin/make test':
PERL_DL_NONLAZY=1 "/tmp/basesmoker-reloperl-0VZE/bin/perl" "-MExtUtils::Command::MM" "-MTest::Harness" "-e" "undef *Test::Harness::Switches; test_harness(0, 'blib/lib', 'blib/arch')" t/*.t
t/01_basic.t ........................ ok
t/02_config.t ....................... ok
t/03_authenticate.t ................. ok
t/03_destination.t .................. ok
t/03_login_box.t .................... ok
t/03_login_box_basic.t .............. ok
t/03_login_box_other.t .............. ok
t/03_missing_color.t ................ ok
t/04_attributes.t ................... ok
t/05_autorunmode.t .................. ok
# The following tests have some small time delays
t/06_timeout.t ...................... ok
t/07_protected_runmodes.t ........... ok
t/40_encoder_crypt.t ................ ok
t/40_encoder_lc.t ................... ok
t/40_encoder_md5.t .................. ok
t/40_encoder_sha1.t ................. ok
t/40_encoder_strip.t ................ ok
t/40_encoder_uc.t ................... ok
t/50_driver_missing_modules.t ....... ok
t/50_driver_undefined.t ............. ok
t/51_driver_dummy.t ................. ok
t/52_driver_generic.t ............... ok
t/53_driver_dbi.t ................... ok
t/53_driver_dbi_bad.t ............... ok
t/53_driver_dbi_die.t ............... ok
t/53_driver_dbi_syntax.t ............ ok
t/54_driver_htpasswd.t .............. ok
t/55_driver_authensimple.t .......... ok
t/55_driver_authensimple_die.t ...... ok
t/55_driver_missing_authensimple.t .. ok
t/60_parsimony.t .................... ok
t/60_store.t ........................ ok
t/60_store_cookie.t ................. ok
t/60_store_session.t ................ ok
t/61_cookie_badargs.t ............... ok
t/61_store_cookie_noexpiry.t ........ ok
t/61_store_cookie_other.t ........... ok
t/70_action_dispatch.t .............. skipped: CGI::Application::Plugin::ActionDispatch required
t/80_devpopup.t ..................... ok
t/98_pod.t .......................... skipped: Author test. Set $ENV{TEST_AUTHOR} to a true value to run.
t/99_pod_coverage.t ................. skipped: Author test. Set $ENV{TEST_AUTHOR} to a true value to run.
t/author-pod-syntax.t ............... skipped: these tests are for testing by the author
t/changes.t ......................... skipped: Author test. Set $ENV{TEST_AUTHOR} to a true value to run.
t/manifest.t ........................ skipped: Author test. Set $ENV{TEST_AUTHOR} to a true value to run.
t/podspell.t ........................ skipped: Author test. Set $ENV{TEST_AUTHOR} to a true value to run.
t/prereq.t .......................... skipped: Author test. Set $ENV{TEST_PREREQ} to a true value to run.
t/release-changes_has_content.t ..... skipped: these tests are for release candidate testing
All tests successful.
Files=47, Tests=582, 10 wallclock secs ( 0.16 usr 0.08 sys + 4.21 cusr 0.77 csys = 5.22 CPU)
Result: PASS
------------------------------
PREREQUISITES
------------------------------
Prerequisite modules loaded:
requires:
Module Need Have
--------------------------------- -------- ----------
Attribute::Handlers 0 1.02
CGI 3.16 4.56
CGI::Application 4 4.61
Class::ISA 0 0.36
Digest::SHA 0 6.04
MIME::Base64 0 3.16
perl 5.008 5.036001
Scalar::Util 0 1.63
UNIVERSAL::require 0 0.19
build_requires:
Module Need Have
--------------------------------- -------- ----------
ExtUtils::MakeMaker 0 7.70
Readonly 0 2.05
Test::Exception 0 0.43
Test::MockObject 0 1.20200122
Test::More 1.302015 1.302194
Test::NoWarnings 0 1.06
Test::Regression 0 0.08
Test::Taint 0 1.08
Test::Warn 0.11 0.37
Test::Without::Module 0 0.21
configure_requires:
Module Need Have
--------------------------------- -------- ----------
ExtUtils::MakeMaker 0 7.70
opt_requires:
Module Need Have
--------------------------------- -------- ----------
Apache::Htpasswd 1.8 1.9
CGI::Application::Plugin::Session 0 1.05
Color::Calc 0.12 1.074
Digest::MD5 0 2.58
------------------------------
ENVIRONMENT AND OTHER CONTEXT
------------------------------
Environment variables:
AUTOMATED_TESTING = 1
LANG = en_US.UTF-8
LC_ADDRESS = de_DE.UTF-8
LC_IDENTIFICATION = de_DE.UTF-8
LC_MEASUREMENT = de_DE.UTF-8
LC_MONETARY = de_DE.UTF-8
LC_NAME = de_DE.UTF-8
LC_NUMERIC = de_DE.UTF-8
LC_PAPER = de_DE.UTF-8
LC_TELEPHONE = de_DE.UTF-8
LC_TIME = de_DE.UTF-8
PATH = /home/sand/bin:/usr/local/bin:/usr/local/sbin:/usr/sbin:/usr/bin:/sbin:/bin:/usr/games:/usr/local/games:/snap/bin:/usr/local/perl/bin:/usr/X11/bin
PERL5LIB = /tmp/loop_over_bdir-2017365-UE6AA0/Simulation-Automate-1.0.1-0/blib/arch:/tmp/loop_over_bdir-2017365-UE6AA0/Simulation-Automate-1.0.1-0/blib/lib:/tmp/loop_over_bdir-2017365-UE6AA0/OSDial-3.0.2.124-0/blib/arch:/tmp/loop_over_bdir-2017365-UE6AA0/OSDial-3.0.2.124-0/blib/lib
PERL5OPT =
PERL5_CPANPLUS_IS_RUNNING = 2017404
PERL5_CPAN_IS_RUNNING = 2017404
PERL_CANARY_STABILITY_NOPROMPT = 1
PERL_MM_USE_DEFAULT = 1
PERL_USE_UNSAFE_INC = 1
SHELL = /usr/bin/zsh
TERM = screen
Perl special variables (and OS-specific diagnostics, for MSWin32):
$^X = /tmp/basesmoker-reloperl-0VZE/bin/perl
$UID/$EUID = 1005 / 1005
$GID = 1005 1005
$EGID = 1005 1005
Perl module toolchain versions installed:
Module Have
------------------- --------
CPAN 2.34
CPAN::Meta 2.150010
Cwd 3.84
ExtUtils::CBuilder 0.280236
ExtUtils::Command 7.70
ExtUtils::Install 2.22
ExtUtils::MakeMaker 7.70
ExtUtils::Manifest 1.73
ExtUtils::ParseXS 3.45
File::Spec 3.84
JSON 4.10
JSON::PP 4.16
Module::Build 0.4232
Module::Signature 0.88
Parse::CPAN::Meta 2.150010
Test::Harness 3.44
Test::More 1.302194
YAML 1.30
YAML::Syck 1.34
version 0.9929
--
Summary of my perl5 (revision 5 version 36 subversion 1) configuration:
Commit id: 66cefb00b475e1b321ab2a1aa8e66a7ae14334c2
Platform:
osname=linux
osvers=5.19.0-38-generic
archname=x86_64-linux
uname='linux k93jammy 5.19.0-38-generic #39~22.04.1-ubuntu smp preempt_dynamic fri mar 17 21:16:15 utc 2 x86_64 x86_64 x86_64 gnulinux '
config_args='-Dprefix=/home/sand/src/perl/repoperls/installed-perls/host/k93jammy/v5.36.1-RC3/6567 -Dmyhostname=k93jammy -Dinstallusrbinperl=n -Uversiononly -Dusedevel -des -Ui_db -Dlibswanted=cl pthread socket inet nsl gdbm dbm malloc dl ld sun m crypt sec util c cposix posix ucb BSD gdbm_compat -Uuseithreads -Uuselongdouble -DEBUGGING=-g'
hint=recommended
useposix=true
d_sigaction=define
useithreads=undef
usemultiplicity=undef
use64bitint=define
use64bitall=define
uselongdouble=undef
usemymalloc=n
default_inc_excludes_dot=define
Compiler:
cc='cc'
ccflags ='-fwrapv -fno-strict-aliasing -pipe -fstack-protector-strong -I/usr/local/include -D_LARGEFILE_SOURCE -D_FILE_OFFSET_BITS=64'
optimize='-O2 -g'
cppflags='-fwrapv -fno-strict-aliasing -pipe -fstack-protector-strong -I/usr/local/include'
ccversion=''
gccversion='11.3.0'
gccosandvers=''
intsize=4
longsize=8
ptrsize=8
doublesize=8
byteorder=12345678
doublekind=3
d_longlong=define
longlongsize=8
d_longdbl=define
longdblsize=16
longdblkind=3
ivtype='long'
ivsize=8
nvtype='double'
nvsize=8
Off_t='off_t'
lseeksize=8
alignbytes=8
prototype=define
Linker and Libraries:
ld='cc'
ldflags =' -fstack-protector-strong -L/usr/local/lib'
libpth=/usr/local/lib /usr/lib/x86_64-linux-gnu /usr/lib /usr/lib64
libs=-lpthread -lnsl -ldl -lm -lcrypt -lutil -lc
perllibs=-lpthread -lnsl -ldl -lm -lcrypt -lutil -lc
libc=/lib/x86_64-linux-gnu/libc.so.6
so=so
useshrplib=false
libperl=libperl.a
gnulibc_version='2.35'
Dynamic Linking:
dlsrc=dl_dlopen.xs
dlext=so
d_dlsymun=undef
ccdlflags='-Wl,-E'
cccdlflags='-fPIC'
lddlflags='-shared -O2 -g -L/usr/local/lib -fstack-protector-strong'
Characteristics of this binary (from libperl):
Compile-time options:
HAS_TIMES
PERLIO_LAYERS
PERL_COPY_ON_WRITE
PERL_DONT_CREATE_GVSV
PERL_MALLOC_WRAP
PERL_OP_PARENT
PERL_PRESERVE_IVUV
PERL_USE_DEVEL
USE_64_BIT_ALL
USE_64_BIT_INT
USE_LARGE_FILES
USE_LOCALE
USE_LOCALE_COLLATE
USE_LOCALE_CTYPE
USE_LOCALE_NUMERIC
USE_LOCALE_TIME
USE_PERLIO
USE_PERL_ATOF
Locally applied patches:
RC3
Built under linux
Compiled at Apr 16 2023 17:59:23
%ENV:
PERL5LIB="/tmp/loop_over_bdir-2017365-UE6AA0/Simulation-Automate-1.0.1-0/blib/arch:/tmp/loop_over_bdir-2017365-UE6AA0/Simulation-Automate-1.0.1-0/blib/lib:/tmp/loop_over_bdir-2017365-UE6AA0/OSDial-3.0.2.124-0/blib/arch:/tmp/loop_over_bdir-2017365-UE6AA0/OSDial-3.0.2.124-0/blib/lib"
PERL5OPT=""
PERL5_CPANPLUS_IS_RUNNING="2017404"
PERL5_CPAN_IS_RUNNING="2017404"
PERL_CANARY_STABILITY_NOPROMPT="1"
PERL_MM_USE_DEFAULT="1"
PERL_USE_UNSAFE_INC="1"
@INC:
/tmp/loop_over_bdir-2017365-UE6AA0/Simulation-Automate-1.0.1-0/blib/arch
/tmp/loop_over_bdir-2017365-UE6AA0/Simulation-Automate-1.0.1-0/blib/lib
/tmp/loop_over_bdir-2017365-UE6AA0/OSDial-3.0.2.124-0/blib/arch
/tmp/loop_over_bdir-2017365-UE6AA0/OSDial-3.0.2.124-0/blib/lib
/home/sand/src/perl/repoperls/installed-perls/host/k93jammy/v5.36.1-RC3/6567/lib/site_perl/5.36.1/x86_64-linux
/home/sand/src/perl/repoperls/installed-perls/host/k93jammy/v5.36.1-RC3/6567/lib/site_perl/5.36.1
/home/sand/src/perl/repoperls/installed-perls/host/k93jammy/v5.36.1-RC3/6567/lib/5.36.1/x86_64-linux
/home/sand/src/perl/repoperls/installed-perls/host/k93jammy/v5.36.1-RC3/6567/lib/5.36.1
.