Back
From: metabase:user:30ae4450-2aae-11df-837a-5e0a49663a4f
Subject: PASS Catalyst-Authentication-Credential-RemoteHTTP-0.05 v5.24.0
Date: 2017-01-25T23:06:42Z
This distribution has been tested as part of the CPAN Testers
project, supporting the Perl programming language. See
http://wiki.cpantesters.org/ for more information or email
questions to cpan-testers-discuss@perl.org
--
Dear Nigel Metheringham,
This is a computer-generated report for Catalyst-Authentication-Credential-RemoteHTTP-0.05
on perl 5.24.0, created by CPAN-Reporter-1.2018.
Thank you for uploading your work to CPAN. Congratulations!
All tests were successful.
Sections of this report:
* Tester comments
* Program output
* Prerequisites
* Environment and other context
------------------------------
TESTER COMMENTS
------------------------------
Additional comments from tester:
this report is from an automated smoke testing program
and was not reviewed by a human for accuracy
------------------------------
PROGRAM OUTPUT
------------------------------
Output from 'C:\Strawberry240\perl\bin\perl.exe ./Build test':
t/00-compile.t ............... ok
# Testing Catalyst::Authentication::Credential::RemoteHTTP 0.05, Perl 5.024000, C:\Strawberry240\perl\bin\perl.exe
t/00-load.t .................. ok
# Testing with Perl 5.024000, C:\Strawberry240\perl\bin\perl.exe
# Carp version is 1.40
# Catalyst version is 5.90114
# Catalyst::Authentication::Store::Minimal version is undefined
# Catalyst::Controller version is undefined
# Catalyst::Exception version is undefined
# Catalyst::Test version is undefined
# English version is 1.10
# File::Find version is 1.34
# File::Temp version is 0.2304
# HTTP::Server::Simple version is 0.51
# HTTP::Server::Simple::CGI version is undefined
# IO::Socket::INET version is 1.35
# LWP::UserAgent version is 6.15
# MIME::Base64 version is 3.15
# Module::Build version is 0.422
# Moose version is 2.1807
# MooseX::Types::Moose version is 0.49
# Scalar::Util version is 1.47
# Test::Exception version is 0.43
# Test::More version is 1.302073
# base version is 2.23
# namespace::autoclean version is 0.28
# strict version is 1.11
# warnings version is 1.36
t/000-report-versions.t ...... ok
t/author-critic.t ............ skipped: these tests are for testing by the author
t/author-pod-spell.t ......... skipped: these tests are for testing by the author
The requested name is valid and was found in the database, but it does not have the correct associated data being resolved for. at C:/Strawberry240/perl/vendor/lib/HTTP/Server/Simple.pm line 168, <DATA> line 16.
The requested name is valid and was found in the database, but it does not have the correct associated data being resolved for. at C:/Strawberry240/perl/vendor/lib/HTTP/Server/Simple.pm line 172, <DATA> line 16.
The requested name is valid and was found in the database, but it does not have the correct associated data being resolved for. at C:/Strawberry240/perl/vendor/lib/HTTP/Server/Simple.pm line 408, <DATA> line 16.
The requested name is valid and was found in the database, but it does not have the correct associated data being resolved for. at C:/Strawberry240/perl/vendor/lib/HTTP/Server/Simple.pm line 408, <DATA> line 16.
The requested name is valid and was found in the database, but it does not have the correct associated data being resolved for. at C:/Strawberry240/perl/vendor/lib/HTTP/Server/Simple.pm line 408, <DATA> line 16.
The requested name is valid and was found in the database, but it does not have the correct associated data being resolved for. at C:/Strawberry240/perl/vendor/lib/HTTP/Server/Simple.pm line 408, <DATA> line 16.
The requested name is valid and was found in the database, but it does not have the correct associated data being resolved for. at C:/Strawberry240/perl/vendor/lib/HTTP/Server/Simple.pm line 408, <DATA> line 16.
The requested name is valid and was found in the database, but it does not have the correct associated data being resolved for. at C:/Strawberry240/perl/vendor/lib/HTTP/Server/Simple.pm line 408, <DATA> line 16.
The requested name is valid and was found in the database, but it does not have the correct associated data being resolved for. at C:/Strawberry240/perl/vendor/lib/HTTP/Server/Simple.pm line 408, <DATA> line 16.
The requested name is valid and was found in the database, but it does not have the correct associated data being resolved for. at C:/Strawberry240/perl/vendor/lib/HTTP/Server/Simple.pm line 408, <DATA> line 16.
t/live.t ..................... ok
t/release-dist-manifest.t .... skipped: these tests are for release candidate testing
t/release-distmeta.t ......... skipped: these tests are for release candidate testing
t/release-eol.t .............. skipped: these tests are for release candidate testing
t/release-has-version.t ...... skipped: these tests are for release candidate testing
t/release-kwalitee.t ......... skipped: these tests are for release candidate testing
t/release-minimum-version.t .. skipped: these tests are for release candidate testing
t/release-no-tabs.t .......... skipped: these tests are for release candidate testing
t/release-pod-coverage.t ..... skipped: these tests are for release candidate testing
t/release-pod-syntax.t ....... skipped: these tests are for release candidate testing
t/release-portability.t ...... skipped: these tests are for release candidate testing
t/release-synopsis.t ......... skipped: these tests are for release candidate testing
t/release-unused-vars.t ...... skipped: these tests are for release candidate testing
All tests successful.
Files=18, Tests=43, 17 wallclock secs ( 0.03 usr + 0.24 sys = 0.27 CPU)
Result: PASS
------------------------------
PREREQUISITES
------------------------------
Prerequisite modules loaded:
requires:
Module Need Have
---------------------------------------- -------- --------
base 0 2.23
Catalyst::Exception 0 0
LWP::UserAgent 0 6.15
Moose 0 2.1807
MooseX::Types::Moose 0 0.49
namespace::autoclean 0 0.28
perl 5.008005 5.024000
strict 0 1.11
warnings 0 1.36
build_requires:
Module Need Have
---------------------------------------- -------- --------
Carp 0 1.40
Catalyst 0 5.90114
Catalyst::Authentication::Store::Minimal 0 0
Catalyst::Controller 0 0
Catalyst::Test 0 0
English 0 1.10
File::Find 0 1.34
File::Temp 0 0.2304
HTTP::Server::Simple 0 0.51
HTTP::Server::Simple::CGI 0 0
IO::Socket::INET 0 1.35
MIME::Base64 0 3.15
Module::Build 0.3601 0.4220
Scalar::Util 0 1.47
Test::Exception 0 0.43
Test::More 0.94 1.302073
configure_requires:
Module Need Have
---------------------------------------- -------- --------
Module::Build 0.3601 0.4220
------------------------------
ENVIRONMENT AND OTHER CONTEXT
------------------------------
Environment variables:
AUTOMATED_TESTING = 1
COMSPEC = C:\WINDOWS\system32\cmd.exe
NUMBER_OF_PROCESSORS = 1
PATH = C:\WINDOWS\system32;C:\WINDOWS;C:\WINDOWS\System32\Wbem;C:\Git\cmd;C:\Strawberry240\c\bin;C:\Strawberry240\perl\site\bin;C:\Strawberry240\perl\bin
PERL5LIB =
PERL5OPT =
PERL5_CPANPLUS_IS_RUNNING = 456
PERL5_CPAN_IS_RUNNING = 456
PERL5_CPAN_IS_RUNNING_IN_RECURSION = 612,456
PERL_CR_SMOKER_CURRENT = Catalyst-Authentication-Credential-RemoteHTTP-0.05
PERL_CR_SMOKER_RUNONCE = 1
PERL_EXTUTILS_AUTOINSTALL = --defaultdeps
PERL_HASH_SEED = 0x11111111
PERL_MM_USE_DEFAULT = 1
PROCESSOR_IDENTIFIER = x86 Family 16 Model 5 Stepping 3, AuthenticAMD
TEMP = C:\DOCUME~1\a\LOCALS~1\Temp
Perl special variables (and OS-specific diagnostics, for MSWin32):
$^X = C:\Strawberry240\perl\bin\perl.exe
$UID/$EUID = 0 / 0
$GID = 0
$EGID = 0
Win32::GetOSName = WinXP/.Net
Win32::GetOSVersion = Service Pack 3, 5, 1, 2600, 2, 3, 0, 256, 1
Win32::FsType = NTFS
Win32::IsAdminUser = 1
Perl module toolchain versions installed:
Module Have
------------------- --------
CPAN 2.14
CPAN::Meta 2.150010
Cwd 3.63
ExtUtils::CBuilder 0.280225
ExtUtils::Command 7.24
ExtUtils::Install 2.04
ExtUtils::MakeMaker 7.24
ExtUtils::Manifest 1.70
ExtUtils::ParseXS 3.31
File::Spec 3.63
JSON 2.90
JSON::PP 2.27400
Module::Build 0.4220
Module::Signature 0.81
Parse::CPAN::Meta 2.150010
Test::Harness 3.36
Test::More 1.302073
YAML 1.21
YAML::Syck 1.29
version 0.9917
--
Summary of my perl5 (revision 5 version 24 subversion 0) configuration:
Platform:
osname=MSWin32, osvers=4.0, archname=MSWin32-x86-multi-thread
uname='Win32 strawberry-perl 5.24.0.1-beta1 #1 Thu Dec 29 16:46:05 2016 i386'
config_args='undef'
hint=recommended, useposix=true, d_sigaction=undef
useithreads=define, usemultiplicity=define
use64bitint=undef, use64bitall=undef, uselongdouble=undef
usemymalloc=n, bincompat5005=undef
Compiler:
cc='gcc', ccflags =' -s -O2 -DWIN32 -DPERL_TEXTMODE_SCRIPTS -DPERL_IMPLICIT_CONTEXT -DPERL_IMPLICIT_SYS -fwrapv -fno-strict-aliasing -mms-bitfields',
optimize='-s -O2',
cppflags='-DWIN32'
ccversion='', gccversion='4.9.2', gccosandvers=''
intsize=4, longsize=4, ptrsize=4, doublesize=8, byteorder=1234, doublekind=3
d_longlong=define, longlongsize=8, d_longdbl=define, longdblsize=12, longdblkind=3
ivtype='long', ivsize=4, nvtype='double', nvsize=8, Off_t='long long', lseeksize=8
alignbytes=8, prototype=define
Linker and Libraries:
ld='g++', ldflags ='-s -L"C:\STRAWB~1\perl\lib\CORE" -L"C:\STRAWB~1\c\lib"'
libpth=C:\STRAWB~1\c\lib C:\STRAWB~1\c\i686-w64-mingw32\lib C:\STRAWB~1\c\lib\gcc\i686-w64-mingw32\4.9.2
libs=-lmoldname -lkernel32 -luser32 -lgdi32 -lwinspool -lcomdlg32 -ladvapi32 -lshell32 -lole32 -loleaut32 -lnetapi32 -luuid -lws2_32 -lmpr -lwinmm -lversion -lodbc32 -lodbccp32 -lcomctl32
perllibs=-lmoldname -lkernel32 -luser32 -lgdi32 -lwinspool -lcomdlg32 -ladvapi32 -lshell32 -lole32 -loleaut32 -lnetapi32 -luuid -lws2_32 -lmpr -lwinmm -lversion -lodbc32 -lodbccp32 -lcomctl32
libc=, so=dll, useshrplib=true, libperl=libperl524.a
gnulibc_version=''
Dynamic Linking:
dlsrc=dl_win32.xs, dlext=xs.dll, d_dlsymun=undef, ccdlflags=' '
cccdlflags=' ', lddlflags='-mdll -s -L"C:\STRAWB~1\perl\lib\CORE" -L"C:\STRAWB~1\c\lib"'
Characteristics of this binary (from libperl):
Compile-time options: HAS_TIMES HAVE_INTERP_INTERN MULTIPLICITY
PERLIO_LAYERS PERL_COPY_ON_WRITE
PERL_DONT_CREATE_GVSV
PERL_HASH_FUNC_ONE_AT_A_TIME_HARD
PERL_IMPLICIT_CONTEXT PERL_IMPLICIT_SYS
PERL_MALLOC_WRAP PERL_PRESERVE_IVUV USE_ITHREADS
USE_LARGE_FILES USE_LOCALE USE_LOCALE_COLLATE
USE_LOCALE_CTYPE USE_LOCALE_NUMERIC USE_LOCALE_TIME
USE_PERLIO USE_PERL_ATOF
Built under MSWin32
Compiled at Dec 29 2016 16:55:33
%ENV:
PERL5_CPANPLUS_IS_RUNNING="456"
PERL5_CPAN_IS_RUNNING="456"
PERL5_CPAN_IS_RUNNING_IN_RECURSION="612,456"
PERL_CR_SMOKER_CURRENT="Catalyst-Authentication-Credential-RemoteHTTP-0.05"
PERL_CR_SMOKER_RUNONCE="1"
PERL_EXTUTILS_AUTOINSTALL="--defaultdeps"
PERL_HASH_SEED="0x11111111"
PERL_MM_USE_DEFAULT="1"
@INC:
C:/Strawberry240/perl/site/lib
C:/Strawberry240/perl/vendor/lib
C:/Strawberry240/perl/lib
.