Net-HTTP v6.18 Perl 5 v5.20.3 x86_64-linux
- Status
- Pass
- From
- Nigel Horne
- Dist
-
Net-HTTP v6.18
- Platform
- Perl 5 v5.20.3 x86_64-linux
- Date
- 2019-01-03 21:18:39
- ID
- 23eeb7d0-0f9d-11e9-882f-bc1f3988a21a
This distribution has been tested as part of the CPAN Testers
project, supporting the Perl programming language. See
http://wiki.cpantesters.org/ for more information or email
questions to cpan-testers-discuss@perl.org
--
Dear Olaf Alders,
This is a computer-generated report for Net-HTTP-6.18
on perl 5.20.3, created by CPAN-Reporter-1.2018.
Thank you for uploading your work to CPAN. Congratulations!
All tests were successful.
Sections of this report:
* Tester comments
* Program output
* Prerequisites
* Environment and other context
------------------------------
TESTER COMMENTS
------------------------------
Additional comments from tester:
none provided
------------------------------
PROGRAM OUTPUT
------------------------------
Output from '/usr/bin/make test':
PERL_DL_NONLAZY=1 "/home/njh/perl5/perlbrew/perls/perl-5.20.3/bin/perl" "-MExtUtils::Command::MM" "-MTest::Harness" "-e" "undef *Test::Harness::Switches; test_harness(0, 'blib/lib', 'blib/arch')" t/*.t
t/live-https.t ......... skipped: IO::Socket::SSL or Net::SSL not available
t/http-nb.t ............ ok
t/http.t ............... ok
t/live.t ............... ok
#
# Versions for all modules listed in MYMETA.json (including optional ones):
#
# === Configure Requires ===
#
# Module Want Have
# ------------------- ---- ----
# ExtUtils::MakeMaker any 7.34
#
# === Configure Suggests ===
#
# Module Want Have
# -------- ------- ----
# JSON::PP 2.27300 4.00
#
# === Build Requires ===
#
# Module Want Have
# ------------------- ---- ----
# ExtUtils::MakeMaker any 7.34
#
# === Test Requires ===
#
# Module Want Have
# ------------------- ---- --------
# Data::Dumper any 2.151_01
# ExtUtils::MakeMaker any 7.34
# File::Spec any 3.48_01
# IO::Select any 1.22
# Socket any 2.013
# Test::More any 1.302141
#
# === Test Recommends ===
#
# Module Want Have
# ---------- -------- --------
# CPAN::Meta 2.120900 2.143240
#
# === Runtime Requires ===
#
# Module Want Have
# ---------------------- ---- ------
# Carp any 1.3301
# Compress::Raw::Zlib any 2.065
# IO::Socket::INET any 1.35
# IO::Uncompress::Gunzip any 2.064
# URI any 1.74
# base any 2.22
# strict any 1.08
# vars any 1.03
# warnings any 1.23
#
# === Runtime Suggests ===
#
# Module Want Have
# ----------------- ----- -------
# IO::Socket any 1.38
# IO::Socket::INET6 any missing
# IO::Socket::IP any 0.29
# IO::Socket::SSL 2.012 missing
# Symbol any 1.07
#
t/00-report-prereqs.t .. ok
All tests successful.
Files=5, Tests=58, 1 wallclock secs ( 0.06 usr 0.01 sys + 0.86 cusr 0.13 csys = 1.06 CPU)
Result: PASS
------------------------------
PREREQUISITES
------------------------------
Prerequisite modules loaded:
requires:
Module Need Have
---------------------- -------- --------
base 0 2.22
Carp 0 1.3301
Compress::Raw::Zlib 0 2.065
IO::Socket::INET 0 1.35
IO::Uncompress::Gunzip 0 2.064
perl 5.006002 5.020003
strict 0 1.08
URI 0 1.74
vars 0 1.03
warnings 0 1.23
build_requires:
Module Need Have
---------------------- -------- --------
Data::Dumper 0 2.151_01
ExtUtils::MakeMaker 0 7.34
File::Spec 0 3.48_01
IO::Select 0 1.22
Socket 0 2.013
Test::More 0 1.302141
configure_requires:
Module Need Have
---------------------- -------- --------
ExtUtils::MakeMaker 0 7.34
------------------------------
ENVIRONMENT AND OTHER CONTEXT
------------------------------
Environment variables:
HARNESS_OPTIONS = j4:c
LANG =
LDFLAGS =
NONINTERACTIVE_TESTING = 1
PATH = /home/njh/perl5/perlbrew/bin:/home/njh/perl5/perlbrew/perls/perl-5.20.3/bin:/home/njh/bin:/usr/local/bin:/usr/bin:/bin:/usr/local/games:/usr/games
PERL5LIB =
PERL5OPT =
PERL5_CPANPLUS_IS_RUNNING = 30003
PERL5_CPAN_IS_RUNNING = 30003
PERLBREW_HOME = /home/njh/.perlbrew
PERLBREW_MANPATH = /home/njh/perl5/perlbrew/perls/perl-5.20.3/man
PERLBREW_PATH = /home/njh/perl5/perlbrew/bin:/home/njh/perl5/perlbrew/perls/perl-5.20.3/bin
PERLBREW_PERL = perl-5.20.3
PERLBREW_ROOT = /home/njh/perl5/perlbrew
PERLBREW_SHELLRC_VERSION = 0.85
PERLBREW_VERSION = 0.85
PERL_MM_USE_DEFAULT = 1
SHELL = /bin/bash
TERM = xterm-256color
TMPDIR = /tmp
Perl special variables (and OS-specific diagnostics, for MSWin32):
$^X = /home/njh/perl5/perlbrew/perls/perl-5.20.3/bin/perl
$UID/$EUID = 1000 / 1000
$GID = 1000 1000
$EGID = 1000 1000
Perl module toolchain versions installed:
Module Have
------------------- --------
CPAN 2.05
CPAN::Meta 2.143240
Cwd 3.48_01
ExtUtils::CBuilder 0.280217
ExtUtils::Command 7.34
ExtUtils::Install 2.06
ExtUtils::MakeMaker 7.34
ExtUtils::Manifest 1.70
ExtUtils::ParseXS 3.24
File::Spec 3.48_01
JSON n/a
JSON::PP 4.00
Module::Build 0.4205
Module::Signature n/a
Parse::CPAN::Meta 1.4414
Test::Harness 3.30
Test::More 1.302141
YAML n/a
YAML::Syck n/a
version 0.9909
--
Summary of my perl5 (revision 5 version 20 subversion 3) configuration:
Platform:
osname=linux, osvers=2.6.32-042stab127.2, archname=x86_64-linux
uname='linux builder 2.6.32-042stab127.2 #1 smp thu jan 4 16:41:44 msk 2018 x86_64 gnulinux '
config_args='-de -Dprefix=/home/njh/perl5/perlbrew/perls/perl-5.20.3 -Aeval:scriptdir=/home/njh/perl5/perlbrew/perls/perl-5.20.3/bin'
hint=recommended, useposix=true, d_sigaction=define
useithreads=undef, usemultiplicity=undef
use64bitint=define, use64bitall=define, uselongdouble=undef
usemymalloc=n, bincompat5005=undef
Compiler:
cc='cc', ccflags ='-fwrapv -fno-strict-aliasing -pipe -fstack-protector -I/usr/local/include -D_LARGEFILE_SOURCE -D_FILE_OFFSET_BITS=64',
optimize='-O2',
cppflags='-fwrapv -fno-strict-aliasing -pipe -fstack-protector -I/usr/local/include'
ccversion='', gccversion='6.3.0 20170516', gccosandvers=''
intsize=4, longsize=8, ptrsize=8, doublesize=8, byteorder=12345678
d_longlong=define, longlongsize=8, d_longdbl=define, longdblsize=16
ivtype='long', ivsize=8, nvtype='double', nvsize=8, Off_t='off_t', lseeksize=8
alignbytes=8, prototype=define
Linker and Libraries:
ld='cc', ldflags =' -fstack-protector -L/usr/local/lib'
libpth=/usr/local/lib /usr/lib/gcc/x86_64-linux-gnu/6/include-fixed /usr/include/x86_64-linux-gnu /usr/lib /lib/x86_64-linux-gnu /lib/../lib /usr/lib/x86_64-linux-gnu /usr/lib/../lib /lib
libs=-lpthread -lnsl -lgdbm -ldb -ldl -lm -lcrypt -lutil -lc -lgdbm_compat
perllibs=-lpthread -lnsl -ldl -lm -lcrypt -lutil -lc
libc=libc-2.24.so, so=so, useshrplib=false, libperl=libperl.a
gnulibc_version='2.24'
Dynamic Linking:
dlsrc=dl_dlopen.xs, dlext=so, d_dlsymun=undef, ccdlflags='-Wl,-E'
cccdlflags='-fPIC', lddlflags='-shared -O2 -L/usr/local/lib -fstack-protector'
Characteristics of this binary (from libperl):
Compile-time options: HAS_TIMES PERLIO_LAYERS PERL_DONT_CREATE_GVSV
PERL_HASH_FUNC_ONE_AT_A_TIME_HARD PERL_MALLOC_WRAP
PERL_NEW_COPY_ON_WRITE PERL_PRESERVE_IVUV
USE_64_BIT_ALL USE_64_BIT_INT USE_LARGE_FILES
USE_LOCALE USE_LOCALE_COLLATE USE_LOCALE_CTYPE
USE_LOCALE_NUMERIC USE_PERLIO USE_PERL_ATOF
Locally applied patches:
Devel::PatchPerl 1.52
Built under linux
Compiled at Dec 31 2018 12:12:09
%ENV:
PERL5LIB=""
PERL5OPT=""
PERL5_CPANPLUS_IS_RUNNING="30003"
PERL5_CPAN_IS_RUNNING="30003"
PERLBREW_HOME="/home/njh/.perlbrew"
PERLBREW_MANPATH="/home/njh/perl5/perlbrew/perls/perl-5.20.3/man"
PERLBREW_PATH="/home/njh/perl5/perlbrew/bin:/home/njh/perl5/perlbrew/perls/perl-5.20.3/bin"
PERLBREW_PERL="perl-5.20.3"
PERLBREW_ROOT="/home/njh/perl5/perlbrew"
PERLBREW_SHELLRC_VERSION="0.85"
PERLBREW_VERSION="0.85"
PERL_MM_USE_DEFAULT="1"
@INC:
/home/njh/perl5/perlbrew/perls/perl-5.20.3/lib/site_perl/5.20.3/x86_64-linux
/home/njh/perl5/perlbrew/perls/perl-5.20.3/lib/site_perl/5.20.3
/home/njh/perl5/perlbrew/perls/perl-5.20.3/lib/5.20.3/x86_64-linux
/home/njh/perl5/perlbrew/perls/perl-5.20.3/lib/5.20.3
.