Report for POE-Component-Server-SimpleHTTP-2.14

Back
From: metabase:user:d2c9f356-b46f-11df-9a90-20a83c0b7757
Subject: PASS POE-Component-Server-SimpleHTTP-2.14 v5.15.6 SunOS/Solaris
Date: 2012-01-05T03:41:24Z

This distribution has been tested as part of the CPAN Testers
project, supporting the Perl programming language.  See
http://wiki.cpantesters.org/ for more information or email
questions to cpan-testers-discuss@perl.org


--
Dear Chris Williams,

This is a computer-generated report for POE-Component-Server-SimpleHTTP-2.14
on perl 5.15.6, created by CPAN-Reporter-1.2003.

Thank you for uploading your work to CPAN.  Congratulations!
All tests were successful.

Sections of this report:

    * Tester comments
    * Program output
    * Prerequisites
    * Environment and other context

------------------------------
TESTER COMMENTS
------------------------------

Additional comments from tester:

this report is from an automated smoke testing program
and was not reviewed by a human for accuracy

------------------------------
PROGRAM OUTPUT
------------------------------

Output from '/usr/local/bin/make test':

PERL_DL_NONLAZY=1 /export/home/cpant4/perl5/bin/perl5.15.6 "-MExtUtils::Command::MM" "-e" "test_harness(0, 'inc', 'blib/lib', 'blib/arch')" t/*.t
# Testing POE::Component::Server::SimpleHTTP-2.14, POE-1.350, Perl 5.015006, /export/home/cpant4/perl5/bin/perl5.15.6
t/01_load.t ........... ok
# GET http://pocosimpletest.com:61732/ HTTP/1.1
# Host: 127.0.0.1:61732
# 
# HTTP/1.1 200 (OK)
# Date: Thu, 05 Jan 2012 03:41:13 GMT
# Content-Length: 3
# Content-Type: text/plain
# 
# Moo
t/02_simple.t ......... ok
# HTTP/1.1 404 (Not Found)
# Date: Thu, 05 Jan 2012 03:41:14 GMT
# Content-Length: 13
# Content-Type: text/plain
# 
# 404 Not Found
t/03_bad_handler.t .... ok
# GEt http://pocosimpletest.com:61736/ HTTP/1.1
# Host: 127.0.0.1:61736
# 
# HTTP/1.1 200 (OK)
# Date: Thu, 05 Jan 2012 03:41:16 GMT
# Content-Length: 3
# Content-Type: text/plain
# 
# Moo
t/03_bad_request.t .... ok
# 200 (OK)
# Date: Thu, 05 Jan 2012 03:41:18 GMT
# Content-Length: 11
# Content-Type: text/plain
# X-HTTP-Version: 1.1
# 
# this is top
# 200 (OK)
# Date: Thu, 05 Jan 2012 03:41:18 GMT
# Content-Length: 12
# Content-Type: text/plain
# X-HTTP-Version: 1.1
# 
# this is honk
# 200 (OK)
# Date: Thu, 05 Jan 2012 03:41:18 GMT
# Content-Length: 123
# Content-Type: text/html
# X-HTTP-Version: 1.1
# 
# <html>
# <head><title>YEAH!</title></head>
# <body><p>This, my friend, is the page you've been looking for.</p></body>
# </html>
# 404 (Not Found)
# Date: Thu, 05 Jan 2012 03:41:18 GMT
# Content-Length: 13
# Content-Type: text/plain
# X-HTTP-Version: 1.1
# 
# 404 Not Found
t/04_run_close.t ...... ok
Use of uninitialized value in lc at /export/home/cpant4/.cpan/build/POE-Component-Server-SimpleHTTP-2.14-OKzT59/blib/lib/POE/Component/Server/SimpleHTTP.pm line 802.
Use of uninitialized value in lc at /export/home/cpant4/.cpan/build/POE-Component-Server-SimpleHTTP-2.14-OKzT59/blib/lib/POE/Component/Server/SimpleHTTP.pm line 804.
# 200 (OK)
# Date: Thu, 05 Jan 2012 03:41:19 GMT
# Content-Length: 11
# Content-Type: text/plain
# X-HTTP-Version: 1.1
# 
# this is top
Use of uninitialized value in lc at /export/home/cpant4/.cpan/build/POE-Component-Server-SimpleHTTP-2.14-OKzT59/blib/lib/POE/Component/Server/SimpleHTTP.pm line 802.
Use of uninitialized value in lc at /export/home/cpant4/.cpan/build/POE-Component-Server-SimpleHTTP-2.14-OKzT59/blib/lib/POE/Component/Server/SimpleHTTP.pm line 804.
# 200 (OK)
# Date: Thu, 05 Jan 2012 03:41:19 GMT
# Content-Length: 12
# Content-Type: text/plain
# X-HTTP-Version: 1.1
# 
# this is honk
Use of uninitialized value in lc at /export/home/cpant4/.cpan/build/POE-Component-Server-SimpleHTTP-2.14-OKzT59/blib/lib/POE/Component/Server/SimpleHTTP.pm line 802.
Use of uninitialized value in lc at /export/home/cpant4/.cpan/build/POE-Component-Server-SimpleHTTP-2.14-OKzT59/blib/lib/POE/Component/Server/SimpleHTTP.pm line 804.
# 200 (OK)
# Date: Thu, 05 Jan 2012 03:41:19 GMT
# Content-Length: 123
# Content-Type: text/html
# X-HTTP-Version: 1.1
# 
# <html>
# <head><title>YEAH!</title></head>
# <body><p>This, my friend, is the page you've been looking for.</p></body>
# </html>
# 404 (Not Found)
# Date: Thu, 05 Jan 2012 03:41:19 GMT
# Content-Length: 13
# Content-Type: text/plain
# X-HTTP-Version: 1.1
# 
# 404 Not Found
t/04_run_keepalive.t .. ok
# POST http://pocosimpletest.com:61745/ HTTP/1.1
# Host: 127.0.0.1:61745
# Content-Length: 40
# 
# brother !~we need to get off this island
# 200 (OK)
# Date: Thu, 05 Jan 2012 03:41:21 GMT
# Content-Length: 40
# Content-Type: text/plain
# X-HTTP-Version: 1.1
# 
# we need to get off this island brother !
t/05_post.t ........... ok
t/06_stream.t ......... skipped: POE::Component::Client::HTTP is required for this test
t/99_pod.t ............ ok
t/99_pod_coverage.t ... skipped: Test::Pod::Coverage 1.00 required for testing POD coverage
All tests successful.
Files=10, Tests=49, 11 wallclock secs ( 0.05 usr  0.02 sys +  4.59 cusr  0.54 csys =  5.20 CPU)
Result: PASS

------------------------------
PREREQUISITES
------------------------------

Prerequisite modules loaded:

requires:

    Module                    Need   Have    
    ------------------------- ------ --------
    Carp                      0      1.24    
    HTTP::Date                0      6.00    
    HTTP::Request             0      6.00    
    HTTP::Response            0      6.01    
    Moose                     0.81   2.0401  
    MooseX::AttributeHelpers  0      0.23    
    MooseX::POE               0.205  0.214   
    perl                      5.006  5.015006
    POE                       1.0000 1.350   
    Socket                    0      1.97    
    Storable                  0      2.34    
    Sys::Hostname             0      1.16    

build_requires:

    Module                    Need   Have    
    ------------------------- ------ --------
    ExtUtils::MakeMaker       6.6302 6.63_02 
    POE::Filter::HTTP::Parser 1.06   1.06    
    Test::More                0.47   0.98    
    Test::POE::Client::TCP    0.1    1.10    

configure_requires:

    Module                    Need   Have    
    ------------------------- ------ --------
    ExtUtils::MakeMaker       6.62   6.63_02 


------------------------------
ENVIRONMENT AND OTHER CONTEXT
------------------------------

Environment variables:

    AUTOMATED_TESTING = 1
    LANG = C
    LD_LIBRARY_PATH = /usr/local/lib:
    PATH = /export/home/cpant4/perl5/bin:/usr/local/bin:/usr/bin
    PERL5LIB = /export/home/cpant4/.cpan/build/POE-Filter-HTTP-Parser-1.06-8vFZIn/blib/arch:/export/home/cpant4/.cpan/build/POE-Filter-HTTP-Parser-1.06-8vFZIn/blib/lib:/export/home/cpant4/.cpan/build/HTTP-Parser-0.06-1Bd61H/blib/arch:/export/home/cpant4/.cpan/build/HTTP-Parser-0.06-1Bd61H/blib/lib:/export/home/cpant4/.cpan/build/Test-POE-Server-TCP-1.16-ZTIAvN/blib/arch:/export/home/cpant4/.cpan/build/Test-POE-Server-TCP-1.16-ZTIAvN/blib/lib:/export/home/cpant4/.cpan/build/MooseX-AttributeHelpers-0.23-DxaCAU/blib/arch:/export/home/cpant4/.cpan/build/MooseX-AttributeHelpers-0.23-DxaCAU/blib/lib:/export/home/cpant4/.cpan/build/MooseX-POE-0.214-XhX_xt/blib/arch:/export/home/cpant4/.cpan/build/MooseX-POE-0.214-XhX_xt/blib/lib:/export/home/cpant4/.cpan/build/Test-POE-Client-TCP-1.10-yVUdIe/blib/arch:/export/home/cpant4/.cpan/build/Test-POE-Client-TCP-1.10-yVUdIe/blib/lib
    PERL5OPT = 
    PERL5_CPANPLUS_IS_RUNNING = 8268
    PERL5_CPAN_IS_RUNNING = 8268
    PERL5_CPAN_IS_RUNNING_IN_RECURSION = 18508,8268
    PERL_CR_SMOKER_CURRENT = POE-Component-Server-SimpleHTTP-2.14
    PERL_EXTUTILS_AUTOINSTALL = --defaultdeps
    PERL_MM_USE_DEFAULT = 1
    SHELL = /bin/bash
    TERM = xterm

Perl special variables (and OS-specific diagnostics, for MSWin32):

    $^X = /export/home/cpant4/perl5/bin/perl5.15.6
    $UID/$EUID = 104 / 104
    $GID = 1 1
    $EGID = 1 1

Perl module toolchain versions installed:

    Module              Have    
    ------------------- --------
    CPAN                1.9800  
    CPAN::Meta          2.113640
    Cwd                 3.38    
    ExtUtils::CBuilder  0.280205
    ExtUtils::Command   1.17    
    ExtUtils::Install   1.57    
    ExtUtils::MakeMaker 6.63_02 
    ExtUtils::Manifest  1.60    
    ExtUtils::ParseXS   3.11    
    File::Spec          3.34    
    JSON                2.53    
    JSON::PP            2.27200 
    Module::Build       0.39_01 
    Module::Signature   n/a     
    Parse::CPAN::Meta   1.4401  
    Test::Harness       3.23    
    Test::More          0.98    
    YAML                0.78    
    YAML::Syck          1.19    
    version             0.95    


--

Summary of my perl5 (revision 5 version 15 subversion 6) configuration:
   
  Platform:
    osname=solaris, osvers=2.10, archname=i86pc-solaris-64int
    uname='sunos vmrz0046 5.10 generic_141445-09 i86pc i386 i86pc solaris '
    config_args='-Dcc=gcc -Dprefix=~/perl5 -Duse64bitint -Dusedevel -d'
    hint=recommended, useposix=true, d_sigaction=define
    useithreads=undef, usemultiplicity=undef
    useperlio=define, d_sfio=undef, uselargefiles=define, usesocks=undef
    use64bitint=define, use64bitall=undef, uselongdouble=undef
    usemymalloc=n, bincompat5005=undef
  Compiler:
    cc='gcc', ccflags ='-DPTR_IS_LONG -fno-strict-aliasing -pipe -I/usr/local/include -D_LARGEFILE_SOURCE -D_FILE_OFFSET_BITS=64 -DPERL_USE_SAFE_PUTENV',
    optimize='-O',
    cppflags='-DPTR_IS_LONG -fno-strict-aliasing -pipe -I/usr/local/include'
    ccversion='', gccversion='3.4.6', gccosandvers='solaris2.10'
    intsize=4, longsize=4, ptrsize=4, doublesize=8, byteorder=12345678
    d_longlong=define, longlongsize=8, d_longdbl=define, longdblsize=12
    ivtype='long long', ivsize=8, nvtype='double', nvsize=8, Off_t='off_t', lseeksize=8
    alignbytes=4, prototype=define
  Linker and Libraries:
    ld='gcc', ldflags =' -L/usr/local/lib '
    libpth=/usr/local/lib /usr/lib /usr/ccs/lib
    libs=-lsocket -lnsl -lgdbm -ldl -lm -lc
    perllibs=-lsocket -lnsl -ldl -lm -lc
    libc=/lib/libc.so, so=so, useshrplib=false, libperl=libperl.a
    gnulibc_version=''
  Dynamic Linking:
    dlsrc=dl_dlopen.xs, dlext=so, d_dlsymun=undef, ccdlflags=' '
    cccdlflags='-fPIC', lddlflags='-G -L/usr/local/lib'


Characteristics of this binary (from libperl): 
  Compile-time options: HAS_TIMES PERLIO_LAYERS PERL_DONT_CREATE_GVSV
                        PERL_MALLOC_WRAP PERL_PRESERVE_IVUV PERL_USE_DEVEL
                        PERL_USE_SAFE_PUTENV USE_64_BIT_INT USE_LARGE_FILES
                        USE_LOCALE USE_LOCALE_COLLATE USE_LOCALE_CTYPE
                        USE_LOCALE_NUMERIC USE_PERLIO USE_PERL_ATOF
  Built under solaris
  Compiled at Jan  2 2012 15:02:15
  %ENV:
    PERL5LIB="/export/home/cpant4/.cpan/build/POE-Filter-HTTP-Parser-1.06-8vFZIn/blib/arch:/export/home/cpant4/.cpan/build/POE-Filter-HTTP-Parser-1.06-8vFZIn/blib/lib:/export/home/cpant4/.cpan/build/HTTP-Parser-0.06-1Bd61H/blib/arch:/export/home/cpant4/.cpan/build/HTTP-Parser-0.06-1Bd61H/blib/lib:/export/home/cpant4/.cpan/build/Test-POE-Server-TCP-1.16-ZTIAvN/blib/arch:/export/home/cpant4/.cpan/build/Test-POE-Server-TCP-1.16-ZTIAvN/blib/lib:/export/home/cpant4/.cpan/build/MooseX-AttributeHelpers-0.23-DxaCAU/blib/arch:/export/home/cpant4/.cpan/build/MooseX-AttributeHelpers-0.23-DxaCAU/blib/lib:/export/home/cpant4/.cpan/build/MooseX-POE-0.214-XhX_xt/blib/arch:/export/home/cpant4/.cpan/build/MooseX-POE-0.214-XhX_xt/blib/lib:/export/home/cpant4/.cpan/build/Test-POE-Client-TCP-1.10-yVUdIe/blib/arch:/export/home/cpant4/.cpan/build/Test-POE-Client-TCP-1.10-yVUdIe/blib/lib"
    PERL5OPT=""
    PERL5_CPANPLUS_IS_RUNNING="8268"
    PERL5_CPAN_IS_RUNNING="8268"
    PERL5_CPAN_IS_RUNNING_IN_RECURSION="18508,8268"
    PERL_CR_SMOKER_CURRENT="POE-Component-Server-SimpleHTTP-2.14"
    PERL_EXTUTILS_AUTOINSTALL="--defaultdeps"
    PERL_MM_USE_DEFAULT="1"
  @INC:
    /export/home/cpant4/.cpan/build/POE-Filter-HTTP-Parser-1.06-8vFZIn/blib/arch
    /export/home/cpant4/.cpan/build/POE-Filter-HTTP-Parser-1.06-8vFZIn/blib/lib
    /export/home/cpant4/.cpan/build/HTTP-Parser-0.06-1Bd61H/blib/arch
    /export/home/cpant4/.cpan/build/HTTP-Parser-0.06-1Bd61H/blib/lib
    /export/home/cpant4/.cpan/build/Test-POE-Server-TCP-1.16-ZTIAvN/blib/arch
    /export/home/cpant4/.cpan/build/Test-POE-Server-TCP-1.16-ZTIAvN/blib/lib
    /export/home/cpant4/.cpan/build/MooseX-AttributeHelpers-0.23-DxaCAU/blib/arch
    /export/home/cpant4/.cpan/build/MooseX-AttributeHelpers-0.23-DxaCAU/blib/lib
    /export/home/cpant4/.cpan/build/MooseX-POE-0.214-XhX_xt/blib/arch
    /export/home/cpant4/.cpan/build/MooseX-POE-0.214-XhX_xt/blib/lib
    /export/home/cpant4/.cpan/build/Test-POE-Client-TCP-1.10-yVUdIe/blib/arch
    /export/home/cpant4/.cpan/build/Test-POE-Client-TCP-1.10-yVUdIe/blib/lib
    /export/home/cpant4/perl5/lib/site_perl/5.15.6/i86pc-solaris-64int
    /export/home/cpant4/perl5/lib/site_perl/5.15.6
    /export/home/cpant4/perl5/lib/5.15.6/i86pc-solaris-64int
    /export/home/cpant4/perl5/lib/5.15.6
    /export/home/cpant4/perl5/lib/site_perl
    .