Package-Locator v0.010 Perl 5 v5.36.0 x86_64-linux-ld
- Status
- Pass
- From
- Andreas J. König (ANDK)
- Dist
-
Package-Locator v0.010
- Platform
- Perl 5 v5.36.0 x86_64-linux-ld
- Date
- 2022-06-12 03:38:36
- ID
- 244c948a-ea01-11ec-afee-7dcd1b0c3d22
This distribution has been tested as part of the CPAN Testers
project, supporting the Perl programming language. See
http://wiki.cpantesters.org/ for more information or email
questions to cpan-testers-discuss@perl.org
--
Dear Jeffrey Ryan Thalhammer,
This is a computer-generated report for Package-Locator-0.010
on perl 5.36.0, created by CPAN-Reporter-1.2018.
Thank you for uploading your work to CPAN. Congratulations!
All tests were successful.
Sections of this report:
* Tester comments
* Program output
* Prerequisites
* Environment and other context
------------------------------
TESTER COMMENTS
------------------------------
Additional comments from tester:
this report is from an automated smoke testing program
and was not reviewed by a human for accuracy
------------------------------
PROGRAM OUTPUT
------------------------------
Output from './Build test':
Possible precedence issue with control flow operator at lib/Package/Locator/Index.pm line 188.
Possible precedence issue with control flow operator at lib/Package/Locator/Index.pm line 188.
t/00-compile.t ...... ok
Possible precedence issue with control flow operator at /tmp/loop_over_bdir-3467-cdeBuD/Package-Locator-0.010-0/blib/lib/Package/Locator/Index.pm line 188.
t/02-functional.t ... ok
Possible precedence issue with control flow operator at /tmp/loop_over_bdir-3467-cdeBuD/Package-Locator-0.010-0/blib/lib/Package/Locator/Index.pm line 188.
t/03-exceptions.t ... ok
Possible precedence issue with control flow operator at /tmp/loop_over_bdir-3467-cdeBuD/Package-Locator-0.010-0/blib/lib/Package/Locator/Index.pm line 188.
t/04-cache.t ........ ok
Possible precedence issue with control flow operator at /tmp/loop_over_bdir-3467-cdeBuD/Package-Locator-0.010-0/blib/lib/Package/Locator/Index.pm line 188.
t/05-cache-clear.t .. ok
Possible precedence issue with control flow operator at /tmp/loop_over_bdir-3467-cdeBuD/Package-Locator-0.010-0/blib/lib/Package/Locator/Index.pm line 188.
t/06-index.t ........ ok
All tests successful.
Files=6, Tests=42, 4 wallclock secs ( 0.06 usr 0.01 sys + 3.25 cusr 0.40 csys = 3.72 CPU)
Result: PASS
------------------------------
PREREQUISITES
------------------------------
Prerequisite modules loaded:
requires:
Module Need Have
-------------------------- ------ --------
Carp 0 1.52
CPAN::DistnameInfo 0 0.12
File::Temp 0 0.2311
IO::Zlib 0 1.11
LWP::UserAgent 0 6.66
Moose 0 2.2201
MooseX::MarkAsMethods 0 0.15
MooseX::Types::Path::Class 0 0.09
MooseX::Types::URI 0 0.09
Path::Class 0 0.37
perl 5.006 5.036000
URI 0 5.10
URI::Escape 0 5.10
version 0 0.9929
build_requires:
Module Need Have
-------------------------- ------ --------
File::Find 0 1.40
FindBin 0 1.53
Module::Build 0.3601 0.4231
strict 0 1.12
Test::Exception 0 0.43
Test::More 0 1.302190
warnings 0 1.58
configure_requires:
Module Need Have
-------------------------- ------ --------
Module::Build 0.3601 0.4231
------------------------------
ENVIRONMENT AND OTHER CONTEXT
------------------------------
Environment variables:
AUTOMATED_TESTING = 1
LANG = en_US.UTF-8
PATH = /home/sand/bin:/usr/local/bin:/usr/local/sbin:/usr/sbin:/usr/bin:/sbin:/bin:/usr/games:/usr/local/games:/snap/bin:/usr/local/perl/bin:/usr/X11/bin
PERL5LIB = /tmp/loop_over_bdir-3467-cdeBuD/CORBA-Python-2.66-0/blib/arch:/tmp/loop_over_bdir-3467-cdeBuD/CORBA-Python-2.66-0/blib/lib:/tmp/loop_over_bdir-3467-cdeBuD/Devel-Required-0.16-0/blib/arch:/tmp/loop_over_bdir-3467-cdeBuD/Devel-Required-0.16-0/blib/lib:/tmp/loop_over_bdir-3467-cdeBuD/Dpkg-1.21.8-0/blib/arch:/tmp/loop_over_bdir-3467-cdeBuD/Dpkg-1.21.8-0/blib/lib:/tmp/loop_over_bdir-3467-cdeBuD/makepp-1.19-0/blib/arch:/tmp/loop_over_bdir-3467-cdeBuD/makepp-1.19-0/blib/lib:/tmp/loop_over_bdir-3467-cdeBuD/triceps-2.1.0-0/blib/arch:/tmp/loop_over_bdir-3467-cdeBuD/triceps-2.1.0-0/blib/lib:/tmp/loop_over_bdir-3467-cdeBuD/Lingua-YaTeA-0.626-0/blib/arch:/tmp/loop_over_bdir-3467-cdeBuD/Lingua-YaTeA-0.626-0/blib/lib
PERL5OPT =
PERL5_CPANPLUS_IS_RUNNING = 3475
PERL5_CPAN_IS_RUNNING = 3475
PERL_CANARY_STABILITY_NOPROMPT = 1
PERL_MM_USE_DEFAULT = 1
PERL_USE_UNSAFE_INC = 1
SHELL = /usr/bin/zsh
TERM = screen
Perl special variables (and OS-specific diagnostics, for MSWin32):
$^X = /tmp/basesmoker-reloperl-Pc5o/bin/perl
$UID/$EUID = 1005 / 1005
$GID = 1005 1005
$EGID = 1005 1005
Perl module toolchain versions installed:
Module Have
------------------- --------
CPAN 2.34
CPAN::Meta 2.150010
Cwd 3.84
ExtUtils::CBuilder 0.280236
ExtUtils::Command 7.64
ExtUtils::Install 2.20
ExtUtils::MakeMaker 7.64
ExtUtils::Manifest 1.73
ExtUtils::ParseXS 3.45
File::Spec 3.84
JSON 4.06
JSON::PP 4.09
Module::Build 0.4231
Module::Signature 0.88
Parse::CPAN::Meta 2.150010
Test::Harness 3.44
Test::More 1.302190
YAML 1.30
YAML::Syck 1.34
version 0.9929
--
Summary of my perl5 (revision 5 version 36 subversion 0) configuration:
Commit id: b3c502b607191da0e743a4fa34501a05442305b3
Platform:
osname=linux
osvers=5.4.0-113-generic
archname=x86_64-linux-ld
uname='linux k93focal 5.4.0-113-generic #127-ubuntu smp wed may 18 14:30:56 utc 2022 x86_64 x86_64 x86_64 gnulinux '
config_args='-Dprefix=/home/sand/src/perl/repoperls/installed-perls/host/k93focal/v5.36.0/d3e4 -Dmyhostname=k93focal -Dinstallusrbinperl=n -Uversiononly -Dusedevel -des -Ui_db -Dlibswanted=cl pthread socket inet nsl gdbm dbm malloc dl ld sun m crypt sec util c cposix posix ucb BSD gdbm_compat -Uuseithreads -Duselongdouble -DEBUGGING=both'
hint=recommended
useposix=true
d_sigaction=define
useithreads=undef
usemultiplicity=undef
use64bitint=define
use64bitall=define
uselongdouble=define
usemymalloc=n
default_inc_excludes_dot=define
Compiler:
cc='cc'
ccflags ='-fwrapv -DDEBUGGING -fno-strict-aliasing -pipe -fstack-protector-strong -I/usr/local/include -D_LARGEFILE_SOURCE -D_FILE_OFFSET_BITS=64'
optimize='-O2 -g'
cppflags='-fwrapv -DDEBUGGING -fno-strict-aliasing -pipe -fstack-protector-strong -I/usr/local/include'
ccversion=''
gccversion='9.4.0'
gccosandvers=''
intsize=4
longsize=8
ptrsize=8
doublesize=8
byteorder=12345678
doublekind=3
d_longlong=define
longlongsize=8
d_longdbl=define
longdblsize=16
longdblkind=3
ivtype='long'
ivsize=8
nvtype='long double'
nvsize=16
Off_t='off_t'
lseeksize=8
alignbytes=16
prototype=define
Linker and Libraries:
ld='cc'
ldflags =' -fstack-protector-strong -L/usr/local/lib'
libpth=/usr/local/lib /usr/lib/x86_64-linux-gnu /usr/lib /usr/lib64
libs=-lpthread -lnsl -ldl -lm -lcrypt -lutil -lc
perllibs=-lpthread -lnsl -ldl -lm -lcrypt -lutil -lc
libc=libc-2.31.so
so=so
useshrplib=false
libperl=libperl.a
gnulibc_version='2.31'
Dynamic Linking:
dlsrc=dl_dlopen.xs
dlext=so
d_dlsymun=undef
ccdlflags='-Wl,-E'
cccdlflags='-fPIC'
lddlflags='-shared -O2 -g -L/usr/local/lib -fstack-protector-strong'
Characteristics of this binary (from libperl):
Compile-time options:
DEBUGGING
HAS_TIMES
PERLIO_LAYERS
PERL_COPY_ON_WRITE
PERL_DONT_CREATE_GVSV
PERL_MALLOC_WRAP
PERL_OP_PARENT
PERL_PRESERVE_IVUV
PERL_USE_DEVEL
USE_64_BIT_ALL
USE_64_BIT_INT
USE_LARGE_FILES
USE_LOCALE
USE_LOCALE_COLLATE
USE_LOCALE_CTYPE
USE_LOCALE_NUMERIC
USE_LOCALE_TIME
USE_LONG_DOUBLE
USE_PERLIO
USE_PERL_ATOF
Built under linux
Compiled at Jun 6 2022 18:25:55
%ENV:
PERL5LIB="/tmp/loop_over_bdir-3467-cdeBuD/CORBA-Python-2.66-0/blib/arch:/tmp/loop_over_bdir-3467-cdeBuD/CORBA-Python-2.66-0/blib/lib:/tmp/loop_over_bdir-3467-cdeBuD/Devel-Required-0.16-0/blib/arch:/tmp/loop_over_bdir-3467-cdeBuD/Devel-Required-0.16-0/blib/lib:/tmp/loop_over_bdir-3467-cdeBuD/Dpkg-1.21.8-0/blib/arch:/tmp/loop_over_bdir-3467-cdeBuD/Dpkg-1.21.8-0/blib/lib:/tmp/loop_over_bdir-3467-cdeBuD/makepp-1.19-0/blib/arch:/tmp/loop_over_bdir-3467-cdeBuD/makepp-1.19-0/blib/lib:/tmp/loop_over_bdir-3467-cdeBuD/triceps-2.1.0-0/blib/arch:/tmp/loop_over_bdir-3467-cdeBuD/triceps-2.1.0-0/blib/lib:/tmp/loop_over_bdir-3467-cdeBuD/Lingua-YaTeA-0.626-0/blib/arch:/tmp/loop_over_bdir-3467-cdeBuD/Lingua-YaTeA-0.626-0/blib/lib"
PERL5OPT=""
PERL5_CPANPLUS_IS_RUNNING="3475"
PERL5_CPAN_IS_RUNNING="3475"
PERL_CANARY_STABILITY_NOPROMPT="1"
PERL_MM_USE_DEFAULT="1"
PERL_USE_UNSAFE_INC="1"
@INC:
/tmp/loop_over_bdir-3467-cdeBuD/CORBA-Python-2.66-0/blib/arch
/tmp/loop_over_bdir-3467-cdeBuD/CORBA-Python-2.66-0/blib/lib
/tmp/loop_over_bdir-3467-cdeBuD/Devel-Required-0.16-0/blib/arch
/tmp/loop_over_bdir-3467-cdeBuD/Devel-Required-0.16-0/blib/lib
/tmp/loop_over_bdir-3467-cdeBuD/Dpkg-1.21.8-0/blib/arch
/tmp/loop_over_bdir-3467-cdeBuD/Dpkg-1.21.8-0/blib/lib
/tmp/loop_over_bdir-3467-cdeBuD/makepp-1.19-0/blib/arch
/tmp/loop_over_bdir-3467-cdeBuD/makepp-1.19-0/blib/lib
/tmp/loop_over_bdir-3467-cdeBuD/triceps-2.1.0-0/blib/arch
/tmp/loop_over_bdir-3467-cdeBuD/triceps-2.1.0-0/blib/lib
/tmp/loop_over_bdir-3467-cdeBuD/Lingua-YaTeA-0.626-0/blib/arch
/tmp/loop_over_bdir-3467-cdeBuD/Lingua-YaTeA-0.626-0/blib/lib
/home/sand/src/perl/repoperls/installed-perls/host/k93focal/v5.36.0/d3e4/lib/site_perl/5.36.0/x86_64-linux-ld
/home/sand/src/perl/repoperls/installed-perls/host/k93focal/v5.36.0/d3e4/lib/site_perl/5.36.0
/home/sand/src/perl/repoperls/installed-perls/host/k93focal/v5.36.0/d3e4/lib/5.36.0/x86_64-linux-ld
/home/sand/src/perl/repoperls/installed-perls/host/k93focal/v5.36.0/d3e4/lib/5.36.0
.