Crypt-OpenSSL-PKCS10 v0.31 Perl 5 v5.22.0 i686-linux-64int-ld
- Status
- Pass
- From
- Chris Williams (BINGOS)
- Dist
-
Crypt-OpenSSL-PKCS10 v0.31
- Platform
- Perl 5 v5.22.0 i686-linux-64int-ld
- Date
- 2025-01-26 10:41:47
- ID
- 2472815c-dbd2-11ef-98b0-b3c3213a625c
This distribution has been tested as part of the CPAN Testers
project, supporting the Perl programming language. See
http://wiki.cpantesters.org/ for more information or email
questions to cpan-testers-discuss@perl.org
--
Dear TIMLEGGE,
This is a computer-generated error report created automatically by
CPANPLUS, version 0.9914. Testers personal comments may appear
at the end of this report.
Thank you for uploading your work to CPAN. Congratulations!
All tests were successful.
TEST RESULTS:
Below is the error stack from stage 'make test':
"/home/cpan/pit/64bit-ld/perl-5.22.0/bin/perl" -MExtUtils::Command::MM -e 'cp_nonempty' -- PKCS10.bs blib/arch/auto/Crypt/OpenSSL/PKCS10/PKCS10.bs 644
PERL_DL_NONLAZY=1 "/home/cpan/pit/64bit-ld/perl-5.22.0/bin/perl" "-MExtUtils::Command::MM" "-MTest::Harness" "-e" "undef *Test::Harness::Switches; test_harness(0, 'blib/lib', 'blib/arch')" t/*.t
# OpenSSL 3.0.11 19 Sep 2023 (Library: OpenSSL 3.0.11 19 Sep 2023)
t/00-openssl-version.t .. ok
t/10-rsa-keys.t ......... ok
t/20-ec.t ............... ok
t/30-ec-keys.t .......... ok
t/author-pod-spell.t .... skipped: these tests are for testing by the author
t/author-pod-syntax.t ... skipped: these tests are for testing by the author
-----BEGIN CERTIFICATE REQUEST-----
MIIBPzCBqQIBADAAMIGfMA0GCSqGSIb3DQEBAQUAA4GNADCBiQKBgQC5K9R3ZJAx
qFbz+9QUvTpVuWpU50GxZmD6amC1tZfZOGS1cJYcUNR2LWv+6hyfph8JHfx5ZuqP
KhjOvfFtErvqKy/dD9FtCrELIhYIPCp6CCgwZ8S5zfC9XGcpWWhCLTEHtxwK1JAR
bJPtIFUkIFdZov+05Q+2qU3f+WqGpqp12QIDAQABoAAwDQYJKoZIhvcNAQELBQAD
gYEAsNYJT+Hywwd6+gCiNgyVuMZbMKlSDUwZAlUTKHc+9D3Q3tmN5a4j/ajZM5Hx
j/t6bbuai/eLJ7AGzBcWMvWUL1jO6OATY8HXnscjR8sZKN0qLTlCKTjodjbKCDBy
qWlkoB/xsmKTplX58YMQ82IUwsG6zv21m1s588R4EqStkhg=
-----END CERTIFICATE REQUEST-----
-----BEGIN PRIVATE KEY-----
MIICdgIBADANBgkqhkiG9w0BAQEFAASCAmAwggJcAgEAAoGBALkr1HdkkDGoVvP7
1BS9OlW5alTnQbFmYPpqYLW1l9k4ZLVwlhxQ1HYta/7qHJ+mHwkd/Hlm6o8qGM69
8W0Su+orL90P0W0KsQsiFgg8KnoIKDBnxLnN8L1cZylZaEItMQe3HArUkBFsk+0g
VSQgV1mi/7TlD7apTd/5aoamqnXZAgMBAAECgYBeUmQ0uOX2VYCNYX6jXcxkNEFk
pDPDUJoflKZUiP6jaGVsQsBEBixjUjnLrKcN74mplDux/2mFqXTfgsOCwuMywrX5
1zokIckNlvR49y8EsJ5jj+GZglrZv2zMBsH9IboZAucnOSUrrHC+L4oCcNTSHdUs
EVW6ZLaII4bsXtSJ/QJBAPPd5j5xOtgcGbO4Nq31i4mJ/9JW3WOjNYJ5qZosDoNv
rC09p6xnNAOUxOSuPfXvk0CfCLEVlb3pT0Tqg5Kw2jsCQQDCYlUSHS9x9BeFV07+
NNcvVvCOhL2z9O1bqwwfqOG2E7JyTUoOKvW1CPvEuejdv5CvFYtetzES5OxIYV6D
J5r7AkBXbg7GBEJciHaOgFTaOVY1kUwuVQY6WqEsjgHITFNHvBm2foxGuxliz0tn
0TBVo/bfDCVJl7t/ws2wn4NcbBtRAkEAoBaH5XEv3/OdY22yWt190zkQyO89pPW0
fehzBaf6rA+wyT4qHVz4Gu6ZGz3ZMLdSGz/tFkZdHih3CG1Yfz+g/QJAU5ADGlow
TCCxkQh+7iv1VCMj6tmSOaHPisC2Jx+7lSZ2RdfFOCcBgnhd4DkESztfeujim52w
9aaTws8q4cVqEQ==
-----END PRIVATE KEY-----
Public-Key: (1024 bit)
Modulus:
00:b9:2b:d4:77:64:90:31:a8:56:f3:fb:d4:14:bd:
3a:55:b9:6a:54:e7:41:b1:66:60:fa:6a:60:b5:b5:
97:d9:38:64:b5:70:96:1c:50:d4:76:2d:6b:fe:ea:
1c:9f:a6:1f:09:1d:fc:79:66:ea:8f:2a:18:ce:bd:
f1:6d:12:bb:ea:2b:2f:dd:0f:d1:6d:0a:b1:0b:22:
16:08:3c:2a:7a:08:28:30:67:c4:b9:cd:f0:bd:5c:
67:29:59:68:42:2d:31:07:b7:1c:0a:d4:90:11:6c:
93:ed:20:55:24:20:57:59:a2:ff:b4:e5:0f:b6:a9:
4d:df:f9:6a:86:a6:aa:75:d9
Exponent: 65537 (0x10001)
-----BEGIN CERTIFICATE REQUEST-----
MIIBPzCBqQIBADAAMIGfMA0GCSqGSIb3DQEBAQUAA4GNADCBiQKBgQDFEIilU5jQ
VFXT2knK+nHry+OBY/a5GRhg+ZClN5yTzq9/x0U3V41IwYWVqPnjAiOA/BgoixhU
2td+ltFPVE4cmPwNUVd9qojDeZBtgjBuLvEIfXwAKpRBMU5oFrySDEZxU8B5/gdC
+b5YaYOrW7315S0JgRpNMOt2OCbRD0z/fQIDAQABoAAwDQYJKoZIhvcNAQELBQAD
gYEAe6tSb2r0FFYasFhh9MNNdctvo7ZqGQccPUPTxrdWbbFeIeRWIM2YA+Ay+SRz
42mMFbJVsI1GQns+J/XetaPtqLRdJsqnh8XwlA/2XOuMSFTK3nMUSQM4OchHpZOg
z3H+cAqBtEPLkZ1gOHp4Ye1whAwwak1N1EjJm4JwdMl2OJc=
-----END CERTIFICATE REQUEST-----
Public-Key: (1024 bit)
Modulus:
00:c5:10:88:a5:53:98:d0:54:55:d3:da:49:ca:fa:
71:eb:cb:e3:81:63:f6:b9:19:18:60:f9:90:a5:37:
9c:93:ce:af:7f:c7:45:37:57:8d:48:c1:85:95:a8:
f9:e3:02:23:80:fc:18:28:8b:18:54:da:d7:7e:96:
d1:4f:54:4e:1c:98:fc:0d:51:57:7d:aa:88:c3:79:
90:6d:82:30:6e:2e:f1:08:7d:7c:00:2a:94:41:31:
4e:68:16:bc:92:0c:46:71:53:c0:79:fe:07:42:f9:
be:58:69:83:ab:5b:bd:f5:e5:2d:09:81:1a:4d:30:
eb:76:38:26:d1:0f:4c:ff:7d
Exponent: 65537 (0x10001)
rsa
-----BEGIN PUBLIC KEY-----
MIGfMA0GCSqGSIb3DQEBAQUAA4GNADCBiQKBgQDFEIilU5jQVFXT2knK+nHry+OB
Y/a5GRhg+ZClN5yTzq9/x0U3V41IwYWVqPnjAiOA/BgoixhU2td+ltFPVE4cmPwN
UVd9qojDeZBtgjBuLvEIfXwAKpRBMU5oFrySDEZxU8B5/gdC+b5YaYOrW7315S0J
gRpNMOt2OCbRD0z/fQIDAQAB
-----END PUBLIC KEY-----
-----BEGIN CERTIFICATE REQUEST-----
MIIBPzCBqQIBADAAMIGfMA0GCSqGSIb3DQEBAQUAA4GNADCBiQKBgQDBnFi5A4Jx
9Xdc47ozS3ZMd8ZE9Uhdh8MF1xBZoyin7uiAC+oSaOuCGoVDgIAx6/wLt0yRbOY5
Ys5MlqWizTXd+VX6sOu0EPrOzw/JKvf+lkSPOic5sqUt6mm4C9izfFDFPDTvm/7r
BNZC4itNys9AzrE9OKjZJ6eaYljrUAwxSwIDAQABoAAwDQYJKoZIhvcNAQEMBQAD
gYEAnZodeHiO2E3oLNN+auJG8XrkqCHXpuVoNnpmXzcGjOjC6TV7yBBDGTuyD+bD
Gn9bDymDYWUAyYXDQYLlojjSu4zycmTwWB+FgCyttV7Sw5RctKYkgzURT6IW5pzZ
dDioXFEuUbcugSy7crIUf6hRgyT7Jp4Iu9rQQnEi++Acz10=
-----END CERTIFICATE REQUEST-----
Public-Key: (1024 bit)
Modulus:
00:c1:9c:58:b9:03:82:71:f5:77:5c:e3:ba:33:4b:
76:4c:77:c6:44:f5:48:5d:87:c3:05:d7:10:59:a3:
28:a7:ee:e8:80:0b:ea:12:68:eb:82:1a:85:43:80:
80:31:eb:fc:0b:b7:4c:91:6c:e6:39:62:ce:4c:96:
a5:a2:cd:35:dd:f9:55:fa:b0:eb:b4:10:fa:ce:cf:
0f:c9:2a:f7:fe:96:44:8f:3a:27:39:b2:a5:2d:ea:
69:b8:0b:d8:b3:7c:50:c5:3c:34:ef:9b:fe:eb:04:
d6:42:e2:2b:4d:ca:cf:40:ce:b1:3d:38:a8:d9:27:
a7:9a:62:58:eb:50:0c:31:4b
Exponent: 65537 (0x10001)
rsa
-----BEGIN PUBLIC KEY-----
MIGfMA0GCSqGSIb3DQEBAQUAA4GNADCBiQKBgQDBnFi5A4Jx9Xdc47ozS3ZMd8ZE
9Uhdh8MF1xBZoyin7uiAC+oSaOuCGoVDgIAx6/wLt0yRbOY5Ys5MlqWizTXd+VX6
sOu0EPrOzw/JKvf+lkSPOic5sqUt6mm4C9izfFDFPDTvm/7rBNZC4itNys9AzrE9
OKjZJ6eaYljrUAwxSwIDAQAB
-----END PUBLIC KEY-----
-----BEGIN CERTIFICATE REQUEST-----
MIICJzCCAZACAQAwKTELMAkGA1UEBhMCUk8xDDAKBgNVBAoMA1VUSTEMMAoGA1UE
CwwDc3NpMIGfMA0GCSqGSIb3DQEBAQUAA4GNADCBiQKBgQCjzHbbeCk2EQ7/vcEe
9VfOPq8bPEqocCcjCn5P089YXpMpl1IMxULCDoRA9SPdjlBoJ6pD+ZoPtQ4xuz5J
IMZvq+gX1tSfGRlkC6O7kxLymEknuwiekez9mY7GbCuVLf1jU+LtCQ9x/f2/WNU0
RxKhI2TJtZzCB1Dc7aikinJfZQIDAQABoIG9MIG6BgkqhkiG9w0BCQ4xgawwgakw
DgYDVR0PAQH/BAQDAgWgMC4GA1UdJQQnMCUGCCsGAQUFBwMBBglghkgBhvhCBAEG
CisGAQQBgjcKAwMGAisEMBwGA1UdEQQVMBOBEXN0ZXZlQG9wZW5zc2wub3JnMB0G
A1UdDgQWBBR/CdaeuJ6j5NnxF3fiK7NvNuAkpzAZBgMqAwMEEhYQTXkgbmV3IGV4
dGVuc2lvbjAPBgMqAwQECB4GAGEAYgBjMA0GCSqGSIb3DQEBCwUAA4GBADbxRDVU
xSWW2TtuE1p6GsVjMODXSdxwwYwZ+sRvQucSf9FymCl2Y4GxsXHu5UGP/HJ7qc3c
ztAZ0XioVDIb58IqLMnUdlOJIgS8JpYUtdq7bWtG3Bfes3naMBjHZiGLp9/hsdHz
xRh9RHOlsAKGTFz8hr4OOtNGL0QDL3/vD3tw
-----END CERTIFICATE REQUEST-----
Public-Key: (1024 bit)
Modulus:
00:a3:cc:76:db:78:29:36:11:0e:ff:bd:c1:1e:f5:
57:ce:3e:af:1b:3c:4a:a8:70:27:23:0a:7e:4f:d3:
cf:58:5e:93:29:97:52:0c:c5:42:c2:0e:84:40:f5:
23:dd:8e:50:68:27:aa:43:f9:9a:0f:b5:0e:31:bb:
3e:49:20:c6:6f:ab:e8:17:d6:d4:9f:19:19:64:0b:
a3:bb:93:12:f2:98:49:27:bb:08:9e:91:ec:fd:99:
8e:c6:6c:2b:95:2d:fd:63:53:e2:ed:09:0f:71:fd:
fd:bf:58:d5:34:47:12:a1:23:64:c9:b5:9c:c2:07:
50:dc:ed:a8:a4:8a:72:5f:65
Exponent: 65537 (0x10001)
-----BEGIN PUBLIC KEY-----
MIGfMA0GCSqGSIb3DQEBAQUAA4GNADCBiQKBgQCjzHbbeCk2EQ7/vcEe9VfOPq8b
PEqocCcjCn5P089YXpMpl1IMxULCDoRA9SPdjlBoJ6pD+ZoPtQ4xuz5JIMZvq+gX
1tSfGRlkC6O7kxLymEknuwiekez9mY7GbCuVLf1jU+LtCQ9x/f2/WNU0RxKhI2TJ
tZzCB1Dc7aikinJfZQIDAQAB
-----END PUBLIC KEY-----
t/Mytest.t .............. ok
t/release-kwalitee.t .... skipped: these tests are for release candidate testing
t/release-meta-json.t ... skipped: these tests are for release candidate testing
All tests successful.
Files=9, Tests=720, 60 wallclock secs ( 0.10 usr 0.01 sys + 58.52 cusr 0.71 csys = 59.34 CPU)
Result: PASS
PREREQUISITES:
Here is a list of prerequisites you specified and versions we
managed to load:
Module Name Have Want
Crypt::OpenSSL::Guess 0.15 0.11
Crypt::OpenSSL::RSA 0.33 0
Exporter 5.72 0
File::Slurper 0.014 0
File::Spec::Functions 3.75 0
File::Temp 0.2311 0
Import::Into 1.002005 0
Test::Lib 0.003 0
Test::More 1.302199 0
XSLoader 0.20 0
Perl module toolchain versions installed:
Module Name Have
CPANPLUS 0.9914
CPANPLUS::Dist::Build 0.90
Cwd 3.75
ExtUtils::CBuilder 0.280236
ExtUtils::Command 7.70
ExtUtils::Install 2.22
ExtUtils::MakeMaker 7.70
ExtUtils::Manifest 1.75
ExtUtils::ParseXS 3.51
File::Spec 3.75
Module::Build 0.4234
Pod::Parser 1.63
Pod::Simple 3.29
Test2 1.302199
Test::Harness 3.48
Test::More 1.302199
version 0.9932
******************************** NOTE ********************************
The comments above are created mechanically, possibly without manual
checking by the sender. As there are many people performing automatic
tests on each upload to CPAN, it is likely that you will receive
identical messages about the same problem.
If you believe that the message is mistaken, please reply to the first
one with correction and/or additional informations, and do not take
it personally. We appreciate your patience. :)
**********************************************************************
Additional comments:
This report was machine-generated by CPANPLUS::Dist::YACSmoke 1.08.
Powered by minismokebox version 0.68
CPANPLUS is prefering Build.PL
------------------------------
ENVIRONMENT AND OTHER CONTEXT
------------------------------
Environment variables:
AUTOMATED_TESTING = 1
LANG = en_GB.UTF-8
LANGUAGE = en_GB:en
NONINTERACTIVE_TESTING = 1
PATH = /usr/local/bin:/usr/bin:/bin:/usr/local/games:/usr/games
PERL5LIB = /home/cpan/pit/jail/3MNgV0o40K/lib/perl5:/home/cpan/pit/64bit-ld/conf/perl-5.22.0/.cpanplus/5.22.0/build/R3hMscncGH/Crypt-OpenSSL-PKCS10-0.31/blib/lib:/home/cpan/pit/64bit-ld/conf/perl-5.22.0/.cpanplus/5.22.0/build/R3hMscncGH/Crypt-OpenSSL-PKCS10-0.31/blib/arch
PERL5_CPANPLUS_IS_RUNNING = 31445
PERL5_CPANPLUS_IS_VERSION = 0.9914
PERL5_MINISMOKEBOX = 0.68
PERL5_YACSMOKE_BASE = /home/cpan/pit/64bit-ld/conf/perl-5.22.0
PERL_EXTUTILS_AUTOINSTALL = --defaultdeps
PERL_LOCAL_LIB_ROOT = /home/cpan/pit/jail/3MNgV0o40K
PERL_MB_OPT = --install_base "/home/cpan/pit/jail/3MNgV0o40K"
PERL_MM_OPT = INSTALL_BASE=/home/cpan/pit/jail/3MNgV0o40K
PERL_MM_USE_DEFAULT = 1
SHELL = /bin/bash
TERM = screen.xterm-256color
Perl special variables (and OS-specific diagnostics, for MSWin32):
Perl: $^X = /home/cpan/pit/64bit-ld/perl-5.22.0/bin/perl
UID: $< = 1001
EUID: $> = 1001
GID: $( = 1001 1001
EGID: $) = 1001 1001
-------------------------------
--
Summary of my perl5 (revision 5 version 22 subversion 0) configuration:
Platform:
osname=linux, osvers=5.10.0-12-686, archname=i686-linux-64int-ld
uname='linux dagobah 5.10.0-12-686 #1 smp debian 5.10.103-1 (2022-03-07) i686 gnulinux '
config_args='-des -Dprefix=/home/cpan/pit/64bit-ld/perl-5.22.0 -Duse64bitint -Duselongdouble'
hint=recommended, useposix=true, d_sigaction=define
useithreads=undef, usemultiplicity=undef
use64bitint=define, use64bitall=undef, uselongdouble=define
usemymalloc=n, bincompat5005=undef
Compiler:
cc='cc', ccflags ='-fwrapv -fno-strict-aliasing -pipe -fstack-protector-strong -I/usr/local/include -D_LARGEFILE_SOURCE -D_FILE_OFFSET_BITS=64 -D_FORTIFY_SOURCE=2',
optimize='-O2',
cppflags='-fwrapv -fno-strict-aliasing -pipe -fstack-protector-strong -I/usr/local/include'
ccversion='', gccversion='10.2.1 20210110', gccosandvers=''
intsize=4, longsize=4, ptrsize=4, doublesize=8, byteorder=12345678, doublekind=3
d_longlong=define, longlongsize=8, d_longdbl=define, longdblsize=12, longdblkind=3
ivtype='long long', ivsize=8, nvtype='long double', nvsize=12, Off_t='off_t', lseeksize=8
alignbytes=4, prototype=define
Linker and Libraries:
ld='cc', ldflags =' -fstack-protector-strong -L/usr/local/lib'
libpth=/usr/local/lib /usr/include/i386-linux-gnu /usr/lib /lib/i386-linux-gnu /lib/../lib /usr/lib/i386-linux-gnu /usr/lib/../lib /lib /lib64 /usr/lib64
libs=-lpthread -lnsl -lgdbm -ldl -lm -lcrypt -lutil -lc
perllibs=-lpthread -lnsl -ldl -lm -lcrypt -lutil -lc
libc=libc-2.31.so, so=so, useshrplib=false, libperl=libperl.a
gnulibc_version='2.31'
Dynamic Linking:
dlsrc=dl_dlopen.xs, dlext=so, d_dlsymun=undef, ccdlflags='-Wl,-E'
cccdlflags='-fPIC', lddlflags='-shared -O2 -L/usr/local/lib -fstack-protector-strong'
Characteristics of this binary (from libperl):
Compile-time options: HAS_TIMES PERLIO_LAYERS PERL_DONT_CREATE_GVSV
PERL_HASH_FUNC_ONE_AT_A_TIME_HARD PERL_MALLOC_WRAP
PERL_NEW_COPY_ON_WRITE PERL_PRESERVE_IVUV
USE_64_BIT_INT USE_LARGE_FILES USE_LOCALE
USE_LOCALE_COLLATE USE_LOCALE_CTYPE
USE_LOCALE_NUMERIC USE_LOCALE_TIME USE_LONG_DOUBLE
USE_PERLIO USE_PERL_ATOF
Locally applied patches:
Devel::PatchPerl 2.08
Built under linux
Compiled at Mar 20 2022 08:21:33
%ENV:
PERL5LIB="/home/cpan/pit/jail/3MNgV0o40K/lib/perl5:/home/cpan/pit/64bit-ld/conf/perl-5.22.0/.cpanplus/5.22.0/build/R3hMscncGH/Crypt-OpenSSL-PKCS10-0.31/blib/lib:/home/cpan/pit/64bit-ld/conf/perl-5.22.0/.cpanplus/5.22.0/build/R3hMscncGH/Crypt-OpenSSL-PKCS10-0.31/blib/arch"
PERL5_CPANPLUS_IS_RUNNING="31445"
PERL5_CPANPLUS_IS_VERSION="0.9914"
PERL5_MINISMOKEBOX="0.68"
PERL5_YACSMOKE_BASE="/home/cpan/pit/64bit-ld/conf/perl-5.22.0"
PERL_EXTUTILS_AUTOINSTALL="--defaultdeps"
PERL_LOCAL_LIB_ROOT="/home/cpan/pit/jail/3MNgV0o40K"
PERL_MB_OPT="--install_base "/home/cpan/pit/jail/3MNgV0o40K""
PERL_MM_OPT="INSTALL_BASE=/home/cpan/pit/jail/3MNgV0o40K"
PERL_MM_USE_DEFAULT="1"
@INC:
/home/cpan/pit/jail/3MNgV0o40K/lib/perl5/5.22.0/i686-linux-64int-ld
/home/cpan/pit/jail/3MNgV0o40K/lib/perl5/5.22.0
/home/cpan/pit/jail/3MNgV0o40K/lib/perl5/i686-linux-64int-ld
/home/cpan/pit/jail/3MNgV0o40K/lib/perl5
/home/cpan/pit/64bit-ld/conf/perl-5.22.0/.cpanplus/5.22.0/build/R3hMscncGH/Crypt-OpenSSL-PKCS10-0.31/blib/lib
/home/cpan/pit/64bit-ld/conf/perl-5.22.0/.cpanplus/5.22.0/build/R3hMscncGH/Crypt-OpenSSL-PKCS10-0.31/blib/arch
/home/cpan/pit/64bit-ld/perl-5.22.0/lib/site_perl/5.22.0/i686-linux-64int-ld
/home/cpan/pit/64bit-ld/perl-5.22.0/lib/site_perl/5.22.0
/home/cpan/pit/64bit-ld/perl-5.22.0/lib/5.22.0/i686-linux-64int-ld
/home/cpan/pit/64bit-ld/perl-5.22.0/lib/5.22.0
.