IPC-Run3 v0.049 Perl 5 v5.22.4 amd64-freebsd-multi
- Status
- Pass
- From
- Nigel Horne
- Dist
-
IPC-Run3 v0.049
- Platform
- Perl 5 v5.22.4 amd64-freebsd-multi
- Date
- 2025-05-01 20:02:00
- ID
- 247a9bae-26c7-11f0-ada6-a89fd5ed762d
This distribution has been tested as part of the CPAN Testers
project, supporting the Perl programming language. See
http://wiki.cpantesters.org/ for more information or email
questions to cpan-testers-discuss@perl.org
--
Dear Ricardo SIGNES :-),
This is a computer-generated report for IPC-Run3-0.049
on perl 5.22.4, created by CPAN-Reporter-1.2018.
Thank you for uploading your work to CPAN. Congratulations!
All tests were successful.
Sections of this report:
* Tester comments
* Program output
* Prerequisites
* Environment and other context
------------------------------
TESTER COMMENTS
------------------------------
Additional comments from tester:
none provided
------------------------------
PROGRAM OUTPUT
------------------------------
Output from '/usr/bin/make test':
PERL_DL_NONLAZY=1 "/usr/home/njh/perl5/perlbrew/perls/perl-5.22.4-multi/bin/perl5.22.4" "-MExtUtils::Command::MM" "-MTest::Harness" "-e" "undef *Test::Harness::Switches; test_harness(0, 'blib/lib', 'blib/arch')" t/*.t
t/die_handler.t ............... ok
t/fd_leak.t ................... ok
t/IPC-Run3-ProfArrayBuffer.t .. ok
t/IPC-Run3-profiling.t ........ ok
t/IPC-Run3-ProfLogger.t ....... ok
t/IPC-Run3-ProfLogReader.t .... ok
t/fork.t ...................... ok
t/IPC-Run3-ProfPP.t ........... ok
t/IPC-Run3-ProfReporter.t ..... ok
t/pod-coverage.t .............. skipped: not run unless RELEASE_TESTING
t/IPC-Run3.t .................. ok
t/pod.t ....................... skipped: not run unless RELEASE_TESTING
t/utf8.t ...................... ok
All tests successful.
Files=13, Tests=69, 1 wallclock secs ( 0.05 usr 0.02 sys + 0.66 cusr 0.26 csys = 0.98 CPU)
Result: PASS
------------------------------
PREREQUISITES
------------------------------
Prerequisite modules loaded:
requires:
Module Need Have
------------------- ---- --------
Test::More 0.31 1.302186
Time::HiRes 0 1.9726
build_requires:
Module Need Have
------------------- ---- --------
ExtUtils::MakeMaker 0 7.60
configure_requires:
Module Need Have
------------------- ---- --------
ExtUtils::MakeMaker 0 7.60
------------------------------
ENVIRONMENT AND OTHER CONTEXT
------------------------------
Environment variables:
HARNESS_OPTIONS = j2:c
LANG =
LDFLAGS =
LD_LIBRARY_PATH = /usr/local/lib:
PATH = /home/njh/perl5/perlbrew/bin:/home/njh/perl5/perlbrew/perls/perl-5.22.4-multi/bin:/sbin:/bin:/usr/sbin:/usr/bin:/usr/local/sbin:/usr/local/bin:/home/njh/bin
PERL5LIB =
PERL5OPT =
PERL5_CPANPLUS_IS_RUNNING = 16746
PERL5_CPAN_IS_RUNNING = 16746
PERLBREW_HOME = /home/njh/.perlbrew
PERLBREW_MANPATH = /home/njh/perl5/perlbrew/perls/perl-5.22.4-multi/man
PERLBREW_PATH = /home/njh/perl5/perlbrew/bin:/home/njh/perl5/perlbrew/perls/perl-5.22.4-multi/bin
PERLBREW_PERL = perl-5.22.4-multi
PERLBREW_ROOT = /home/njh/perl5/perlbrew
PERLBREW_SHELLRC_VERSION = 0.91
PERLBREW_VERSION = 0.91
PERL_USE_UNSAFE_INC = 1
SHELL = /usr/local/bin/bash
TERM = xterm-256color
TMPDIR = /tmp
Perl special variables (and OS-specific diagnostics, for MSWin32):
$^X = /usr/home/njh/perl5/perlbrew/perls/perl-5.22.4-multi/bin/perl5.22.4
$UID/$EUID = 1000 / 1000
$GID = 1000 1000 0
$EGID = 1000 1000 0
Perl module toolchain versions installed:
Module Have
------------------- ----------
CPAN 2.28
CPAN::Meta 2.150001
Cwd 3.75
ExtUtils::CBuilder 0.280221
ExtUtils::Command 7.60
ExtUtils::Install 2.22
ExtUtils::MakeMaker 7.60
ExtUtils::Manifest 1.70
ExtUtils::ParseXS 3.28
File::Spec 3.75
JSON n/a
JSON::PP 2.27300_01
Module::Build 0.4231
Module::Signature n/a
Parse::CPAN::Meta 1.4414_001
Test::Harness 3.35_01
Test::More 1.302186
YAML 1.30
YAML::Syck 1.34
version 0.9909
--
Summary of my perl5 (revision 5 version 22 subversion 4) configuration:
Platform:
osname=freebsd, osvers=12.2-release-p4, archname=amd64-freebsd-multi
uname='freebsd amber 12.2-release-p4 freebsd 12.2-release-p4 generic amd64 '
config_args='-de -Dprefix=/home/njh/perl5/perlbrew/perls/perl-5.22.4-multi -Dusedevel -Dusemultiplicity -Accflags=-O2 -W -Wformat=2 -Wswitch -Wshadow -Wwrite-strings -Wuninitialized -Wall -pipe -mtune=native -Aeval:scriptdir=/home/njh/perl5/perlbrew/perls/perl-5.22.4-multi/bin'
hint=recommended, useposix=true, d_sigaction=define
useithreads=undef, usemultiplicity=define
use64bitint=define, use64bitall=define, uselongdouble=undef
usemymalloc=n, bincompat5005=undef
Compiler:
cc='cc', ccflags ='-DHAS_FPSETMASK -DHAS_FLOATINGPOINT_H -O2 -W -Wformat=2 -Wswitch -Wshadow -Wwrite-strings -Wuninitialized -Wall -pipe -mtune=native -fno-strict-aliasing -fstack-protector-strong -I/usr/local/include',
optimize='-O2',
cppflags='-DHAS_FPSETMASK -DHAS_FLOATINGPOINT_H -O2 -W -Wformat=2 -Wswitch -Wshadow -Wwrite-strings -Wuninitialized -Wall -pipe -mtune=native -fno-strict-aliasing -fstack-protector-strong -I/usr/local/include'
ccversion='', gccversion='FreeBSD Clang 10.0.1 (git@github.com:llvm/llvm-project.git llvmorg-10.0.1-0-gef32c611aa2)', gccosandvers=''
intsize=4, longsize=8, ptrsize=8, doublesize=8, byteorder=12345678, doublekind=3
d_longlong=define, longlongsize=8, d_longdbl=define, longdblsize=16, longdblkind=3
ivtype='long', ivsize=8, nvtype='double', nvsize=8, Off_t='off_t', lseeksize=8
alignbytes=8, prototype=define
Linker and Libraries:
ld='cc', ldflags ='-Wl,-E -fstack-protector-strong -L/usr/local/lib'
libpth=/usr/lib /usr/local/lib /usr/lib/clang/10.0.1/lib /usr/lib
libs=-lpthread -lgdbm -ldl -lm -lcrypt -lutil -lc
perllibs=-lpthread -ldl -lm -lcrypt -lutil -lc
libc=, so=so, useshrplib=false, libperl=libperl.a
gnulibc_version=''
Dynamic Linking:
dlsrc=dl_dlopen.xs, dlext=so, d_dlsymun=undef, ccdlflags=' '
cccdlflags='-DPIC -fPIC', lddlflags='-shared -L/usr/local/lib -fstack-protector-strong'
Characteristics of this binary (from libperl):
Compile-time options: HAS_TIMES MULTIPLICITY PERLIO_LAYERS
PERL_DONT_CREATE_GVSV
PERL_HASH_FUNC_ONE_AT_A_TIME_HARD
PERL_IMPLICIT_CONTEXT PERL_MALLOC_WRAP
PERL_NEW_COPY_ON_WRITE PERL_PRESERVE_IVUV
PERL_USE_DEVEL USE_64_BIT_ALL USE_64_BIT_INT
USE_LARGE_FILES USE_LOCALE USE_LOCALE_COLLATE
USE_LOCALE_CTYPE USE_LOCALE_NUMERIC USE_LOCALE_TIME
USE_PERLIO USE_PERL_ATOF
Locally applied patches:
Devel::PatchPerl 2.08
Built under freebsd
Compiled at Mar 13 2021 10:04:00
%ENV:
PERL5LIB=""
PERL5OPT=""
PERL5_CPANPLUS_IS_RUNNING="16746"
PERL5_CPAN_IS_RUNNING="16746"
PERLBREW_HOME="/home/njh/.perlbrew"
PERLBREW_MANPATH="/home/njh/perl5/perlbrew/perls/perl-5.22.4-multi/man"
PERLBREW_PATH="/home/njh/perl5/perlbrew/bin:/home/njh/perl5/perlbrew/perls/perl-5.22.4-multi/bin"
PERLBREW_PERL="perl-5.22.4-multi"
PERLBREW_ROOT="/home/njh/perl5/perlbrew"
PERLBREW_SHELLRC_VERSION="0.91"
PERLBREW_VERSION="0.91"
PERL_USE_UNSAFE_INC="1"
@INC:
/home/njh/perl5/perlbrew/perls/perl-5.22.4-multi/lib/site_perl/5.22.4/amd64-freebsd-multi
/home/njh/perl5/perlbrew/perls/perl-5.22.4-multi/lib/site_perl/5.22.4
/home/njh/perl5/perlbrew/perls/perl-5.22.4-multi/lib/5.22.4/amd64-freebsd-multi
/home/njh/perl5/perlbrew/perls/perl-5.22.4-multi/lib/5.22.4
.