Back
From: metabase:user:5bbb2efa-715f-11e3-8cc1-b2993ff2e0c7
Subject: PASS Dist-Zilla-Role-FileWatcher-0.006 v5.23.1 GNU/Linux
Date: 2015-07-22T18:47:46Z
This distribution has been tested as part of the CPAN Testers
project, supporting the Perl programming language. See
http://wiki.cpantesters.org/ for more information or email
questions to cpan-testers-discuss@perl.org
--
Dear ETHER,
This is a computer-generated report for Dist-Zilla-Role-FileWatcher-0.006
on perl 5.23.1, created by App::cpanminus::reporter 0.13 (1.7001).
Thank you for uploading your work to CPAN. Congratulations!
All tests were successful.
Sections of this report:
* Tester comments
* Program output
* Prerequisites
* Environment and other context
------------------------------
TESTER COMMENTS
------------------------------
Additional comments from tester:
none provided
------------------------------
PROGRAM OUTPUT
------------------------------
Output from '':
Building and testing Dist-Zilla-Role-FileWatcher-0.006
cp lib/Dist/Zilla/Role/FileWatcher.pm blib/lib/Dist/Zilla/Role/FileWatcher.pm
cp lib/Dist/Zilla/Role/File/ChangeNotification.pm blib/lib/Dist/Zilla/Role/File/ChangeNotification.pm
#
# Versions for all modules listed in MYMETA.json (including optional ones):
#
# === Configure Requires ===
#
# Module Want Have
# ------------------- ----- -----
# Module::Build::Tiny 0.039 0.039
#
# === Test Requires ===
#
# Module Want Have
# ------------------------------- ---- --------
# Dist::Zilla::File::InMemory any 5.037
# Dist::Zilla::Role::FileGatherer any 5.037
# Dist::Zilla::Role::FileMunger any 5.037
# ExtUtils::MakeMaker any 7.04_01
# File::Spec any 3.56
# Module::Runtime any 0.014
# Moose any 2.1405
# Moose::Util::TypeConstraints any 2.1405
# Path::Tiny any 0.072
# Test::DZil any 5.037
# Test::Deep any 0.117
# Test::Fatal any 0.014
# Test::More 0.88 1.001014
# if any 0.0604
#
# === Test Recommends ===
#
# Module Want Have
# ---------- -------- --------
# CPAN::Meta 2.120900 2.150005
#
# === Runtime Requires ===
#
# Module Want Have
# -------------------- -------- --------
# Digest::MD5 any 2.54
# Dist::Zilla 4.300039 5.037
# Encode any 2.75
# Moose::Role any 2.1405
# Safe::Isa any 1.000005
# namespace::autoclean any 0.26
# strict any 1.09
# warnings any 1.33
#
# === Other Modules ===
#
# Module Have
# --------------------- --------
# CPAN::Meta::Validator 2.150005
# Pod::Coverage 0.23
#
t/00-report-prereqs.t .... ok
t/01-basic.t ............. ok
t/02-double-change.t ..... ok
t/03-default-callback.t .. ok
t/04-plugin-watch.t ...... ok
t/05-plugin-lock.t ....... ok
t/06-two-watchers.t ...... ok
t/zzz-check-breaks.t ..... ok
All tests successful.
Files=8, Tests=17, 9 wallclock secs ( 0.05 usr 0.01 sys + 8.45 cusr 0.43 csys = 8.94 CPU)
Result: PASS
------------------------------
PREREQUISITES
------------------------------
Prerequisite modules loaded:
No requirements found
------------------------------
ENVIRONMENT AND OTHER CONTEXT
------------------------------
Environment variables:
LANG = en_US.utf8
LC_COLLATE = C
LD_LIBRARY_PATH = /home/ollisg/opt/rust/1.0.0/lib
MANPATH_WITHOUT_PERLBREW = /home/ollisg/.perlbrew/libs/perl-5.22.0t@dev/man:/home/ollisg/.perlbrew/libs/perl-5.22.0t@dev/man:/home/ollisg/opt/rust/1.0.0/share/man:/home/ollisg/opt/clang/3.4.2/share/man:/home/ollisg/opt/clang/3.4/share/man:/usr/local/man:/usr/local/share/man:/usr/share/man
PATH = /home/ollisg/.perlbrew/libs/perl-5.23.1t@dev/bin:/home/ollisg/perl5/perlbrew/bin:/home/ollisg/perl5/perlbrew/perls/perl-5.23.1t/bin:/home/ollisg/opt/rust/1.0.0/bin:/home/ollisg/opt/sbt/bin:/home/ollisg/opt/scala/2.11.1/bin:/home/ollisg/opt/clang/3.6.1/bin:/home/ollisg/opt/clang/3.4.2/bin:/home/ollisg/opt/rust/1.0.0alpha/bin:/home/ollisg/bin:/home/ollisg/opt/rust/0.9/bin:/home/ollisg/opt/pkg-config/0.28/bin:/home/ollisg/opt/clang/3.4/bin:/usr/lib/ccache:/usr/local/bin:/usr/bin:/bin:/usr/bin/X11:/usr/games
PATH_WITHOUT_PERLBREW = /home/ollisg/opt/rust/1.0.0/bin:/home/ollisg/opt/sbt/bin:/home/ollisg/opt/scala/2.11.1/bin:/home/ollisg/opt/clang/3.6.1/bin:/home/ollisg/opt/clang/3.4.2/bin:/home/ollisg/opt/rust/1.0.0alpha/bin:/home/ollisg/bin:/home/ollisg/opt/rust/0.9/bin:/home/ollisg/opt/pkg-config/0.28/bin:/home/ollisg/opt/clang/3.4/bin:/usr/lib/ccache:/usr/local/bin:/usr/bin:/bin:/usr/bin/X11:/usr/games
PERL5LIB = /home/ollisg/.perlbrew/libs/perl-5.23.1t@dev/lib/perl5
PERLBREW_CSHRC_VERSION = 0.67
PERLBREW_HOME = /home/ollisg/.perlbrew
PERLBREW_LIB = dev
PERLBREW_MANPATH = /home/ollisg/.perlbrew/libs/perl-5.23.1t@dev/man:/home/ollisg/perl5/perlbrew/perls/perl-5.23.1t/man
PERLBREW_PATH = /home/ollisg/.perlbrew/libs/perl-5.23.1t@dev/bin:/home/ollisg/perl5/perlbrew/bin:/home/ollisg/perl5/perlbrew/perls/perl-5.23.1t/bin
PERLBREW_PERL = perl-5.23.1t
PERLBREW_ROOT = /home/ollisg/perl5/perlbrew
PERLBREW_VERSION = 0.67
PERL_CPANM_OPT = --mirror http://mirror.sydney.wdlabs.com/cpan/ --mirror-only
PERL_LOCAL_LIB_ROOT = /home/ollisg/.perlbrew/libs/perl-5.23.1t@dev
PERL_MB_OPT = --install_base /home/ollisg/.perlbrew/libs/perl-5.23.1t@dev
PERL_MM_OPT = INSTALL_BASE=/home/ollisg/.perlbrew/libs/perl-5.23.1t@dev
PERL_PKG_CONFIG_SCRIPTS = ppkg-config
SHELL = /bin/tcsh
TERM = xterm
Perl special variables (and OS-specific diagnostics, for MSWin32):
EGID = 1000 25 27 33 119 1000
EUID = 1000
EXECUTABLE_NAME = /home/ollisg/perl5/perlbrew/perls/perl-5.23.1t/bin/perl5.23.1
GID = 1000 25 27 33 119 1000
UID = 1000
Perl module toolchain versions installed:
Module Have
------------------- --------
CPAN 2.11
CPAN::Meta 2.150005
Cwd 3.56
ExtUtils::CBuilder 0.280223
ExtUtils::Command 1.20
ExtUtils::Install 2.04
ExtUtils::MakeMaker 7.04_01
ExtUtils::Manifest 1.70
ExtUtils::ParseXS 3.28
File::Spec 3.56
JSON 2.90
JSON::PP 2.27300
Module::Build 0.4214
Module::Signature n/a
Parse::CPAN::Meta 1.4417
Test::Harness 3.35
Test::More 1.001014
YAML 1.15
YAML::Syck n/a
version 0.9912
--
Summary of my perl5 (revision 5 version 23 subversion 1) configuration:
Platform:
osname=linux, osvers=3.2.0-4-amd64, archname=x86_64-linux-thread-multi
uname='linux twin 3.2.0-4-amd64 #1 smp debian 3.2.68-1 x86_64 gnulinux '
config_args='-de -Dprefix=/home/ollisg/perl5/perlbrew/perls/perl-5.23.1t -Dusedevel -Dman1dir=none -Dman3dir=none -Dcc=clang -Dusethreads -Aeval:scriptdir=/home/ollisg/perl5/perlbrew/perls/perl-5.23.1t/bin'
hint=recommended, useposix=true, d_sigaction=define
useithreads=define, usemultiplicity=define
use64bitint=define, use64bitall=define, uselongdouble=undef
usemymalloc=n, bincompat5005=undef
Compiler:
cc='clang', ccflags ='-D_REENTRANT -D_GNU_SOURCE -fno-strict-aliasing -pipe -fstack-protector-strong -I/usr/local/include -D_LARGEFILE_SOURCE -D_FILE_OFFSET_BITS=64 -D_FORTIFY_SOURCE=2',
optimize='-O2',
cppflags='-D_REENTRANT -D_GNU_SOURCE -fno-strict-aliasing -pipe -fstack-protector-strong -I/usr/local/include'
ccversion='', gccversion='4.2.1 Compatible Clang 3.6.1 (tags/RELEASE_361/final)', gccosandvers=''
intsize=4, longsize=8, ptrsize=8, doublesize=8, byteorder=12345678, doublekind=3
d_longlong=define, longlongsize=8, d_longdbl=define, longdblsize=16, longdblkind=3
ivtype='long', ivsize=8, nvtype='double', nvsize=8, Off_t='off_t', lseeksize=8
alignbytes=8, prototype=define
Linker and Libraries:
ld='clang', ldflags =' -fstack-protector-strong -L/usr/local/lib'
libpth=/usr/local/lib /usr/include/x86_64-linux-gnu /usr/lib /lib/x86_64-linux-gnu /lib/../lib /usr/lib/x86_64-linux-gnu /usr/lib/../lib /lib /lib64 /usr/lib64
libs=-lpthread -lnsl -ldb -ldl -lm -lcrypt -lutil -lc
perllibs=-lpthread -lnsl -ldl -lm -lcrypt -lutil -lc
libc=, so=so, useshrplib=false, libperl=libperl.a
gnulibc_version='2.13'
Dynamic Linking:
dlsrc=dl_dlopen.xs, dlext=so, d_dlsymun=undef, ccdlflags='-Wl,-E'
cccdlflags='-fPIC', lddlflags='-shared -O2 -L/usr/local/lib -fstack-protector-strong'
Characteristics of this binary (from libperl):
Compile-time options: HAS_TIMES MULTIPLICITY PERLIO_LAYERS
PERL_COPY_ON_WRITE PERL_DONT_CREATE_GVSV
PERL_HASH_FUNC_ONE_AT_A_TIME_HARD
PERL_IMPLICIT_CONTEXT PERL_MALLOC_WRAP
PERL_PRESERVE_IVUV PERL_USE_DEVEL USE_64_BIT_ALL
USE_64_BIT_INT USE_ITHREADS USE_LARGE_FILES
USE_LOCALE USE_LOCALE_COLLATE USE_LOCALE_CTYPE
USE_LOCALE_NUMERIC USE_LOCALE_TIME USE_PERLIO
USE_PERL_ATOF USE_REENTRANT_API
Built under linux
Compiled at Jul 20 2015 18:44:43
%ENV:
PERL5LIB="/home/ollisg/.perlbrew/libs/perl-5.23.1t@dev/lib/perl5"
PERLBREW_CSHRC_VERSION="0.67"
PERLBREW_HOME="/home/ollisg/.perlbrew"
PERLBREW_LIB="dev"
PERLBREW_MANPATH="/home/ollisg/.perlbrew/libs/perl-5.23.1t@dev/man:/home/ollisg/perl5/perlbrew/perls/perl-5.23.1t/man"
PERLBREW_PATH="/home/ollisg/.perlbrew/libs/perl-5.23.1t@dev/bin:/home/ollisg/perl5/perlbrew/bin:/home/ollisg/perl5/perlbrew/perls/perl-5.23.1t/bin"
PERLBREW_PERL="perl-5.23.1t"
PERLBREW_ROOT="/home/ollisg/perl5/perlbrew"
PERLBREW_VERSION="0.67"
PERL_CPANM_OPT="--mirror http://mirror.sydney.wdlabs.com/cpan/ --mirror-only"
PERL_LOCAL_LIB_ROOT="/home/ollisg/.perlbrew/libs/perl-5.23.1t@dev"
PERL_MB_OPT="--install_base /home/ollisg/.perlbrew/libs/perl-5.23.1t@dev"
PERL_MM_OPT="INSTALL_BASE=/home/ollisg/.perlbrew/libs/perl-5.23.1t@dev"
PERL_PKG_CONFIG_SCRIPTS="ppkg-config"
@INC:
/home/ollisg/.perlbrew/libs/perl-5.23.1t@dev/lib/perl5/x86_64-linux-thread-multi
/home/ollisg/.perlbrew/libs/perl-5.23.1t@dev/lib/perl5
/home/ollisg/perl5/perlbrew/perls/perl-5.23.1t/lib/site_perl/5.23.1/x86_64-linux-thread-multi
/home/ollisg/perl5/perlbrew/perls/perl-5.23.1t/lib/site_perl/5.23.1
/home/ollisg/perl5/perlbrew/perls/perl-5.23.1t/lib/5.23.1/x86_64-linux-thread-multi
/home/ollisg/perl5/perlbrew/perls/perl-5.23.1t/lib/5.23.1
.