Test-Script v1.29 Perl 5 v5.36.0 darwin-2level
- Status
- Pass
- From
- Nigel Horne
- Dist
-
Test-Script v1.29
- Platform
- Perl 5 v5.36.0 darwin-2level
- Date
- 2022-06-15 12:39:05
- ID
- 24b2657c-eca8-11ec-a23d-c2ad57aba30b
This distribution has been tested as part of the CPAN Testers
project, supporting the Perl programming language. See
http://wiki.cpantesters.org/ for more information or email
questions to cpan-testers-discuss@perl.org
--
Dear Graham Ollis,
This is a computer-generated report for Test-Script-1.29
on perl 5.36.0, created by CPAN-Reporter-1.2018.
Thank you for uploading your work to CPAN. Congratulations!
All tests were successful.
Sections of this report:
* Tester comments
* Program output
* Prerequisites
* Environment and other context
------------------------------
TESTER COMMENTS
------------------------------
Additional comments from tester:
this report is from an automated smoke testing program
and was not reviewed by a human for accuracy
------------------------------
PROGRAM OUTPUT
------------------------------
Output from '/usr/bin/make test':
PERL_DL_NONLAZY=1 "/Users/nhorne/perl5/perlbrew/perls/perl-5.36.0/bin/perl" "-MExtUtils::Command::MM" "-MTest::Harness" "-e" "undef *Test::Harness::Switches; test_harness(0, 'blib/lib', 'blib/arch')" t/*.t
#
#
#
# HARNESS_ACTIVE=1
# HARNESS_OPTIONS=
# HARNESS_VERSION=3.44
# LANG=en_US.UTF-8
# LC_TERMINAL=iTerm2
# LC_TERMINAL_VERSION=3.4.15
# PERL5LIB=/Users/nhorne/.cpan/build/Test-Script-1.29-1/blib/lib:/Users/nhorne/.cpan/build/Test-Script-1.29-1/blib/arch:
# PERL5OPT=
# PERL5_CPANPLUS_IS_RUNNING=48589
# PERL5_CPAN_IS_RUNNING=48589
# PERLBREW_HOME=/Users/nhorne/.perlbrew
# PERLBREW_LIB=
# PERLBREW_MANPATH=/Users/nhorne/perl5/perlbrew/perls/perl-5.36.0/man
# PERLBREW_PATH=/Users/nhorne/perl5/perlbrew/bin:/Users/nhorne/perl5/perlbrew/perls/perl-5.36.0/bin
# PERLBREW_PERL=perl-5.36.0
# PERLBREW_ROOT=/Users/nhorne/perl5/perlbrew
# PERLBREW_SHELLRC_VERSION=0.95
# PERLBREW_VERSION=0.95
# PERL_DL_NONLAZY=1
# PERL_LOCAL_LIB_ROOT=
# PERL_MM_USE_DEFAULT=1
# PERL_USE_UNSAFE_INC=1
# SHELL=/bin/bash
#
#
#
# PERL5LIB path
# /Users/nhorne/.cpan/build/Test-Script-1.29-1/blib/lib
# /Users/nhorne/.cpan/build/Test-Script-1.29-1/blib/arch
#
#
#
# perl 5.036000 darwin darwin-2level
# Capture::Tiny 0.48
# ExtUtils::MakeMaker 7.64
# File::Spec 3.84
# IO::Handle 1.48
# Probe::Perl 0.03
# Test2::API 1.302190
# Test2::V0 0.000145
# Text::ParseWords 3.31
#
#
#
t/01_use.t ........................ ok
t/00_diag.t ....................... ok
t/test_script__import.t ........... ok
t/bug_gh9.t ....................... ok
t/test_script__exports.t .......... ok
t/test_script__fails.t ............ ok
t/test_script__program_stderr.t ... ok
t/test_script__program_stdout.t ... ok
t/test_script__script_stderr.t .... ok
t/test_script__program_runs.t ..... ok
t/test_script__script_stdout.t .... ok
t/test_script__script_compiles.t .. ok
t/test_script__script_runs.t ...... ok
All tests successful.
Files=13, Tests=91, 1 wallclock secs ( 0.06 usr 0.03 sys + 1.98 cusr 0.89 csys = 2.96 CPU)
Result: PASS
------------------------------
PREREQUISITES
------------------------------
Prerequisite modules loaded:
requires:
Module Need Have
------------------- -------- --------
Capture::Tiny 0 0.48
File::Spec 0.80 3.84
IO::Handle 0 1.48
perl 5.008001 5.036000
Probe::Perl 0.01 0.03
Test2::API 1.302015 1.302190
Text::ParseWords 0 3.31
build_requires:
Module Need Have
------------------- -------- --------
ExtUtils::MakeMaker 0 7.64
Test2::V0 0.000060 0.000145
configure_requires:
Module Need Have
------------------- -------- --------
ExtUtils::MakeMaker 0 7.64
perl 5.008001 5.036000
------------------------------
ENVIRONMENT AND OTHER CONTEXT
------------------------------
Environment variables:
AUTOMATED_TESTING = 1
HARNESS_OPTIONS = j6:c
LANG = en_US.UTF-8
LC_TERMINAL = iTerm2
LC_TERMINAL_VERSION = 3.4.15
LDFLAGS = -L/usr/local/opt/openssl@1.1/lib:/usr/local/opt/python@3.8/lib
NONINTERACTIVE_TESTING = 1
PATH = /Users/nhorne/perl5/perlbrew/bin:/Users/nhorne/perl5/perlbrew/perls/perl-5.36.0/bin:/Users/nhorne/perl5/perlbrew/bin:/Users/nhorne/perl5/perlbrew/perls/perl-5.36.0/bin:/Users/nhorne/bin:/usr/local/opt/openssl@1.1/bin:/usr/local/opt/python@3.8/bin:/usr/local/bin:/usr/bin:/bin:/usr/sbin:/sbin:/Library/Apple/usr/bin
PERL5LIB =
PERL5OPT =
PERL5_CPANPLUS_IS_RUNNING = 48589
PERL5_CPAN_IS_RUNNING = 48589
PERLBREW_HOME = /Users/nhorne/.perlbrew
PERLBREW_LIB =
PERLBREW_MANPATH = /Users/nhorne/perl5/perlbrew/perls/perl-5.36.0/man
PERLBREW_PATH = /Users/nhorne/perl5/perlbrew/bin:/Users/nhorne/perl5/perlbrew/perls/perl-5.36.0/bin
PERLBREW_PERL = perl-5.36.0
PERLBREW_ROOT = /Users/nhorne/perl5/perlbrew
PERLBREW_SHELLRC_VERSION = 0.95
PERLBREW_VERSION = 0.95
PERL_LOCAL_LIB_ROOT =
PERL_MM_USE_DEFAULT = 1
PERL_USE_UNSAFE_INC = 1
SHELL = /bin/bash
TERM = xterm-256color
TMPDIR = /var/folders/rb/cnysxwf16zq1n94dyy56v2q00000gp/T/
Perl special variables (and OS-specific diagnostics, for MSWin32):
$^X = /Users/nhorne/perl5/perlbrew/perls/perl-5.36.0/bin/perl
$UID/$EUID = 502 / 502
$GID = 20 20 12 61 79 80 81 98 702 701 33 100 204 250 395 398 399
$EGID = 20 20 12 61 79 80 81 98 702 701 33 100 204 250 395 398 399
Perl module toolchain versions installed:
Module Have
------------------- --------
CPAN 2.34
CPAN::Meta 2.150010
Cwd 3.84
ExtUtils::CBuilder 0.280236
ExtUtils::Command 7.64
ExtUtils::Install 2.20
ExtUtils::MakeMaker 7.64
ExtUtils::Manifest 1.73
ExtUtils::ParseXS 3.45
File::Spec 3.84
JSON 4.06
JSON::PP 4.09
Module::Build 0.4231
Module::Signature n/a
Parse::CPAN::Meta 2.150010
Test::Harness 3.44
Test::More 1.302190
YAML 1.30
YAML::Syck 1.34
version 0.9929
--
Summary of my perl5 (revision 5 version 36 subversion 0) configuration:
Platform:
osname=darwin
osvers=20.6.0
archname=darwin-2level
uname='darwin gslal0320030003 20.6.0 darwin kernel version 20.6.0: tue apr 19 21:04:45 pdt 2022; root:xnu-7195.141.29~1release_x86_64 x86_64 '
config_args='-de -Dprefix=/Users/nhorne/perl5/perlbrew/perls/perl-5.36.0 -Aeval:scriptdir=/Users/nhorne/perl5/perlbrew/perls/perl-5.36.0/bin'
hint=recommended
useposix=true
d_sigaction=define
useithreads=undef
usemultiplicity=undef
use64bitint=define
use64bitall=define
uselongdouble=undef
usemymalloc=n
default_inc_excludes_dot=define
Compiler:
cc='cc'
ccflags ='-fno-common -DPERL_DARWIN -mmacosx-version-min=11.6 -fno-strict-aliasing -pipe -fstack-protector-strong -I/usr/local/include -DPERL_USE_SAFE_PUTENV'
optimize='-O3'
cppflags='-fno-common -DPERL_DARWIN -mmacosx-version-min=11.6 -fno-strict-aliasing -pipe -fstack-protector-strong -I/usr/local/include'
ccversion=''
gccversion='Apple LLVM 12.0.0 (clang-1200.0.32.27)'
gccosandvers=''
intsize=4
longsize=8
ptrsize=8
doublesize=8
byteorder=12345678
doublekind=3
d_longlong=define
longlongsize=8
d_longdbl=define
longdblsize=16
longdblkind=3
ivtype='long'
ivsize=8
nvtype='double'
nvsize=8
Off_t='off_t'
lseeksize=8
alignbytes=8
prototype=define
Linker and Libraries:
ld='cc'
ldflags =' -mmacosx-version-min=11.6 -fstack-protector-strong -L/usr/local/lib'
libpth=/usr/local/lib /Library/Developer/CommandLineTools/usr/lib/clang/12.0.0/lib /Library/Developer/CommandLineTools/SDKs/MacOSX.sdk/usr/lib /Library/Developer/CommandLineTools/usr/lib /usr/lib
libs=-lgdbm
perllibs=
libc=
so=dylib
useshrplib=false
libperl=libperl.a
gnulibc_version=''
Dynamic Linking:
dlsrc=dl_dlopen.xs
dlext=bundle
d_dlsymun=undef
ccdlflags=' '
cccdlflags=' '
lddlflags=' -mmacosx-version-min=11.6 -bundle -undefined dynamic_lookup -L/usr/local/lib -fstack-protector-strong'
Characteristics of this binary (from libperl):
Compile-time options:
HAS_TIMES
PERLIO_LAYERS
PERL_COPY_ON_WRITE
PERL_DONT_CREATE_GVSV
PERL_MALLOC_WRAP
PERL_OP_PARENT
PERL_PRESERVE_IVUV
PERL_USE_SAFE_PUTENV
USE_64_BIT_ALL
USE_64_BIT_INT
USE_LARGE_FILES
USE_LOCALE
USE_LOCALE_COLLATE
USE_LOCALE_CTYPE
USE_LOCALE_NUMERIC
USE_LOCALE_TIME
USE_PERLIO
USE_PERL_ATOF
Built under darwin
Compiled at May 31 2022 11:10:13
%ENV:
PERL5LIB=""
PERL5OPT=""
PERL5_CPANPLUS_IS_RUNNING="48589"
PERL5_CPAN_IS_RUNNING="48589"
PERLBREW_HOME="/Users/nhorne/.perlbrew"
PERLBREW_LIB=""
PERLBREW_MANPATH="/Users/nhorne/perl5/perlbrew/perls/perl-5.36.0/man"
PERLBREW_PATH="/Users/nhorne/perl5/perlbrew/bin:/Users/nhorne/perl5/perlbrew/perls/perl-5.36.0/bin"
PERLBREW_PERL="perl-5.36.0"
PERLBREW_ROOT="/Users/nhorne/perl5/perlbrew"
PERLBREW_SHELLRC_VERSION="0.95"
PERLBREW_VERSION="0.95"
PERL_LOCAL_LIB_ROOT=""
PERL_MM_USE_DEFAULT="1"
PERL_USE_UNSAFE_INC="1"
@INC:
/Users/nhorne/perl5/perlbrew/perls/perl-5.36.0/lib/site_perl/5.36.0/darwin-2level
/Users/nhorne/perl5/perlbrew/perls/perl-5.36.0/lib/site_perl/5.36.0
/Users/nhorne/perl5/perlbrew/perls/perl-5.36.0/lib/5.36.0/darwin-2level
/Users/nhorne/perl5/perlbrew/perls/perl-5.36.0/lib/5.36.0
.