Report for XSLoader-0.15

Back
From: metabase:user:30f4dfbe-2aae-11df-837a-5e0a49663a4f
Subject: PASS XSLoader-0.15 v5.10.1 Haiku
Date: 2011-09-03T03:16:41Z

This distribution has been tested as part of the CPAN Testers
project, supporting the Perl programming language.  See
http://wiki.cpantesters.org/ for more information or email
questions to cpan-testers-discuss@perl.org


--
Dear Sebastien Aperghis-Tramoni,

This is a computer-generated report for XSLoader-0.15
on perl 5.10.1, created by CPAN-Reporter-1.1902.

Thank you for uploading your work to CPAN.  Congratulations!
All tests were successful.

Sections of this report:

    * Tester comments
    * Program output
    * Prerequisites
    * Environment and other context

------------------------------
TESTER COMMENTS
------------------------------

Additional comments from tester:

none provided

------------------------------
PROGRAM OUTPUT
------------------------------

Output from '/bin/make test':

/boot/common/bin/perl "-MExtUtils::Command::MM" "-e" "test_harness(0, 'blib/lib', 'blib/arch')" t/*.t
# testing XSLoader v0.15 under Perl 5.010001
t/00-load.t ... ok
t/01-api.t .... ok
t/distchk.t ... skipped: Test::Distribution required for checking distribution
t/pod.t ....... ok
t/podcover.t .. ok
t/portfs.t .... ok
t/XSLoader.t .. ok
All tests successful.
Files=7, Tests=28,  4 wallclock secs ( 0.12 usr  0.73 sys +  0.80 cusr  1.83 csys =  3.49 CPU)
Result: PASS

------------------------------
PREREQUISITES
------------------------------

Prerequisite modules loaded:

requires:

    Module              Need Have
    ------------------- ---- ----
    Test::More          0.62 0.98

build_requires:

    Module              Need Have
    ------------------- ---- ----
    ExtUtils::MakeMaker 0    6.59

configure_requires:

    Module              Need Have
    ------------------- ---- ----
    ExtUtils::MakeMaker 0    6.59


------------------------------
ENVIRONMENT AND OTHER CONTEXT
------------------------------

Environment variables:

    LANG = 
    PATH = /boot/home/perl5/perlbrew/bin:.:/boot/home/config/bin:/boot/common/bin:/bin:/boot/apps:/boot/preferences:/boot/system/apps:/boot/system/preferences:/boot/develop/tools/gnupro/bin:/usr/perl5/bin
    PATH_WITHOUT_PERLBREW = .:/boot/home/config/bin:/boot/common/bin:/bin:/boot/apps:/boot/preferences:/boot/system/apps:/boot/system/preferences:/boot/develop/tools/gnupro/bin
    PERL5LIB = 
    PERL5OPT = 
    PERL5_CPANPLUS_IS_RUNNING = 200
    PERL5_CPAN_IS_RUNNING = 200
    PERLBREW_HOME = /boot/home/.perlbrew
    PERLBREW_PATH = /boot/home/perl5/perlbrew/bin
    PERLBREW_ROOT = /boot/home/perl5/perlbrew
    PERLBREW_VERSION = 0.27
    SHELL = /bin/bash
    TERM = xterm

Perl special variables (and OS-specific diagnostics, for MSWin32):

    $^X = /boot/common/bin/perl
    $UID/$EUID = 0 / 0
    $GID = 0 0
    $EGID = 0 0

Perl module toolchain versions installed:

    Module              Have    
    ------------------- --------
    CPAN                1.9800  
    Cwd                 3.30    
    ExtUtils::CBuilder  0.280202
    ExtUtils::Command   1.17    
    ExtUtils::Install   1.54    
    ExtUtils::MakeMaker 6.59    
    ExtUtils::Manifest  1.60    
    ExtUtils::ParseXS   3.04    
    File::Spec          3.33    
    Module::Build       0.3800  
    Module::Signature   n/a     
    Test::Harness       3.23    
    Test::More          0.98    
    YAML                0.73    
    YAML::Syck          1.17    
    version             0.88    


--

Summary of my perl5 (revision 5 version 10 subversion 1) configuration:
   
  Platform:
    osname=haiku, osvers=1, archname=BePC-haiku
    uname='haiku shredder 1 r36447 apr 24 2010 08:48:06 bepc haiku '
    config_args='-Dcf_email=zooey@hirschkaefer.de -Uusenm -de'
    hint=recommended, useposix=true, d_sigaction=define
    useithreads=undef, usemultiplicity=undef
    useperlio=define, d_sfio=undef, uselargefiles=define, usesocks=undef
    use64bitint=undef, use64bitall=undef, uselongdouble=undef
    usemymalloc=n, bincompat5005=undef
  Compiler:
    cc='gcc', ccflags ='-fno-strict-aliasing -pipe',
    optimize='-O',
    cppflags='-fno-strict-aliasing -pipe'
    ccversion='', gccversion='2.95.3-haiku-100420', gccosandvers=''
    intsize=4, longsize=4, ptrsize=4, doublesize=8, byteorder=1234
    d_longlong=define, longlongsize=8, d_longdbl=define, longdblsize=12
    ivtype='long', ivsize=4, nvtype='double', nvsize=8, Off_t='off_t', lseeksize=8
    alignbytes=4, prototype=define
  Linker and Libraries:
    ld='gcc', ldflags =''
    libpth=/boot/home/config/lib /boot/common/lib /system/lib
    libs=-lnetwork
    perllibs=-lnetwork
    libc=/system/lib/libroot.so, so=so, useshrplib=true, libperl=libperl.so
    gnulibc_version=''
  Dynamic Linking:
    dlsrc=dl_dlopen.xs, dlext=so, d_dlsymun=undef, ccdlflags=' '
    cccdlflags='-fpic', lddlflags='-shared'


Characteristics of this binary (from libperl): 
  Compile-time options: PERL_DONT_CREATE_GVSV USE_LARGE_FILES USE_PERLIO
  Built under haiku
  Compiled at Apr 25 2010 03:20:45
  %ENV:
    PERL5LIB=""
    PERL5OPT=""
    PERL5_CPANPLUS_IS_RUNNING="200"
    PERL5_CPAN_IS_RUNNING="200"
    PERLBREW_HOME="/boot/home/.perlbrew"
    PERLBREW_PATH="/boot/home/perl5/perlbrew/bin"
    PERLBREW_ROOT="/boot/home/perl5/perlbrew"
    PERLBREW_VERSION="0.27"
  @INC:
    /boot/common/lib/perl5/5.10.1/BePC-haiku
    /boot/common/lib/perl5/5.10.1
    /boot/common/lib/perl5/site_perl/5.10.1/BePC-haiku
    /boot/common/lib/perl5/site_perl/5.10.1
    .