Back
From: metabase:user:15c6debe-b638-11e6-8ec8-f42bcddd27ba
Subject: PASS autodie-2.29 v5.20.3 OpenBSD
Date: 2016-12-05T23:25:44Z
This distribution has been tested as part of the CPAN Testers
project, supporting the Perl programming language. See
http://wiki.cpantesters.org/ for more information or email
questions to cpan-testers-discuss@perl.org
--
Dear Paul Jamieson Fenwick,
This is a computer-generated report for autodie-2.29
on perl 5.20.3, created by CPAN-Reporter-1.2018.
Thank you for uploading your work to CPAN. Congratulations!
All tests were successful.
Sections of this report:
* Tester comments
* Program output
* Prerequisites
* Environment and other context
------------------------------
TESTER COMMENTS
------------------------------
Additional comments from tester:
this report is from an automated smoke testing program
and was not reviewed by a human for accuracy
------------------------------
PROGRAM OUTPUT
------------------------------
Output from '/usr/bin/make test':
PERL_DL_NONLAZY=1 /usr/bin/perl "-MExtUtils::Command::MM" "-MTest::Harness" "-e" "undef *Test::Harness::Switches; test_harness(0, 'blib/lib', 'blib/arch')" t/*.t
t/00-load.t ...................... ok
t/args.t ......................... ok
t/author-critic.t ................ skipped: these tests are for testing by the author
t/autodie.t ...................... ok
t/backcompat.t ................... ok
t/basic_exceptions.t ............. ok
t/binmode.t ...................... ok
t/blog_hints.t ................... ok
t/caller.t ....................... ok
t/chmod.t ........................ ok
t/chown.t ........................ ok
t/context.t ...................... ok
t/context_lexical.t .............. ok
t/core-trampoline-slurp.t ........ ok
t/crickey.t ...................... ok
t/critic.t ....................... skipped: Author test. Set $ENV{AUTHOR_TESTING} to true to run.
t/dbmopen.t ...................... ok
t/eval_error.t ................... ok
t/exception_class.t .............. ok
t/exceptions.t ................... ok
t/exec.t ......................... ok
t/Fatal.t ........................ ok
t/filehandles.t .................. ok
t/fileno.t ....................... ok
t/flock.t ........................ ok
t/fork.t ......................... skipped: BSD::Resource required to test fork()
t/format-clobber.t ............... ok
# Sub::Identify is not loaded
t/hints.t ........................ ok
t/hints_insist.t ................. ok
t/hints_pod_examples.t ........... ok
t/hints_provider_does.t .......... ok
t/hints_provider_easy_does_it.t .. ok
t/hints_provider_isa.t ........... ok
t/import-into.t .................. skipped: Test needs Import::Into >= 1.002004
t/internal-backcompat.t .......... ok
t/internal.t ..................... ok
t/kill.t ......................... ok
t/kwalitee.t ..................... skipped: Author test. Set $ENV{RELEASE_TESTING} to true to run.
t/lethal.t ....................... ok
t/lex58.t ........................ skipped: IPC::System::Simple required
t/mkdir.t ........................ ok
t/no_carp.t ...................... ok
t/open.t ......................... ok
t/pod-coverage.t ................. skipped: Author test. Set $ENV{AUTHOR_TESTING} to true to run.
t/pod.t .......................... skipped: Author test. Set $ENV{AUTHOR_TESTING} to true to run.
t/read.t ......................... ok
t/recv.t ......................... ok
t/release-pod-coverage.t ......... skipped: these tests are for release candidate testing
t/release-pod-syntax.t ........... skipped: these tests are for release candidate testing
t/repeat.t ....................... ok
t/rt-74246.t ..................... ok
t/scope_leak.t ................... ok
t/skip.t ......................... ok
t/socket.t ....................... skipped: Author test. Set $ENV{AUTHOR_TESTING} to true to run.
t/string-eval-basic.t ............ ok
t/string-eval-leak.t ............. ok
t/sysopen.t ...................... ok
t/system.t ....................... skipped: IPC::System::Simple not installed
t/truncate.t ..................... ok
t/unlink.t ....................... ok
t/user-context.t ................. ok
t/usersub.t ...................... ok
t/utf8_open.t .................... ok
t/utime.t ........................ ok
t/version.t ...................... skipped: Release test. Set $ENV{RELEASE_TESTING} to true to run.
t/version_tag.t .................. ok
All tests successful.
Files=66, Tests=495, 10 wallclock secs ( 0.29 usr 0.23 sys + 5.72 cusr 2.49 csys = 8.73 CPU)
Result: PASS
------------------------------
PREREQUISITES
------------------------------
Prerequisite modules loaded:
requires:
Module Need Have
----------------------- -------- --------
B 0 1.48
Carp 0 1.3301
constant 0 1.31
Exporter 5.57 5.71
Fcntl 0 1.11
overload 0 1.22
parent 0 0.228
perl 5.008004 5.020003
POSIX 0 1.38_03
Scalar::Util 0 1.38
strict 0 1.08
Tie::RefHash 0 1.39
warnings 0 1.23
build_requires:
Module Need Have
----------------------- -------- --------
ExtUtils::MakeMaker 0 6.98_01
File::Copy 0 2.30
File::Spec 0 3.48_03
File::Temp 0 0.2304
FindBin 0 1.51
if 0 0.0603
IO::Handle 0 1.35_01
lib 0 0.63
Socket 0 2.013
Test::More 0 1.302067
configure_requires:
Module Need Have
----------------------- -------- --------
ExtUtils::MakeMaker 0 6.98_01
opt_requires:
Module Need Have
----------------------- -------- --------
! IPC::System::Simple 0.12 n/a
perl 5.010 5.020003
! Sub::Identify 0 n/a
opt_build_requires:
Module Need Have
----------------------- -------- --------
! BSD::Resource 0 n/a
! Import::Into 1.002004 n/a
perl 5.010 5.020003
! Pod::Coverage::TrustPod 0 n/a
! Test::Kwalitee 0 n/a
! Test::Perl::Critic 0 n/a
------------------------------
ENVIRONMENT AND OTHER CONTEXT
------------------------------
Environment variables:
AUTOMATED_TESTING = 1
PATH = /home/mb-blead/bin:/bin:/sbin:/usr/bin:/usr/sbin:/usr/X11R6/bin:/usr/local/bin:/usr/local/sbin:/usr/games:.
PERL5LIB = /home/mb-blead/.cpan/build/File-Share-0.25-VcrI57/blib/arch:/home/mb-blead/.cpan/build/File-Share-0.25-VcrI57/blib/lib:/home/mb-blead/.cpan/build/File-ShareDir-1.102-UKQumU/blib/arch:/home/mb-blead/.cpan/build/File-ShareDir-1.102-UKQumU/blib/lib:/home/mb-blead/.cpan/build/Class-Inspector-1.31-zQn_VH/blib/arch:/home/mb-blead/.cpan/build/Class-Inspector-1.31-zQn_VH/blib/lib:/home/mb-blead/.cpan/build/File-ShareDir-Install-0.11-IDoQ0O/blib/arch:/home/mb-blead/.cpan/build/File-ShareDir-Install-0.11-IDoQ0O/blib/lib:/home/mb-blead/.cpan/build/Module-Build-Tiny-0.039-Tpdifg/blib/arch:/home/mb-blead/.cpan/build/Module-Build-Tiny-0.039-Tpdifg/blib/lib:/home/mb-blead/.cpan/build/ExtUtils-Helpers-0.026-4ctLMr/blib/arch:/home/mb-blead/.cpan/build/ExtUtils-Helpers-0.026-4ctLMr/blib/lib:/home/mb-blead/.cpan/build/ExtUtils-InstallPaths-0.011-oOmmwb/blib/arch:/home/mb-blead/.cpan/build/ExtUtils-InstallPaths-0.011-oOmmwb/blib/lib:/home/mb-blead/.cpan/build/ExtUtils-Config-0.008-WF0N4_/blib/arch:/home/mb-blead/.cpan/build/ExtUtils-Config-0.008-WF0N4_/blib/lib:/home/mb-blead/blead/lib/perl5
PERL5OPT =
PERL5_CPANPLUS_IS_RUNNING = 48976
PERL5_CPAN_IS_RUNNING = 48976
PERL5_CPAN_IS_RUNNING_IN_RECURSION = 65169,48976
PERL_CR_SMOKER_CURRENT = BankAccount-Validator-UK-0.27
PERL_EXTUTILS_AUTOINSTALL = --defaultdeps
PERL_LOCAL_LIB_ROOT = /home/mb-blead/blead/
PERL_MB_OPT = --install_base "home/mb-blead/blead/"
PERL_MM_OPT = INSTALL_BASE=/home/mb-blead/blead/
PERL_MM_USE_DEFAULT = 1
SHELL = /usr/local/bin/bash
TERM = screen
Perl special variables (and OS-specific diagnostics, for MSWin32):
$^X = /usr/bin/perl
$UID/$EUID = 1001 / 1001
$GID = 1001 1001
$EGID = 1001 1001
Perl module toolchain versions installed:
Module Have
------------------- --------
CPAN 2.05_01
CPAN::Meta 2.150010
Cwd 3.48_03
ExtUtils::CBuilder 0.280217
ExtUtils::Command 1.18_01
ExtUtils::Install 1.67
ExtUtils::MakeMaker 6.98_01
ExtUtils::Manifest 1.63
ExtUtils::ParseXS 3.24_01
File::Spec 3.48_03
JSON n/a
JSON::PP 2.27400
Module::Build 0.4220
Module::Signature n/a
Parse::CPAN::Meta 2.150010
Test::Harness 3.30_01
Test::More 1.302067
YAML 1.20
YAML::Syck 1.29
version 0.9909
--
Summary of my perl5 (revision 5 version 20 subversion 3) configuration:
Platform:
osname=openbsd, osvers=6.0, archname=amd64-openbsd
uname='openbsd'
config_args='-dsE -Dopenbsd_distribution=defined -Dccflags=-DNO_LOCALE_NUMERIC -DNO_LOCALE_COLLATE -Dmksymlinks'
hint=recommended, useposix=true, d_sigaction=define
useithreads=undef, usemultiplicity=undef
use64bitint=define, use64bitall=define, uselongdouble=undef
usemymalloc=n, bincompat5005=undef
Compiler:
cc='cc', ccflags ='-DNO_LOCALE_NUMERIC -DNO_LOCALE_COLLATE -fno-strict-aliasing -fno-delete-null-pointer-checks -pipe -fstack-protector -I/usr/local/include',
optimize='-O2',
cppflags='-DNO_LOCALE_NUMERIC -DNO_LOCALE_COLLATE -fno-strict-aliasing -fno-delete-null-pointer-checks -pipe -fstack-protector -I/usr/local/include'
ccversion='', gccversion='4.2.1 20070719 ', gccosandvers='openbsd6.0'
intsize=4, longsize=8, ptrsize=8, doublesize=8, byteorder=12345678
d_longlong=define, longlongsize=8, d_longdbl=define, longdblsize=16
ivtype='long', ivsize=8, nvtype='double', nvsize=8, Off_t='off_t', lseeksize=8
alignbytes=8, prototype=define
Linker and Libraries:
ld='cc', ldflags ='-Wl,-E -fstack-protector -L/usr/local/lib'
libpth=/usr/lib /usr/lib
libs=-lpthread -lm -lc
perllibs=-lpthread -lm -lc
libc=/usr/lib/libc.a, so=so, useshrplib=true, libperl=libperl.so.17.1
gnulibc_version=''
Dynamic Linking:
dlsrc=dl_dlopen.xs, dlext=so, d_dlsymun=undef, ccdlflags='-Wl,-R/usr/libdata/perl5/amd64-openbsd/5.20.3/CORE'
cccdlflags='-DPIC -fPIC ', lddlflags='-shared -fPIC -fstack-protector -L/usr/local/lib'
Characteristics of this binary (from libperl):
Compile-time options: HAS_TIMES PERLIO_LAYERS PERL_DONT_CREATE_GVSV
PERL_HASH_FUNC_ONE_AT_A_TIME_HARD PERL_MALLOC_WRAP
PERL_NEW_COPY_ON_WRITE PERL_PRESERVE_IVUV
USE_64_BIT_ALL USE_64_BIT_INT USE_LARGE_FILES
USE_LOCALE USE_LOCALE_CTYPE USE_PERLIO USE_PERL_ATOF
Built under openbsd
%ENV:
PERL5LIB="/home/mb-blead/.cpan/build/File-Share-0.25-VcrI57/blib/arch:/home/mb-blead/.cpan/build/File-Share-0.25-VcrI57/blib/lib:/home/mb-blead/.cpan/build/File-ShareDir-1.102-UKQumU/blib/arch:/home/mb-blead/.cpan/build/File-ShareDir-1.102-UKQumU/blib/lib:/home/mb-blead/.cpan/build/Class-Inspector-1.31-zQn_VH/blib/arch:/home/mb-blead/.cpan/build/Class-Inspector-1.31-zQn_VH/blib/lib:/home/mb-blead/.cpan/build/File-ShareDir-Install-0.11-IDoQ0O/blib/arch:/home/mb-blead/.cpan/build/File-ShareDir-Install-0.11-IDoQ0O/blib/lib:/home/mb-blead/.cpan/build/Module-Build-Tiny-0.039-Tpdifg/blib/arch:/home/mb-blead/.cpan/build/Module-Build-Tiny-0.039-Tpdifg/blib/lib:/home/mb-blead/.cpan/build/ExtUtils-Helpers-0.026-4ctLMr/blib/arch:/home/mb-blead/.cpan/build/ExtUtils-Helpers-0.026-4ctLMr/blib/lib:/home/mb-blead/.cpan/build/ExtUtils-InstallPaths-0.011-oOmmwb/blib/arch:/home/mb-blead/.cpan/build/ExtUtils-InstallPaths-0.011-oOmmwb/blib/lib:/home/mb-blead/.cpan/build/ExtUtils-Config-0.008-WF0N4_/blib/arch:/home/mb-blead/.cpan/build/ExtUtils-Config-0.008-WF0N4_/blib/lib:/home/mb-blead/blead/lib/perl5"
PERL5OPT=""
PERL5_CPANPLUS_IS_RUNNING="48976"
PERL5_CPAN_IS_RUNNING="48976"
PERL5_CPAN_IS_RUNNING_IN_RECURSION="65169,48976"
PERL_CR_SMOKER_CURRENT="BankAccount-Validator-UK-0.27"
PERL_EXTUTILS_AUTOINSTALL="--defaultdeps"
PERL_LOCAL_LIB_ROOT="/home/mb-blead/blead/"
PERL_MB_OPT="--install_base "home/mb-blead/blead/""
PERL_MM_OPT="INSTALL_BASE=/home/mb-blead/blead/"
PERL_MM_USE_DEFAULT="1"
@INC:
/home/mb-blead/.cpan/build/File-Share-0.25-VcrI57/blib/arch
/home/mb-blead/.cpan/build/File-Share-0.25-VcrI57/blib/lib
/home/mb-blead/.cpan/build/File-ShareDir-1.102-UKQumU/blib/arch
/home/mb-blead/.cpan/build/File-ShareDir-1.102-UKQumU/blib/lib
/home/mb-blead/.cpan/build/Class-Inspector-1.31-zQn_VH/blib/arch
/home/mb-blead/.cpan/build/Class-Inspector-1.31-zQn_VH/blib/lib
/home/mb-blead/.cpan/build/File-ShareDir-Install-0.11-IDoQ0O/blib/arch
/home/mb-blead/.cpan/build/File-ShareDir-Install-0.11-IDoQ0O/blib/lib
/home/mb-blead/.cpan/build/Module-Build-Tiny-0.039-Tpdifg/blib/arch
/home/mb-blead/.cpan/build/Module-Build-Tiny-0.039-Tpdifg/blib/lib
/home/mb-blead/.cpan/build/ExtUtils-Helpers-0.026-4ctLMr/blib/arch
/home/mb-blead/.cpan/build/ExtUtils-Helpers-0.026-4ctLMr/blib/lib
/home/mb-blead/.cpan/build/ExtUtils-InstallPaths-0.011-oOmmwb/blib/arch
/home/mb-blead/.cpan/build/ExtUtils-InstallPaths-0.011-oOmmwb/blib/lib
/home/mb-blead/.cpan/build/ExtUtils-Config-0.008-WF0N4_/blib/arch
/home/mb-blead/.cpan/build/ExtUtils-Config-0.008-WF0N4_/blib/lib
/home/mb-blead/blead/lib/perl5/amd64-openbsd
/home/mb-blead/blead/lib/perl5
/usr/local/libdata/perl5/site_perl/amd64-openbsd
/usr/libdata/perl5/site_perl/amd64-openbsd
/usr/local/libdata/perl5/site_perl
/usr/libdata/perl5/site_perl
/usr/libdata/perl5/amd64-openbsd/5.20.3
/usr/local/libdata/perl5/amd64-openbsd/5.20.3
/usr/libdata/perl5
/usr/local/libdata/perl5
.